{"text_format":"1","workbook":"xlsx","n_sheets":16,"sheets":["はじめに","申込書","記入例（申込書）","別紙１各系統（太陽光）","別紙２発電設備詳細（太陽光）・その他","別紙２発電設備詳細（太陽光）","別紙３発電設備詳細（蓄電池）・その他","別紙３発電設備詳細（太陽光以外）・その他","別紙　発電設備詳細・その他","中部電力パワーグリッド使用帳票⇒","アンシラお知らせ","別紙（太陽光）","別紙（混在）","別紙（太陽光以外）","取り決め","連絡体制"],"not_rendered":{"charts":0,"images":0,"macros":1,"external_links":4,"defined_names":382,"comments":10,"pivot_tables":0},"unopened":[],"bounds":{"document_bytes":16777216,"sheet_cells":100000,"rows_first":2000,"rows_last":500,"rows_between":2000,"halvings":0,"cell_chars":16384,"cell_head_chars":4096},"cells_cut":0,"cells_raw":0,"read":"whole","date_system":"1900"}

{"sheet":"はじめに","index":0,"n_rows":39,"n_cols":8,"rows_kept":39,"cut":false,"hidden":false,"merged":[[2,1,2,9],[10,1,10,9],[12,7,12,9],[13,2,15,6],[22,2,24,6],[19,2,21,6],[16,2,18,6],[13,1,15,1],[16,1,18,1],[19,1,21,1],[22,1,24,1],[12,1,12,6],[35,1,37,1],[38,1,40,1],[28,1,28,6],[28,7,28,9],[29,2,31,6],[32,2,34,6],[35,2,37,6],[38,2,40,6],[29,1,31,1],[32,1,34,1]]}
[]
[null,"はじめに"]
[null,"　系統連系契約のお申込みにあたり、申込内容に応じて、以下のボタンをクリックしていただき、\n申込書および別紙へ必要事項をご入力ください。"]
[]
[null,"１．当社以外の買取事業者へ売電する発電設備を設置する場合"]
[null,"　　「ボタン」クリックしていただき、申込書へご入力ください。"]
[]
[]
[]
[null,"２．構内で自家消費（売電なし）する発電設備を設置する場合"]
[null,"　　申込対象の発電設備に応じて、以下のボタンをクリックしていただき、申込書および別紙へ\n　必要事項をご入力ください。"]
[]
[null,"申込内容",null,null,null,null,null,"ボタン"]
[null,"①"," 太陽光発電設備を単独設置する場合"]
[]
[]
[null,"②"," 太陽光発電設備と蓄電池を併設する場合"]
[]
[]
[null,"③"," 太陽光発電設備と蓄電池以外（燃料電池、コジェネ等）の\n発電設備を併設する場合"]
[]
[]
[null,"④","上記以外の場合\n（燃料電池、コジェネ等を単独設置する場合） "]
[]
[]
[]
[]
[null,"中部電力パワーグリッド使用欄（使用帳票の表示）"]
[null,"申込内容",null,null,null,null,null,"ボタン"]
[null,"①"," 太陽光発電設備を単独設置する場合"]
[]
[]
[null,"②"," 太陽光発電設備と蓄電池を併設する場合"]
[]
[]
[null,"③"," 太陽光発電設備と蓄電池以外（燃料電池、コジェネ等）の\n発電設備を併設する場合"]
[]
[]
[null,"④","上記以外の場合\n（燃料電池、コジェネ等を単独設置する場合） "]

{"sheet":"申込書","index":1,"n_rows":47,"n_cols":32,"rows_kept":47,"cut":false,"hidden":true,"merged":[[32,1,32,5],[32,6,32,7],[32,21,32,24],[14,20,14,25],[14,17,14,19],[14,7,14,16],[1,17,1,20],[7,2,8,6],[13,2,13,6],[13,8,13,10],[13,11,13,25],[14,2,14,6],[9,2,9,6],[9,7,9,25],[10,7,10,25],[10,2,10,6],[15,24,15,25],[20,15,20,25],[19,22,19,25],[20,6,20,7],[20,8,20,12],[19,2,20,5],[25,7,25,25],[26,7,26,25],[42,23,42,25],[42,11,42,13],[35,9,38,11],[35,12,38,14],[41,1,41,2],[41,3,41,8],[41,15,41,16],[41,17,41,20],[39,21,39,23],[39,24,39,26],[33,21,38,23],[41,21,41,22],[41,23,41,26],[33,1,33,8],[33,9,33,14],[33,15,33,20],[42,17,42,20],[42,15,42,16],[35,7,35,8],[39,5,39,8],[39,9,39,11],[39,12,39,14],[39,15,39,17],[39,18,39,20],[41,9,41,10],[41,11,41,14],[43,9,43,10],[43,11,43,14],[43,1,43,4],[43,5,43,8],[39,1,39,4],[44,9,44,14],[42,1,42,4],[42,5,42,8],[42,9,42,10],[43,15,43,17],[43,18,43,20],[44,15,44,17],[44,18,44,20],[33,24,38,26],[34,1,34,4],[34,5,34,8],[34,9,34,10],[34,11,34,14],[34,15,38,17],[34,18,38,20],[35,3,35,4],[35,5,35,6],[38,1,38,4],[38,5,38,8],[37,1,37,4],[37,5,37,8],[35,1,36,2],[42,21,42,22],[43,21,43,22],[43,23,43,26],[44,21,44,26],[44,1,44,4],[44,5,44,8],[23,6,23,25],[0,14,0,25],[1,14,1,16],[3,2,3,25],[4,2,4,25],[6,2,6,6],[7,7,8,25],[15,2,15,6],[15,7,15,9],[15,11,15,12],[15,14,15,15],[15,17,15,20],[15,21,15,23],[5,2,5,6],[6,7,6,9],[6,11,6,12],[6,14,6,15],[12,6,12,10],[24,7,24,25],[19,15,19,19],[19,20,19,21],[20,13,20,14],[22,13,22,14],[22,15,22,25],[46,14,46,15],[46,17,46,18],[46,20,46,21],[46,8,46,13],[28,2,28,25],[21,2,22,5],[21,6,21,7],[21,8,21,12],[21,13,21,14],[21,15,21,19],[21,20,21,21],[21,22,21,25],[22,6,22,7],[22,8,22,12],[23,2,26,5],[19,6,19,7],[19,8,19,12],[19,13,19,14]]}
[null,null,null,null,null,null,null,null,null,null,null,null,null,null,"中部電力パワーグリッド株式会社　使用欄"]
[null,null,null,null,null,null,null,null,null,null,null,null,null,null,"受付日",null,null,null,null,null,null,"年",null,"月",null,"日"]
[null,null,"中部電力パワーグリッド株式会社　宛"]
[null,null,"発電設備系統連系サービス申込書"]
[null,null,"　このたび御社の発電設備系統連系サービス要綱を承認し、以下のとおり、発電設備系統連系サービスの申込みをいたします。"]
[null,null,"（ご契約者さま）"]
[null,null,"　申込日　",null,null,null,null,null,null,null,"年",null,null,"月",null,null,"日"]
[null,null,"ご　住　所"]
[null,null,null,null,null,null,null,null,null,null,null,null,null,null,null,null,null,null,null,null,null,null,null,null,null,null,null,null,null,"新規","変更"]
[null,null,"契約者名",null,null,null,null,null,null,null,null,null,null,null,null,null,null,null,null,null,null,null,null,null,null,null,null,null,null,false,false]
[null,null,"代表者名"]
[null,null,"申込内容"]
[null,null,"【 　 新規・　　　 変更（　　　　　　",null,null,null,null,null,null,null,null,"　）】","※いずれかに✔し、「変更」の場合は変更後の内容を記載ください。"]
[null,null,"発電設備設置場所",null,null,null,null,"〒"]
[null,null,"発電所名（事業所名）",null,null,null,null,null,null,null,null,null,null,null,null,null,null,"ＴＥＬ"]
[null,null,"連系開始希望日",null,null,null,null,null,null,null,"年",null,null,"月",null,null,"日","連系電圧",null,null,null,6.6,null,null,"ｋＶ"]
[null,null,"連系する発電設備"]
[null,null,"別紙または接続検討申込書のとおり。"]
[null,null,"連絡体制"]
[null,null,"主任技術者",null,null,null,"部署",null,null,null,null,null,null,"氏名",null,null,null,null,null,null,"電話"]
[null,null,null,null,null,null,"ＦＡＸ",null,null,null,null,null,null,"E-mail"]
[null,null,"連　絡　者",null,null,null,"部署",null,null,null,null,null,null,"氏名",null,null,null,null,null,null,"電話"]
[null,null,null,null,null,null,"ＦＡＸ",null,null,null,null,null,null,"E-mail"]
[null,null,"方　式",null,null,null,"以下のうち，該当するものを選択してください。",null,null,null,null,null,null,null,null,null,null,null,null,null,null,null,null,null,null,null,null,null,null,1,2,3]
[null,null,null,null,null,null,"　","専用保安通信用電話設備",null,null,null,null,null,null,null,null,null,null,null,null,null,null,null,null,null,null,null,null,null,false,false,false]
[null,null,null,null,null,null,"　","第一種電気通信事業者の専用回線電話"]
[null,null,null,null,null,null,"　","次の条件をすべて満たす場合の一般加入電話または携帯電話等\n　ア　接続者側の交換機を介さず直接技術員との通話が可能な方式（交換機を介する代表番号方式ではなく，直接技術員所在箇所 \n      へつながる単番方式）であること\n　イ　話中の場合に割込みが可能な方式（キャッチホン等）であること\n　ウ　停電時においても通話可能なものであること\n　エ　災害時等において当社と連絡が取れない場合，当社と連絡が取れるまでの間，発電設備を系統から解列または発電設備の運\n      転を停止するよう，保安規程に明記すること"]
[null,null,null,null,null,null,null,null,null,null,null,null,null,null,null,null,null,null,null,null,null,null,null,null,null,null,null,false]
[null,null,"【個人情報の利用目的】\n　当社は、当社が取得・保有する個人情報について、次の事業において、契約の媒介・締結・履行、資産・設備等の形成・保全、関連するアフターサービス、商品・サービスの改善・開発、商品・サービスに関するダイレクトメール・電話・訪問等によるご案内、アンケートの実施、その他これらに付随する業務を行うために必要な範囲内において利用させていただきます。\n　なお、利用目的が法令等に基づき限定されている個人情報は、法令等で認められた場合を除き、法令等に基づき限定されている目的以外では利用いたしません。\n\n１　電気事業\n２　エネルギー関連の機械器具および設備の製造、販売、賃貸、修理、運転および保守\n３　電気通信事業法に定める電気通信事業\n４　各種情報の収集、分析、処理、加工、提供および販売に関する事業、放送事業ならびに広告事業\n５　データプラットフォーム事業\n６　コミュニティサポートインフラ事業\n７　不動産の売買、賃貸および管理\n８　土木建築工事その他建設工事全般に関する企画、設計、監理、施工およびマネジメント\n９　エネルギー利用、環境および前各号に関する調査、エンジニアリングおよびコンサルティング\n１０　法人および個人向け各種支援サービスの提供および斡旋\n１１　前各事業に附帯関連する事業"]
[]
[]
[null,null,"中部電力パワーグリッド株式会社　使用欄"]
[null,"供給地点特定番号",null,null,null,null,"0 4 1",null,null,null,null,null,null,null,null,null,null,null,null,null,null,"0 0 0 0 0 0"]
[null,"系統連系契約",null,null,null,null,null,null,null,"ご契約内容のお知らせ",null,null,null,null,null,"異動確定",null,null,null,null,null,"単線図反映\n連絡体制回付",null,null,"完結"]
[null,"連系開始予定日",null,null,null,"年　　月　　日",null,null,null,"承認日",null,"年　　月　　日",null,null,null,"副長\n（確定登録）",null,null,"担当\n（確定登録待ち）"]
[null,"契約\n容量",null,"既",null,"増・減",null,"新",null,"副長",null,null,"担当"]
[null,null,null,null,"kW",{"$f":"IF(H37-D37<0,D37-H37,H37-D37)","v":0},"kW",null,"kW"]
[null,"承認日",null,null,null,"年　　月　　日"]
[null,"Ｇ長",null,null,null,"担当"]
[]
[null,"No.1",null,null,null,null,null,null,null,null,null,null,null,null,null,"No.2"]
[null,"変更内容",null,null,null,null,null,null,null,"申出日",null,"年　　月　　日",null,null,null,"変更内容",null,null,null,null,null,"申出日",null,"年　　月　　日"]
[null,"承認日",null,null,null,"年　　月　　日",null,null,null,"連絡者",null,null,null,null,"さま","承認日",null,"年　　月　　日",null,null,null,"連絡者",null,null,null,null,"さま"]
[null,"Ｇ長",null,null,null,"担当",null,null,null,"予定日",null,"年　　月　　日",null,null,null,"Ｇ長",null,null,"担当",null,null,"予定日",null,"年　　月　　日"]
[]
[]
[null,null,null,null,null,null,null,null,"連系サービス開始日",null,null,null,null,null,null,null,"年",null,null,"月",null,null,"日"]

{"sheet":"記入例（申込書）","index":2,"n_rows":61,"n_cols":36,"rows_kept":61,"cut":false,"hidden":true,"merged":[[23,2,26,5],[23,6,23,25],[24,7,24,25],[25,7,25,25],[26,7,26,25],[19,2,20,5],[19,6,19,7],[19,8,19,12],[19,13,19,14],[19,15,19,19],[14,7,14,16],[14,17,14,19],[14,20,14,25],[15,24,15,25],[15,2,15,6],[15,7,15,9],[15,11,15,12],[15,14,15,15],[15,17,15,20],[15,21,15,23],[9,2,9,6],[9,7,9,25],[10,2,10,6],[10,7,10,25],[13,8,13,10],[13,11,13,25],[22,13,22,14],[22,15,22,25],[0,14,0,25],[1,14,1,16],[3,2,3,25],[4,2,4,25],[6,2,6,6],[6,7,6,9],[6,11,6,12],[6,14,6,15],[1,17,1,20],[5,2,5,6],[7,2,8,6],[7,7,8,25],[13,2,13,6],[14,2,14,6],[28,2,28,25],[19,20,19,21],[19,22,19,25],[20,6,20,7],[20,8,20,12],[20,13,20,14],[20,15,20,25],[21,2,22,5],[21,6,21,7],[21,8,21,12],[21,13,21,14],[21,15,21,19],[21,20,21,21],[21,22,21,25],[22,6,22,7],[22,8,22,12]]}
[null,null,null,null,null,null,null,null,null,null,null,null,null,null,"中部電力パワーグリッド株式会社　使用欄"]
[null,null,null,null,null,null,null,null,null,null,null,null,null,null,"受付日",null,null,null,null,null,null,"年",null,"月",null,"日"]
[null,null,"中部電力パワーグリッド株式会社　宛"]
[null,null,"発電設備系統連系サービス申込書"]
[null,null,"　このたび御社の発電設備系統連系サービス要綱を承認し、以下のとおり、発電設備系統連系サービスの申込みをいたします。"]
[null,null,"（ご契約者さま）"]
[null,null,"　申込日　",null,null,null,null,"２０××",null,null,"年",2,null,"月",27,null,"日"]
[null,null,"ご　住　所",null,null,null,null,"●●県●●市●●１２３番地"]
[]
[null,null,"契約者名",null,null,null,null,"株式会社●●●●",null,null,null,null,null,null,null,null,null,null,null,null,null,null,null,null,null,null,null,null,null,true]
[null,null,"代表者名",null,null,null,null,"代表取締役　●●　●●"]
[null,null,"申込内容",null,null,null,null,null,null,null,null,null,null,null,null,null,null,null,null,null,null,null,null,null,null,null,null,null,null,null,"新規","変更"]
[null,null,"【 　 新規・　 変更（　　　　　　　）】",null,null,null,null,null,null,null,null,null,"※いずれかに✔し、「変更」の場合は変更後の内容を記載ください。",null,null,null,null,null,null,null,null,null,null,null,null,null,null,null,null,null,true,false]
[null,null,"発電設備設置場所",null,null,null,null,"〒","123-4567",null,null,"●●県●●市●●１２３番地"]
[null,null,"発電所名（事業所名）",null,null,null,null,"●●●●工場",null,null,null,null,null,null,null,null,null,"ＴＥＬ",null,null,"123-456-7890"]
[null,null,"連系開始希望日",null,null,null,null,"２０××",null,null,"年",10,null,"月",31,null,"日","連系電圧",null,null,null,6.6,null,null,"ｋＶ"]
[null,null,"連系する発電設備"]
[null,null,"別紙または接続検討申込書のとおり。"]
[null,null,"連絡体制"]
[null,null,"主任技術者",null,null,null,"部署",null,"●●部",null,null,null,null,"氏名",null,"●●　●●",null,null,null,null,"電話",null,"123-456-7890"]
[null,null,null,null,null,null,"ＦＡＸ",null,"●●●-●●●-●●●●",null,null,null,null,"E-mail",null,"*********@chuden.co.jp"]
[null,null,"連　絡　者",null,null,null,"部署",null,"●●部",null,null,null,null,"氏名",null,"●●　●●",null,null,null,null,"電話",null,"123-456-7890"]
[null,null,null,null,null,null,"ＦＡＸ",null,"●●●-●●●-●●●●",null,null,null,null,"E-mail",null,"*********@chuden.co.jp"]
[null,null,"方　式",null,null,null,"以下のうち，該当するものを選択してください。"]
[null,null,null,null,null,null,"　","専用保安通信用電話設備",null,null,null,null,null,null,null,null,null,null,null,null,null,null,null,null,null,null,null,null,null,true]
[null,null,null,null,null,null,"　","第一種電気通信事業者の専用回線電話"]
[null,null,null,null,null,null,"　","次の条件をすべて満たす場合の一般加入電話または携帯電話等\n　ア　接続者側の交換機を介さず直接技術員との通話が可能な方式（交換機を介する代表番号方式ではなく，直接技術員所在箇所 \n      へつながる単番方式）であること\n　イ　話中の場合に割込みが可能な方式（キャッチホン等）であること\n　ウ　停電時においても通話可能なものであること\n　エ　災害時等において当社と連絡が取れない場合，当社と連絡が取れるまでの間，発電設備を系　　\n　　　統から解列または発電設備の運\n      転を停止するよう，保安規程に明記すること"]
[]
[null,null,"【個人情報の利用目的】\n　当社は、当社が取得・保有する個人情報について、次の事業において、契約の媒介・締結・履行、資産・設備等の形成・保全、関連するアフターサービス、商品・サービスの改善・開発、商品・サービスに関するダイレクトメール・電話・訪問等によるご案内、アンケートの実施、その他これらに付随する業務を行うために必要な範囲内において利用させていただきます。\n　なお、利用目的が法令等に基づき限定されている個人情報は、法令等で認められた場合を除き、法令等に基づき限定されている目的以外では利用いたしません。\n\n１　電気事業\n２　エネルギー関連の機械器具および設備の製造、販売、賃貸、修理、運転および保守\n３　電気通信事業法に定める電気通信事業\n４　各種情報の収集、分析、処理、加工、提供および販売に関する事業、放送事業ならびに広告事業\n５　データプラットフォーム事業\n６　コミュニティサポートインフラ事業\n７　不動産の売買、賃貸および管理\n８　土木建築工事その他建設工事全般に関する企画、設計、監理、施工およびマネジメント\n９　エネルギー利用、環境および前各号に関する調査、エンジニアリングおよびコンサルティング\n１０　法人および個人向け各種支援サービスの提供および斡旋\n１１　前各事業に附帯関連する事業"]
[]
[]
[]
[]
[]
[]
[]
[]
[]
[]
[]
[]
[]
[]
[]
[]
[]
[]
[]
[]
[]
[]
[null,null,null,null,null,null,null,null,null,null,null,null,null,null,null,null,null,null,null,null,null,null,null,null,null,null,null,null,null,null,1,2,3]
[null,null,null,null,null,null,null,null,null,null,null,null,null,null,null,null,null,null,null,null,null,null,null,null,null,null,null,null,null,null,false,false,false]
[]
[]
[null,null,null,null,null,null,null,null,null,null,null,null,null,null,null,null,null,null,null,null,null,null,null,null,null,null,null,null,null,null,1]
[null,null,null,null,null,null,null,null,null,null,null,null,null,null,null,null,null,null,null,null,null,null,null,null,null,null,null,null,null,null,true]
[]
[]
[null,null,null,null,null,null,null,null,null,null,null,null,null,null,null,null,null,null,null,null,null,null,null,null,null,null,null,null,null,null,1,2,3,4,5,6]
[null,null,null,null,null,null,null,null,null,null,null,null,null,null,null,null,null,null,null,null,null,null,null,null,null,null,null,null,null,null,true,true,false,true,false,true]

{"sheet":"別紙１各系統（太陽光）","index":3,"n_rows":132,"n_cols":26,"rows_kept":132,"cut":false,"hidden":true,"merged":[[2,2,4,2],[131,7,131,8],[126,7,126,8],[127,7,127,8],[128,7,128,8],[129,7,129,8],[130,7,130,8],[121,7,121,8],[122,7,122,8],[123,7,123,8],[124,7,124,8],[125,7,125,8],[116,7,116,8],[117,7,117,8],[118,7,118,8],[119,7,119,8],[120,7,120,8],[3,14,4,14],[2,3,2,9],[2,10,2,14],[3,3,4,3],[3,4,4,4],[3,10,4,10],[3,11,4,11],[3,13,4,13]]}
[null,"1.各系統に関する情報",null,null,"※黄色の箇所をご入力ください。その他は自動反映されます。",null,null,null,null,null,null,null,null,null,"発電出力",{"$f":"ROUND(SUM(P6:P95),0)","v":0},"kW"]
[null,"　太陽光発電設備のPCSおよび太陽光パネルの情報についてご入力ください。"]
[null,null,"設備\n区分","パワーコンディショナー（ＰＣＳ）※",null,null,null,null,null,null,"太陽電池（パネル）",null,null,null,null,"①②小なる値","①②小なる値"]
[null,null,null,"メーカー","型式","定格容量","定格出力 ①","皮相電力","力率","有効電力","メーカー","型式","定格出力","枚数","出力計 ②","（力率反映前）","（力率反映後）"]
[null,null,null,null,null,"［kVA］","[kW]","［kVA］","［％］","［kW］",null,null,"［kW］",null,null,"[kW]","［kW］",null,null,null,null,"付番","型式（新規、取替）","No.","空欄詰める","型式重複削除"]
[null,"系統１",null,null,null,null,null,null,null,null,null,null,null,null,{"$f":"IF(M6=\"\",\"\",M6*N6)","v":""},{"$f":"IF(G6>=O6,O6,G6)","v":""},{"$f":"IF(M6=\"\",\"\",IF(J6<=O6,J6,O6))","v":""},null,"新規",null,{"$f":"IF(C6=\"既設\",\"なし\",IF(E6=\"\",\"なし\",1/COUNTIF($W$6:$W$20,W6)))","v":"なし"},{"$f":"IF(W6<>\"\",1,\"\")","v":""},{"$f":"IF(E6=\"\",\"\",IF(OR(C6=\"既設\",C6=\"\"),\"\",E6))","v":""},1,{"$f":"IFERROR(VLOOKUP(X6,$V$6:$W$20,2,FALSE),\"\")","v":""},{"$f":"Y6","v":""}]
[null,"系統２",null,null,null,null,null,null,null,null,null,null,null,null,{"$f":"IF(M7=\"\",\"\",M7*N7)","v":""},"",{"$f":"IF(M7=\"\",\"\",IF(J7<=O7,J7,O7))","v":""},null,"既設",null,{"$f":"IF(C7=\"既設\",\"なし\",IF(E7=\"\",\"なし\",1/COUNTIF($W$6:$W$20,W7)))","v":"なし"},{"$f":"IF(W7<>\"\",MAX(V$6:V6)+1,\"\")","v":""},{"$f":"IF(E7=\"\",\"\",IF(OR(C7=\"既設\",C7=\"\"),\"\",E7))","v":""},2,{"$f":"IFERROR(VLOOKUP(X7,$V$6:$W$20,2,FALSE),\"\")","v":""},{"$f":"_xlfn.IFNA(INDEX($Y$6:$Y$20,MATCH(0,COUNTIF($Z$6:Z6,$Y$6:$Y$20),0)),\"\")","v":""}]
[null,"系統３",null,null,null,null,null,null,null,null,null,null,null,null,{"$f":"IF(M8=\"\",\"\",M8*N8)","v":""},"","",null,"取替",null,{"$f":"IF(C8=\"既設\",\"なし\",IF(E8=\"\",\"なし\",1/COUNTIF($W$6:$W$20,W8)))","v":"なし"},{"$f":"IF(W8<>\"\",MAX(V$6:V7)+1,\"\")","v":""},"",3,{"$f":"IFERROR(VLOOKUP(X8,$V$6:$W$20,2,FALSE),\"\")","v":""},{"$f":"_xlfn.IFNA(INDEX($Y$6:$Y$20,MATCH(0,COUNTIF($Z$6:Z7,$Y$6:$Y$20),0)),\"\")","v":""}]
[null,"系統４",null,null,null,null,null,null,null,null,null,null,null,null,"","","",null,null,null,{"$f":"IF(C9=\"既設\",\"なし\",IF(E9=\"\",\"なし\",1/COUNTIF($W$6:$W$20,W9)))","v":"なし"},{"$f":"IF(W9<>\"\",MAX(V$6:V8)+1,\"\")","v":""},"",4,"",{"$f":"_xlfn.IFNA(INDEX($Y$6:$Y$20,MATCH(0,COUNTIF($Z$6:Z8,$Y$6:$Y$20),0)),\"\")","v":""}]
[null,"系統５",null,null,null,null,null,null,null,null,null,null,null,null,"","","",null,null,null,{"$f":"IF(C10=\"既設\",\"なし\",IF(E10=\"\",\"なし\",1/COUNTIF($W$6:$W$20,W10)))","v":"なし"},{"$f":"IF(W10<>\"\",MAX(V$6:V9)+1,\"\")","v":""},"",5,"",{"$f":"_xlfn.IFNA(INDEX($Y$6:$Y$20,MATCH(0,COUNTIF($Z$6:Z9,$Y$6:$Y$20),0)),\"\")","v":""}]
[null,"系統６",null,null,null,null,null,null,null,null,null,null,null,null,"","","",null,null,null,{"$f":"IF(C11=\"既設\",\"なし\",IF(E11=\"\",\"なし\",1/COUNTIF($W$6:$W$20,W11)))","v":"なし"},{"$f":"IF(W11<>\"\",MAX(V$6:V10)+1,\"\")","v":""},"",6,"",{"$f":"_xlfn.IFNA(INDEX($Y$6:$Y$20,MATCH(0,COUNTIF($Z$6:Z10,$Y$6:$Y$20),0)),\"\")","v":""}]
[null,"系統７",null,null,null,null,null,null,null,null,null,null,null,null,"","","",null,null,null,{"$f":"IF(C12=\"既設\",\"なし\",IF(E12=\"\",\"なし\",1/COUNTIF($W$6:$W$20,W12)))","v":"なし"},{"$f":"IF(W12<>\"\",MAX(V$6:V11)+1,\"\")","v":""},"",7,"",{"$f":"_xlfn.IFNA(INDEX($Y$6:$Y$20,MATCH(0,COUNTIF($Z$6:Z11,$Y$6:$Y$20),0)),\"\")","v":""}]
[null,"系統８",null,null,null,null,null,null,null,null,null,null,null,null,"","","",null,null,null,{"$f":"IF(C13=\"既設\",\"なし\",IF(E13=\"\",\"なし\",1/COUNTIF($W$6:$W$20,W13)))","v":"なし"},{"$f":"IF(W13<>\"\",MAX(V$6:V12)+1,\"\")","v":""},"",8,"",{"$f":"_xlfn.IFNA(INDEX($Y$6:$Y$20,MATCH(0,COUNTIF($Z$6:Z12,$Y$6:$Y$20),0)),\"\")","v":""}]
[null,"系統９",null,null,null,null,null,null,null,null,null,null,null,null,"","","",null,null,null,{"$f":"IF(C14=\"既設\",\"なし\",IF(E14=\"\",\"なし\",1/COUNTIF($W$6:$W$20,W14)))","v":"なし"},{"$f":"IF(W14<>\"\",MAX(V$6:V13)+1,\"\")","v":""},"",9,"",{"$f":"_xlfn.IFNA(INDEX($Y$6:$Y$20,MATCH(0,COUNTIF($Z$6:Z13,$Y$6:$Y$20),0)),\"\")","v":""}]
[null,"系統１０",null,null,null,null,null,null,null,null,null,null,null,null,"","","",null,null,null,{"$f":"IF(C15=\"既設\",\"なし\",IF(E15=\"\",\"なし\",1/COUNTIF($W$6:$W$20,W15)))","v":"なし"},{"$f":"IF(W15<>\"\",MAX(V$6:V14)+1,\"\")","v":""},"",10,"",{"$f":"_xlfn.IFNA(INDEX($Y$6:$Y$20,MATCH(0,COUNTIF($Z$6:Z14,$Y$6:$Y$20),0)),\"\")","v":""}]
[null,"系統１１",null,null,null,null,null,null,null,null,null,null,null,null,"","","",null,null,null,{"$f":"IF(C16=\"既設\",\"なし\",IF(E16=\"\",\"なし\",1/COUNTIF($W$6:$W$20,W16)))","v":"なし"},{"$f":"IF(W16<>\"\",MAX(V$6:V15)+1,\"\")","v":""},"",11,"",{"$f":"_xlfn.IFNA(INDEX($Y$6:$Y$20,MATCH(0,COUNTIF($Z$6:Z15,$Y$6:$Y$20),0)),\"\")","v":""}]
[null,"系統１２",null,null,null,null,null,null,null,null,null,null,null,null,"","","",null,null,null,{"$f":"IF(C17=\"既設\",\"なし\",IF(E17=\"\",\"なし\",1/COUNTIF($W$6:$W$20,W17)))","v":"なし"},{"$f":"IF(W17<>\"\",MAX(V$6:V16)+1,\"\")","v":""},"",12,"",{"$f":"_xlfn.IFNA(INDEX($Y$6:$Y$20,MATCH(0,COUNTIF($Z$6:Z16,$Y$6:$Y$20),0)),\"\")","v":""}]
[null,"系統１３",null,null,null,null,null,null,null,null,null,null,null,null,"","","",null,null,null,{"$f":"IF(C18=\"既設\",\"なし\",IF(E18=\"\",\"なし\",1/COUNTIF($W$6:$W$20,W18)))","v":"なし"},{"$f":"IF(W18<>\"\",MAX(V$6:V17)+1,\"\")","v":""},"",13,"",{"$f":"_xlfn.IFNA(INDEX($Y$6:$Y$20,MATCH(0,COUNTIF($Z$6:Z17,$Y$6:$Y$20),0)),\"\")","v":""}]
[null,"系統１４",null,null,null,null,null,null,null,null,null,null,null,null,"","","",null,null,null,{"$f":"IF(C19=\"既設\",\"なし\",IF(E19=\"\",\"なし\",1/COUNTIF($W$6:$W$20,W19)))","v":"なし"},{"$f":"IF(W19<>\"\",MAX(V$6:V18)+1,\"\")","v":""},"",14,"",{"$f":"_xlfn.IFNA(INDEX($Y$6:$Y$20,MATCH(0,COUNTIF($Z$6:Z18,$Y$6:$Y$20),0)),\"\")","v":""}]
[null,"系統１５",null,null,null,null,null,null,null,null,null,null,null,null,"","","",null,null,null,{"$f":"IF(C20=\"既設\",\"なし\",IF(E20=\"\",\"なし\",1/COUNTIF($W$6:$W$20,W20)))","v":"なし"},{"$f":"IF(W20<>\"\",MAX(V$6:V19)+1,\"\")","v":""},"",15,"",{"$f":"_xlfn.IFNA(INDEX($Y$6:$Y$20,MATCH(0,COUNTIF($Z$6:Z19,$Y$6:$Y$20),0)),\"\")","v":""}]
[null,"系統１６",null,null,null,null,null,null,null,null,null,null,null,null,{"$f":"M21*N21","v":0},0,"",null,null,null,{"$f":"IF(AND(C21=\"新規\",E21=\"\"),\"なし\",1/COUNTIF($E$6:$E$20,E21))","v":{"$error":"#DIV/0!"}},{"$f":"IF(W21=\"\",\"\",MAX($V$6:V34)+1)","v":""},"",null,{"$f":"COUNTIF(W21:W35,W21)","v":15}]
[null,"系統１７",null,null,null,null,null,null,null,null,null,null,null,null,0,0,"",null,null,null,{"$error":"#DIV/0!"},{"$f":"IF(W22=\"\",\"\",MAX($V$6:V35)+1)","v":""},"",null,15]
[null,"系統１８",null,null,null,null,null,null,null,null,null,null,null,null,0,0,"",null,null,null,{"$error":"#DIV/0!"},{"$f":"IF(W23=\"\",\"\",MAX($V$6:V36)+1)","v":""},"",null,15]
[null,"系統１９",null,null,null,null,null,null,null,null,null,null,null,null,0,0,"",null,null,null,{"$error":"#DIV/0!"},{"$f":"IF(W24=\"\",\"\",MAX($V$6:V37)+1)","v":""},"",null,15]
[null,"系統２０",null,null,null,null,null,null,null,null,null,null,null,null,0,0,"",null,null,null,{"$error":"#DIV/0!"},{"$f":"IF(W25=\"\",\"\",MAX($V$6:V38)+1)","v":""},"",null,15]
[null,"系統２１",null,null,null,null,null,null,null,null,null,null,null,null,0,0,"",null,null,null,{"$error":"#DIV/0!"},{"$f":"IF(W26=\"\",\"\",MAX($V$6:V39)+1)","v":""},"",null,15]
[null,"系統２２",null,null,null,null,null,null,null,null,null,null,null,null,0,0,"",null,null,null,{"$error":"#DIV/0!"},{"$f":"IF(W27=\"\",\"\",MAX($V$6:V40)+1)","v":""},"",null,15]
[null,"系統２３",null,null,null,null,null,null,null,null,null,null,null,null,0,0,"",null,null,null,{"$error":"#DIV/0!"},{"$f":"IF(W28=\"\",\"\",MAX($V$6:V41)+1)","v":""},"",null,15]
[null,"系統２４",null,null,null,null,null,null,null,null,null,null,null,null,0,0,"",null,null,null,{"$error":"#DIV/0!"},{"$f":"IF(W29=\"\",\"\",MAX($V$6:V42)+1)","v":""},"",null,15]
[null,"系統２５",null,null,null,null,null,null,null,null,null,null,null,null,0,0,"",null,null,null,{"$error":"#DIV/0!"},{"$f":"IF(W30=\"\",\"\",MAX($V$6:V43)+1)","v":""},"",null,15]
[null,"系統２６",null,null,null,null,null,null,null,null,null,null,null,null,0,0,"",null,null,null,{"$error":"#DIV/0!"},{"$f":"IF(W31=\"\",\"\",MAX($V$6:V44)+1)","v":""},"",null,15]
[null,"系統２７",null,null,null,null,null,null,null,null,null,null,null,null,0,0,"",null,null,null,{"$error":"#DIV/0!"},{"$f":"IF(W32=\"\",\"\",MAX($V$6:V45)+1)","v":""},"",null,15]
[null,"系統２８",null,null,null,null,null,null,null,null,null,null,null,null,0,0,"",null,null,null,{"$error":"#DIV/0!"},{"$f":"IF(W33=\"\",\"\",MAX($V$6:V46)+1)","v":""},"",null,15]
[null,"系統２９",null,null,null,null,null,null,null,null,null,null,null,null,0,0,"",null,null,null,{"$error":"#DIV/0!"},{"$f":"IF(W34=\"\",\"\",MAX($V$6:V47)+1)","v":""},"",null,15]
[null,"系統３０",null,null,null,null,null,null,null,null,null,null,null,null,0,0,"",null,null,null,{"$error":"#DIV/0!"},{"$f":"IF(W35=\"\",\"\",MAX($V$6:V48)+1)","v":""},"",null,15]
[null,"系統３１",null,null,null,null,null,null,null,null,null,null,null,null,0,0,"",null,null,null,{"$error":"#DIV/0!"},{"$f":"IF(W36=\"\",\"\",MAX($V$6:V49)+1)","v":""},"",null,15]
[null,"系統３２",null,null,null,null,null,null,null,null,null,null,null,null,0,0,"",null,null,null,{"$error":"#DIV/0!"},{"$f":"IF(W37=\"\",\"\",MAX($V$6:V50)+1)","v":""},"",null,15]
[null,"系統３３",null,null,null,null,null,null,null,null,null,null,null,null,0,{"$f":"IF(G38>=O38,O38,G38)","v":0},"",null,null,null,{"$error":"#DIV/0!"},{"$f":"IF(W38=\"\",\"\",MAX($V$6:V51)+1)","v":""},{"$f":"IF(E38=\"\",\"\",IF(OR(C38=\"既設\",C38=\"\"),\"\",E38))","v":""},null,15]
[null,"系統３４",null,null,null,null,null,null,null,null,null,null,null,null,0,0,"",null,null,null,{"$error":"#DIV/0!"},{"$f":"IF(W39=\"\",\"\",MAX($V$6:V52)+1)","v":""},"",null,15]
[null,"系統３５",null,null,null,null,null,null,null,null,null,null,null,null,0,0,"",null,null,null,{"$error":"#DIV/0!"},{"$f":"IF(W40=\"\",\"\",MAX($V$6:V53)+1)","v":""},"",null,15]
[null,"系統３６",null,null,null,null,null,null,null,null,null,null,null,null,0,0,"",null,null,null,{"$error":"#DIV/0!"},{"$f":"IF(W41=\"\",\"\",MAX($V$6:V54)+1)","v":""},"",null,15]
[null,"系統３７",null,null,null,null,null,null,null,null,null,null,null,null,0,0,"",null,null,null,{"$error":"#DIV/0!"},{"$f":"IF(W42=\"\",\"\",MAX($V$6:V55)+1)","v":""},"",null,15]
[null,"系統３８",null,null,null,null,null,null,null,null,null,null,null,null,0,0,"",null,null,null,{"$error":"#DIV/0!"},{"$f":"IF(W43=\"\",\"\",MAX($V$6:V56)+1)","v":""},"",null,15]
[null,"系統３９",null,null,null,null,null,null,null,null,null,null,null,null,0,0,"",null,null,null,{"$error":"#DIV/0!"},{"$f":"IF(W44=\"\",\"\",MAX($V$6:V57)+1)","v":""},"",null,15]
[null,"系統４０",null,null,null,null,null,null,null,null,null,null,null,null,0,0,"",null,null,null,{"$error":"#DIV/0!"},{"$f":"IF(W45=\"\",\"\",MAX($V$6:V58)+1)","v":""},"",null,15]
[null,"系統４１",null,null,null,null,null,null,null,null,null,null,null,null,0,0,"",null,null,null,{"$error":"#DIV/0!"},{"$f":"IF(W46=\"\",\"\",MAX($V$6:V59)+1)","v":""},"",null,15]
[null,"系統４２",null,null,null,null,null,null,null,null,null,null,null,null,0,0,"",null,null,null,{"$error":"#DIV/0!"},{"$f":"IF(W47=\"\",\"\",MAX($V$6:V60)+1)","v":""},"",null,15]
[null,"系統４３",null,null,null,null,null,null,null,null,null,null,null,null,0,0,"",null,null,null,{"$error":"#DIV/0!"},{"$f":"IF(W48=\"\",\"\",MAX($V$6:V61)+1)","v":""},"",null,15]
[null,"系統４４",null,null,null,null,null,null,null,null,null,null,null,null,0,0,"",null,null,null,{"$error":"#DIV/0!"},{"$f":"IF(W49=\"\",\"\",MAX($V$6:V62)+1)","v":""},"",null,15]
[null,"系統４５",null,null,null,null,null,null,null,null,null,null,null,null,0,0,"",null,null,null,{"$error":"#DIV/0!"},{"$f":"IF(W50=\"\",\"\",MAX($V$6:V63)+1)","v":""},"",null,15]
[null,"系統４６",null,null,null,null,null,null,null,null,null,null,null,null,0,0,"",null,null,null,{"$error":"#DIV/0!"},{"$f":"IF(W51=\"\",\"\",MAX($V$6:V64)+1)","v":""},"",null,15]
[null,"系統４７",null,null,null,null,null,null,null,null,null,null,null,null,0,0,"",null,null,null,{"$error":"#DIV/0!"},{"$f":"IF(W52=\"\",\"\",MAX($V$6:V65)+1)","v":""},"",null,15]
[null,"系統４８",null,null,null,null,null,null,null,null,null,null,null,null,0,0,"",null,null,null,{"$f":"IF(AND(C53=\"新規\",E53=\"\"),\"なし\",1/COUNTIF($E$6:$E$20,E53))","v":{"$error":"#DIV/0!"}},{"$f":"IF(W53=\"\",\"\",MAX($V$6:V66)+1)","v":""},"",null,15]
[null,"系統４９",null,null,null,null,null,null,null,null,null,null,null,null,0,0,"",null,null,null,{"$error":"#DIV/0!"},{"$f":"IF(W54=\"\",\"\",MAX($V$6:V67)+1)","v":""},"",null,15]
[null,"系統５０",null,null,null,null,null,null,null,null,null,null,null,null,0,0,"",null,null,null,{"$error":"#DIV/0!"},{"$f":"IF(W55=\"\",\"\",MAX($V$6:V68)+1)","v":""},"",null,15]
[null,"系統５１",null,null,null,null,null,null,null,null,null,null,null,null,0,0,"",null,null,null,{"$error":"#DIV/0!"},{"$f":"IF(W56=\"\",\"\",MAX($V$6:V69)+1)","v":""},"",null,15]
[null,"系統５２",null,null,null,null,null,null,null,null,null,null,null,null,0,0,"",null,null,null,{"$error":"#DIV/0!"},{"$f":"IF(W57=\"\",\"\",MAX($V$6:V70)+1)","v":""},"",null,15]
[null,"系統５３",null,null,null,null,null,null,null,null,null,null,null,null,0,0,"",null,null,null,{"$error":"#DIV/0!"},{"$f":"IF(W58=\"\",\"\",MAX($V$6:V71)+1)","v":""},"",null,15]
[null,"系統５４",null,null,null,null,null,null,null,null,null,null,null,null,0,0,"",null,null,null,{"$error":"#DIV/0!"},{"$f":"IF(W59=\"\",\"\",MAX($V$6:V72)+1)","v":""},"",null,15]
[null,"系統５５",null,null,null,null,null,null,null,null,null,null,null,null,0,0,"",null,null,null,{"$error":"#DIV/0!"},{"$f":"IF(W60=\"\",\"\",MAX($V$6:V73)+1)","v":""},"",null,15]
[null,"系統５６",null,null,null,null,null,null,null,null,null,null,null,null,0,0,"",null,null,null,{"$error":"#DIV/0!"},{"$f":"IF(W61=\"\",\"\",MAX($V$6:V74)+1)","v":""},"",null,15]
[null,"系統５７",null,null,null,null,null,null,null,null,null,null,null,null,0,0,"",null,null,null,{"$error":"#DIV/0!"},{"$f":"IF(W62=\"\",\"\",MAX($V$6:V75)+1)","v":""},"",null,15]
[null,"系統５８",null,null,null,null,null,null,null,null,null,null,null,null,0,0,"",null,null,null,{"$error":"#DIV/0!"},{"$f":"IF(W63=\"\",\"\",MAX($V$6:V76)+1)","v":""},"",null,15]
[null,"系統５９",null,null,null,null,null,null,null,null,null,null,null,null,0,0,"",null,null,null,{"$error":"#DIV/0!"},{"$f":"IF(W64=\"\",\"\",MAX($V$6:V77)+1)","v":""},"",null,15]
[null,"系統６０",null,null,null,null,null,null,null,null,null,null,null,null,0,0,"",null,null,null,{"$error":"#DIV/0!"},{"$f":"IF(W65=\"\",\"\",MAX($V$6:V78)+1)","v":""},"",null,15]
[null,"系統６１",null,null,null,null,null,null,null,null,null,null,null,null,0,0,"",null,null,null,{"$error":"#DIV/0!"},{"$f":"IF(W66=\"\",\"\",MAX($V$6:V79)+1)","v":""},"",null,15]
[null,"系統６２",null,null,null,null,null,null,null,null,null,null,null,null,0,0,"",null,null,null,{"$error":"#DIV/0!"},{"$f":"IF(W67=\"\",\"\",MAX($V$6:V80)+1)","v":""},"",null,15]
[null,"系統６３",null,null,null,null,null,null,null,null,null,null,null,null,0,0,"",null,null,null,{"$error":"#DIV/0!"},{"$f":"IF(W68=\"\",\"\",MAX($V$6:V81)+1)","v":""},"",null,15]
[null,"系統６４",null,null,null,null,null,null,null,null,null,null,null,null,0,0,"",null,null,null,{"$error":"#DIV/0!"},{"$f":"IF(W69=\"\",\"\",MAX($V$6:V82)+1)","v":""},"",null,15]
[null,"系統６５",null,null,null,null,null,null,null,null,null,null,null,null,0,{"$f":"IF(G70>=O70,O70,G70)","v":0},"",null,null,null,{"$error":"#DIV/0!"},{"$f":"IF(W70=\"\",\"\",MAX($V$6:V83)+1)","v":""},{"$f":"IF(E70=\"\",\"\",IF(OR(C70=\"既設\",C70=\"\"),\"\",E70))","v":""},null,15]
[null,"系統６６",null,null,null,null,null,null,null,null,null,null,null,null,{"$f":"M71*N71","v":0},0,{"$f":"IF(M71=\"\",\"\",IF(J71<=O71,J71,O71))","v":""},null,null,null,{"$error":"#DIV/0!"},{"$f":"IF(W71=\"\",\"\",MAX($V$6:V84)+1)","v":""},"",null,{"$f":"COUNTIF(W71:W85,W71)","v":15}]
[null,"系統６７",null,null,null,null,null,null,null,null,null,null,null,null,0,0,"",null,null,null,{"$error":"#DIV/0!"},{"$f":"IF(W72=\"\",\"\",MAX($V$6:V85)+1)","v":""},"",null,15]
[null,"系統６８",null,null,null,null,null,null,null,null,null,null,null,null,0,0,"",null,null,null,{"$error":"#DIV/0!"},{"$f":"IF(W73=\"\",\"\",MAX($V$6:V86)+1)","v":""},"",null,15]
[null,"系統６９",null,null,null,null,null,null,null,null,null,null,null,null,0,0,"",null,null,null,{"$error":"#DIV/0!"},{"$f":"IF(W74=\"\",\"\",MAX($V$6:V87)+1)","v":""},"",null,15]
[null,"系統７０",null,null,null,null,null,null,null,null,null,null,null,null,0,0,"",null,null,null,{"$error":"#DIV/0!"},{"$f":"IF(W75=\"\",\"\",MAX($V$6:V88)+1)","v":""},"",null,15]
[null,"系統７１",null,null,null,null,null,null,null,null,null,null,null,null,0,0,"",null,null,null,{"$error":"#DIV/0!"},{"$f":"IF(W76=\"\",\"\",MAX($V$6:V89)+1)","v":""},"",null,15]
[null,"系統７２",null,null,null,null,null,null,null,null,null,null,null,null,0,0,"",null,null,null,{"$error":"#DIV/0!"},{"$f":"IF(W77=\"\",\"\",MAX($V$6:V90)+1)","v":""},"",null,15]
[null,"系統７３",null,null,null,null,null,null,null,null,null,null,null,null,0,0,"",null,null,null,{"$error":"#DIV/0!"},{"$f":"IF(W78=\"\",\"\",MAX($V$6:V91)+1)","v":""},"",null,15]
[null,"系統７４",null,null,null,null,null,null,null,null,null,null,null,null,0,0,"",null,null,null,{"$error":"#DIV/0!"},{"$f":"IF(W79=\"\",\"\",MAX($V$6:V92)+1)","v":""},"",null,15]
[null,"系統７５",null,null,null,null,null,null,null,null,null,null,null,null,0,0,"",null,null,null,{"$error":"#DIV/0!"},{"$f":"IF(W80=\"\",\"\",MAX($V$6:V93)+1)","v":""},"",null,15]
[null,"系統７６",null,null,null,null,null,null,null,null,null,null,null,null,0,0,"",null,null,null,{"$error":"#DIV/0!"},{"$f":"IF(W81=\"\",\"\",MAX($V$6:V94)+1)","v":""},"",null,15]
[null,"系統７７",null,null,null,null,null,null,null,null,null,null,null,null,0,0,"",null,null,null,{"$error":"#DIV/0!"},{"$f":"IF(W82=\"\",\"\",MAX($V$6:V95)+1)","v":""},"",null,15]
[null,"系統７８",null,null,null,null,null,null,null,null,null,null,null,null,0,0,"",null,null,null,{"$error":"#DIV/0!"},{"$f":"IF(W83=\"\",\"\",MAX($V$6:V96)+1)","v":""},"",null,15]
[null,"系統７９",null,null,null,null,null,null,null,null,null,null,null,null,0,0,"",null,null,null,{"$error":"#DIV/0!"},{"$f":"IF(W84=\"\",\"\",MAX($V$6:V97)+1)","v":""},"",null,15]
[null,"系統８０",null,null,null,null,null,null,null,null,null,null,null,null,0,0,"",null,null,null,{"$f":"IF(AND(C85=\"新規\",E85=\"\"),\"なし\",1/COUNTIF($E$6:$E$20,E85))","v":{"$error":"#DIV/0!"}},{"$f":"IF(W85=\"\",\"\",MAX($V$6:V98)+1)","v":""},"",null,15]
[null,"系統８１",null,null,null,null,null,null,null,null,null,null,null,null,0,0,"",null,null,null,{"$error":"#DIV/0!"},{"$f":"IF(W86=\"\",\"\",MAX($V$6:V99)+1)","v":""},"",null,15]
[null,"系統８２",null,null,null,null,null,null,null,null,null,null,null,null,0,0,"",null,null,null,{"$error":"#DIV/0!"},{"$f":"IF(W87=\"\",\"\",MAX($V$6:V100)+1)","v":""},"",null,15]
[null,"系統８３",null,null,null,null,null,null,null,null,null,null,null,null,0,0,"",null,null,null,{"$error":"#DIV/0!"},{"$f":"IF(W88=\"\",\"\",MAX($V$6:V101)+1)","v":""},"",null,15]
[null,"系統８４",null,null,null,null,null,null,null,null,null,null,null,null,0,0,"",null,null,null,{"$error":"#DIV/0!"},{"$f":"IF(W89=\"\",\"\",MAX($V$6:V102)+1)","v":""},"",null,15]
[null,"系統８５",null,null,null,null,null,null,null,null,null,null,null,null,0,0,"",null,null,null,{"$error":"#DIV/0!"},{"$f":"IF(W90=\"\",\"\",MAX($V$6:V103)+1)","v":""},"",null,15]
[null,"系統８６",null,null,null,null,null,null,null,null,null,null,null,null,0,0,"",null,null,null,{"$error":"#DIV/0!"},{"$f":"IF(W91=\"\",\"\",MAX($V$6:V104)+1)","v":""},"",null,15]
[null,"系統８７",null,null,null,null,null,null,null,null,null,null,null,null,0,0,"",null,null,null,{"$error":"#DIV/0!"},{"$f":"IF(W92=\"\",\"\",MAX($V$6:V105)+1)","v":""},"",null,15]
[null,"系統８８",null,null,null,null,null,null,null,null,null,null,null,null,0,0,"",null,null,null,{"$error":"#DIV/0!"},{"$f":"IF(W93=\"\",\"\",MAX($V$6:V106)+1)","v":""},"",null,15]
[null,"系統８９",null,null,null,null,null,null,null,null,null,null,null,null,0,0,"",null,null,null,{"$error":"#DIV/0!"},{"$f":"IF(W94=\"\",\"\",MAX($V$6:V107)+1)","v":""},"",null,15]
[null,"系統９０",null,null,null,null,null,null,null,null,null,null,null,null,0,0,"",null,null,null,{"$error":"#DIV/0!"},{"$f":"IF(W95=\"\",\"\",MAX($V$6:V108)+1)","v":""},"",null,15]
[null,"合計","－","－","－","－",{"$f":"SUM(G6:G95)","v":0},"－","－",{"$f":"SUM(J6:J95)","v":0},"－","－","－",{"$f":"SUM(N6:N95)","v":0},{"$f":"SUM(O6:O95)","v":0},{"$f":"SUM(P6:P95)","v":0},{"$f":"SUM(Q6:Q95)","v":0}]
[null,null,"※　創蓄一体型パワーコンディショナーも含みます。"]
[]
[]
[]
[]
[]
[]
[]
[]
[]
[]
[]
[]
[]
[]
[]
[]
[]
[]
[]
[null,null,null,null,"PCS型式","PCS出力",null,"パネル型式",null,"パネル出力",null,"PCS型式","PCS出力"]
[null,null,null,null,{"$f":"E6","v":0},{"$f":"J6","v":0},null,{"$f":"L6","v":0},null,{"$f":"O6","v":""},null,"a-aaaa",30]
[null,null,null,null,{"$f":"E7","v":0},{"$f":"J7","v":0},null,{"$f":"L7","v":0},null,{"$f":"O7","v":""},null,"b-bbbb",20]
[null,null,null,null,0,0,null,0,null,"",null,"c-cccc",30]
[null,null,null,null,0,0,null,0,null,"",null,0,0]
[null,null,null,null,0,0,null,0,null,""]
[null,null,null,null,0,0,null,0,null,""]
[null,null,null,null,0,0,null,0,null,""]
[null,null,null,null,0,0,null,0,null,""]
[null,null,null,null,0,0,null,0,null,""]
[null,null,null,null,0,0,null,0,null,""]
[null,null,null,null,0,0,null,0,null,""]
[null,null,null,null,0,0,null,0,null,""]
[null,null,null,null,0,0,null,0,null,""]
[null,null,null,null,0,0,null,0,null,""]
[null,null,null,null,0,0,null,0,null,""]

{"sheet":"別紙２発電設備詳細（太陽光）・その他","index":4,"n_rows":49,"n_cols":75,"rows_kept":49,"cut":false,"hidden":true,"merged":[[0,1,0,21],[7,44,7,49],[14,63,14,65],[14,66,14,70],[12,51,12,70],[13,38,13,45],[13,46,13,50],[13,51,13,70],[11,38,11,45],[11,46,11,50],[8,61,8,63],[8,64,8,65],[8,66,8,68],[8,69,8,70],[6,42,6,51],[3,35,6,36],[3,37,4,37],[3,38,3,41],[3,42,3,49],[11,51,11,53],[6,58,6,70],[7,35,7,43],[14,13,14,15],[14,16,14,17],[12,38,12,45],[12,46,12,50],[11,54,11,62],[11,63,11,65],[11,66,11,70],[6,52,6,57],[15,58,17,61],[15,54,17,57],[15,50,17,53],[15,46,17,49],[22,38,22,45],[22,46,22,47],[22,48,22,54],[22,55,22,56],[22,57,22,62],[14,38,14,45],[14,46,14,50],[14,51,14,53],[14,54,14,62],[20,38,21,45],[20,46,21,50],[20,51,21,70],[18,62,19,66],[18,67,19,70],[15,38,17,45],[15,67,17,70],[15,62,17,66],[18,54,19,57],[18,58,19,61],[18,38,19,45],[34,22,34,23],[27,22,27,23],[20,22,20,23],[14,19,14,22],[14,23,14,24],[6,22,6,23],[3,16,3,19],[3,20,3,21],[7,50,7,70],[8,35,8,44],[8,45,8,47],[8,48,8,49],[8,50,8,52],[8,53,8,54],[8,55,8,60],[5,62,5,66],[5,67,5,68],[5,69,5,70],[6,38,6,41],[3,69,3,70],[4,38,4,41],[11,35,22,37],[18,50,19,53],[18,46,19,49],[37,1,37,5],[37,6,37,8],[37,9,37,10],[37,12,37,14],[37,15,37,16],[37,17,37,18],[37,20,37,21],[37,22,37,23],[36,1,36,5],[36,6,36,12],[36,13,36,17],[36,18,36,24],[35,1,35,5],[35,6,35,12],[35,13,35,15],[35,16,35,17],[35,19,35,22],[35,23,35,24],[30,1,30,5],[30,6,30,8],[30,9,30,10],[30,12,30,14],[30,15,30,16],[30,17,30,18],[30,20,30,21],[30,22,30,23],[32,1,32,8],[33,1,33,5],[33,6,33,10],[33,11,33,14],[33,15,33,16],[33,17,33,19],[34,1,34,5],[34,6,34,14],[34,15,34,16],[34,18,34,21],[28,1,28,5],[28,6,28,12],[28,13,28,15],[28,16,28,17],[28,19,28,22],[28,23,28,24],[29,1,29,5],[29,6,29,12],[29,13,29,17],[29,18,29,24],[26,1,26,5],[26,6,26,10],[26,11,26,14],[26,15,26,16],[26,17,26,19],[27,1,27,5],[27,6,27,14],[27,15,27,16],[27,18,27,21],[23,1,23,5],[23,6,23,8],[23,9,23,10],[23,12,23,14],[23,15,23,16],[23,17,23,18],[23,20,23,21],[23,22,23,23],[25,1,25,8],[21,1,21,5],[21,6,21,12],[21,13,21,15],[21,16,21,17],[21,19,21,22],[21,23,21,24],[22,1,22,5],[22,6,22,12],[22,13,22,17],[22,18,22,24],[18,1,18,8],[19,1,19,5],[19,6,19,10],[19,11,19,14],[19,15,19,16],[19,17,19,19],[20,1,20,5],[20,6,20,14],[20,15,20,16],[20,18,20,21],[15,1,15,5],[15,6,15,12],[15,13,15,17],[15,18,15,24],[16,1,16,5],[16,6,16,8],[16,9,16,10],[16,12,16,14],[16,15,16,16],[16,17,16,18],[16,20,16,21],[16,22,16,23],[9,22,9,23],[11,1,11,8],[12,1,12,5],[12,6,12,10],[12,11,12,14],[12,15,12,16],[12,17,12,19],[13,1,13,5],[13,6,13,14],[13,15,13,16],[13,18,13,21],[13,22,13,23],[9,1,9,5],[9,6,9,8],[9,9,9,10],[9,12,9,14],[9,15,9,16],[9,17,9,18],[9,20,9,21],[40,52,41,53],[42,37,43,51],[4,1,4,8],[5,1,5,5],[5,6,5,10],[5,11,5,14],[5,15,5,16],[5,17,5,19],[6,1,6,5],[6,6,6,14],[6,15,6,16],[6,18,6,21],[7,1,7,5],[7,6,7,12],[7,13,7,15],[7,16,7,17],[7,19,7,22],[7,23,7,24],[8,1,8,5],[8,6,8,12],[8,13,8,17],[8,18,8,24],[14,1,14,5],[14,6,14,12],[44,37,45,51],[44,35,45,36],[42,35,43,36],[38,37,38,46],[38,47,38,70],[22,63,22,64],[22,65,22,70],[23,35,23,45],[23,46,23,47],[23,48,23,50],[23,51,23,52],[23,53,23,54],[23,55,23,70],[34,39,37,70],[34,37,37,38],[34,35,38,36],[32,35,33,70],[30,35,31,49],[26,35,29,70],[40,37,41,51],[40,54,41,70],[40,35,41,36],[42,54,43,70],[42,52,43,53],[2,35,2,43],[2,44,2,47],[2,48,2,50],[2,52,2,55],[2,56,2,70],[9,35,10,39],[24,35,25,45],[24,46,25,47],[24,55,25,70],[24,53,25,54],[24,51,25,52],[24,48,25,50],[4,42,4,51],[4,52,4,57],[4,58,4,70],[5,37,6,37],[5,38,5,41],[5,42,5,49],[5,50,5,55],[5,56,5,61],[3,50,3,55],[3,56,3,61],[3,62,3,66],[3,67,3,68]]}
[null,"※黄色の箇所をご入力ください。その他は自動反映されます。\n （別紙１で入力した新規または取替のPCS種類ごとに入力箇所（黄色塗）が表示されます。）",null,null,null,null,null,null,null,null,null,null,null,null,null,null,null,null,null,null,null,null,null,null,null,null,null,null,null,null,null,null,null,null,null,"※黄色の箇所をご入力ください。"]
[null,"2.発電設備詳細",null,null,null,null,null,null,null,null,null,null,null,null,null,null,null,null,null,null,null,null,null,null,null,null,null,null,null,null,null,null,null,null,null,"3.系統連系に関するその他確認事項"]
[null,"「別紙1各系統」で入力した新規または取替のPCS情報をご入力ください。",null,null,null,null,null,null,null,null,null,null,null,null,null,null,null,null,null,null,null,null,null,null,null,null,null,null,null,null,null,null,null,null,null,"主遮断器（遮断容量）",null,null,null,null,null,null,null,null,null,null,null,null,"ｋＶＡ",null,null,"（",null,null,null,null,"ｋＡ）"]
[null,null,null,null,null,null,null,null,null,null,null,null,null,null,null,null,"設置種類",null,null,null,{"$f":"SUM('別紙１各系統（太陽光）'!U6:U20)","v":0},null,"種",null,null,null,null,null,null,null,null,null,null,null,null,"解列箇所",null,"①","解列箇所",null,null,null,null,null,null,null,null,null,null,null,"遮断機種類",null,null,null,null,null,null,null,null,null,null,null,"定格遮断時間",null,null,null,null,null,null,"ｓ"]
[null,"１種類目（ＰＣＳ）",null,null,null,null,null,null,null,null,null,null,null,null,null,null,null,null,null,null,null,null,null,null,null,null,null,null,null,null,null,null,null,null,null,null,null,null,"メーカー",null,null,null,null,null,null,null,null,null,null,null,null,null,"型式"]
[null,"発電方式",null,null,null,null,{"$f":"IF(G7=\"\",\"\",\"太陽光\")","v":""},null,null,null,null,"定格出力",null,null,null,{"$f":"IF(G7=\"\",\"\",INDEX('別紙１各系統（太陽光）'!G6:G20,MATCH(G7,'別紙１各系統（太陽光）'!E6:E20,0),1))","v":""},null,"ｋＷ",null,null,null,null,null,null,null,null,null,null,null,null,null,null,null,null,null,null,null,"②","解列箇所",null,null,null,null,null,null,null,null,null,null,null,"遮断機種類",null,null,null,null,null,null,null,null,null,null,null,"定格遮断時間",null,null,null,null,null,null,"ｓ"]
[null,"型式",null,null,null,null,{"$f":"'別紙１各系統（太陽光）'!Z6","v":""},null,null,null,null,null,null,null,null,{"$f":"IF(G7=\"\",\"\",COUNTIF('別紙１各系統（太陽光）'!$E$6:$E$20,G7))","v":""},null,"台","（型式別出力）",null,null,null,{"$f":"IF(P6=\"\",\"\",P6*P7)","v":""},null,"ｋＷ",null,null,"太陽光",null,null,null,null,null,null,null,null,null,null,"メーカー",null,null,null,null,null,null,null,null,null,null,null,null,null,"型式"]
[null,"種類・方式",null,null,null,null,null,null,null,null,null,null,null,"定格電圧",null,null,null,null,"ｋＶ","系統並列箇所",null,null,null,null,null,null,null,"太陽光＋蓄電池",null,null,null,null,null,null,null,"単独運転検出機能",null,null,null,null,null,null,null,null,null,null,null,null,null,null,"※「あり」の場合、詳細資料を提出してください。"]
[null,"絶縁変圧器",null,null,null,null,null,null,null,null,null,null,null,"自動同期検定装置",null,null,null,null,null,null,null,null,null,null,null,null,null,null,null,null,null,null,null,null,null,"ＣＴ比（変流比）",null,null,null,null,null,null,null,null,null,null,null,null,"Ａ／",null,null,null,null,"Ａ",null,"ＶＴ比（変圧比）",null,null,null,null,null,null,null,null,"Ｖ／",null,null,null,null,"Ｖ"]
[null,"過電流制限値",null,null,null,null,"定格電流の",null,null,null,null,"％","高調波",null,null,"総合",null,null,null,"％","各次",null,null,null,"％",null,null,null,null,null,null,null,null,null,null,"4.負荷設備"]
[]
[null,"２種類目（ＰＣＳ）",null,null,null,null,null,null,null,null,null,null,null,null,null,null,null,null,null,null,null,null,null,null,null,null,null,null,null,null,null,null,null,null,null,"負荷設備",null,null,"電動機（高圧）",null,null,null,null,null,null,null,null,null,null,null,null,"ｋＷ",null,null,"（三相一括対地静電容量",null,null,null,null,null,null,null,null,null,null,null,"μＦ　※1）"]
[null,"発電方式",null,null,null,null,{"$f":"IF(G14=\"\",\"\",\"太陽光\")","v":""},null,null,null,null,"定格出力",null,null,null,{"$f":"IF(G14=\"\",\"\",INDEX('別紙１各系統（太陽光）'!G6:G20,MATCH(G14,'別紙１各系統（太陽光）'!E6:E20,0),1))","v":""},null,"ｋＷ",null,null,null,null,null,null,null,null,null,null,null,null,null,null,null,null,null,null,null,null,"電動機（低圧）",null,null,null,null,null,null,null,null,null,null,null,null,"ｋＷ",null,null,null,null,null,null,null,null,null,null,null,null,null,null,null,null,null,null,null,null,false,false,false]
[null,"型式",null,null,null,null,{"$f":"'別紙１各系統（太陽光）'!Z7","v":""},null,null,null,null,null,null,null,null,{"$f":"IF(G14=\"\",\"\",COUNTIF('別紙１各系統（太陽光）'!$E$6:$E$20,G14))","v":""},null,"台","（型式別出力）",null,null,null,{"$f":"IF(P13=\"\",\"\",P13*P14)","v":""},null,"ｋＷ",null,null,null,null,null,null,null,null,null,null,null,null,null,"電灯",null,null,null,null,null,null,null,null,null,null,null,null,"ｋＷ",null,null,null,null,null,null,null,null,null,null,null,null,null,null,null,null,null,null,null,null,false,false]
[null,"種類・方式",null,null,null,null,null,null,null,null,null,null,null,"定格電圧",null,null,null,null,"ｋＶ","系統並列箇所",null,null,null,null,null,null,null,null,null,null,null,null,null,null,null,null,null,null,"合計",null,null,null,null,null,null,null,null,null,null,null,null,"ｋＷ",null,null,"（総合負荷力率",null,null,null,null,null,null,null,null,null,null,null,"％　※2）",null,null,null,null,null,false,false]
[null,"絶縁変圧器",null,null,null,null,null,null,null,null,null,null,null,"自動同期検定装置",null,null,null,null,null,null,null,null,null,null,null,null,null,null,null,null,null,null,null,null,null,null,null,null,"進相用コンデンサ\n（高圧）",null,null,null,null,null,null,null,null,null,null,null,"％リアクトル\nｋＶＡ",null,null,null,null,null,null,null,"％リアクトル\nｋＶＡ",null,null,null,null,null,null,null,null,"％リアクトル\nｋＶＡ"]
[null,"過電流制限値",null,null,null,null,"定格電流の",null,null,null,null,"％","高調波",null,null,"総合",null,null,null,"％","各次",null,null,null,"％"]
[]
[null,"３種類目（ＰＣＳ）",null,null,null,null,null,null,null,null,null,null,null,null,null,null,null,null,null,null,null,null,null,null,null,null,null,null,null,null,null,null,null,null,null,null,null,null,"進相用コンデンサ\n（低圧）",null,null,null,null,null,null,null,null,null,null,null,"％リアクトル\nｋＶＡ",null,null,null,null,null,null,null,"％リアクトル\nｋＶＡ",null,null,null,null,null,null,null,null,"％リアクトル\nｋＶＡ"]
[null,"発電方式",null,null,null,null,{"$f":"IF(G21=\"\",\"\",\"太陽光\")","v":""},null,null,null,null,"定格出力",null,null,null,{"$f":"IF(G21=\"\",\"\",INDEX('別紙１各系統（太陽光）'!G6:G20,MATCH(G21,'別紙１各系統（太陽光）'!E6:E20,0),1))","v":""},null,"ｋＷ"]
[null,"型式",null,null,null,null,{"$f":"'別紙１各系統（太陽光）'!Z8","v":""},null,null,null,null,null,null,null,null,{"$f":"IF(G21=\"\",\"\",COUNTIF('別紙１各系統（太陽光）'!$E$6:$E$20,G21))","v":""},null,"台","（型式別出力）",null,null,null,{"$f":"IF(P20=\"\",\"\",P20*P21)","v":""},null,"ｋＷ",null,null,null,null,null,null,null,null,null,null,null,null,null,"進相用コンデンサ\n合計",null,null,null,null,null,null,null,null,null,null,null,null,"ｋＶＡ"]
[null,"種類・方式",null,null,null,null,null,null,null,null,null,null,null,"定格電圧",null,null,null,null,"ｋＶ","系統並列箇所"]
[null,"絶縁変圧器",null,null,null,null,null,null,null,null,null,null,null,"自動同期検定装置",null,null,null,null,null,null,null,null,null,null,null,null,null,null,null,null,null,null,null,null,null,null,null,null,"制御方法",null,null,null,null,null,null,null,null,null,"自動力率調整装置",null,null,null,null,null,null,null,null,"タイマー制御",null,null,null,null,null,null,null,"なし"]
[null,"過電流制限値",null,null,null,null,"定格電流の",null,null,null,null,"％","高調波",null,null,"総合",null,null,null,"％","各次",null,null,null,"％",null,null,null,null,null,null,null,null,null,null,"高調波発生負荷",null,null,null,null,null,null,null,null,null,null,null,null,"あり",null,null,null,null,"なし",null,"※3",null,null,null,null,null,null,null,null,null,null,null,null,null,null,null,null,false]
[null,null,null,null,null,null,null,null,null,null,null,null,null,null,null,null,null,null,null,null,null,null,null,null,null,null,null,null,null,null,null,null,null,null,null,"電圧変動発生負荷",null,null,null,null,null,null,null,null,null,null,null,null,"あり",null,null,null,null,"なし",null,"※4"]
[null,"４種類目（ＰＣＳ）"]
[null,"発電方式",null,null,null,null,{"$f":"IF(G28=\"\",\"\",\"太陽光\")","v":""},null,null,null,null,"定格出力",null,null,null,{"$f":"IF(G28=\"\",\"\",INDEX('別紙１各系統（太陽光）'!G6:G20,MATCH(G28,'別紙１各系統（太陽光）'!E6:E20,0),1))","v":""},null,"ｋＷ",null,null,null,null,null,null,null,null,null,null,null,null,null,null,null,null,null,"※１　高圧電動機があり、かつケーブル引込の場合、記入してください。\n※２　総合負荷力率は、調相設備を含まないでください。\n※３　「あり」の場合で、６．６ｋＶ受電時５０ｋＶＡ超過のときは、別途「高調波流出電流計算書」を提出して\n      ください。\n※４　「あり」の場合、発生機器の仕様書等の鍾愛資料を提出してください。"]
[null,"型式",null,null,null,null,{"$f":"'別紙１各系統（太陽光）'!Z9","v":""},null,null,null,null,null,null,null,null,{"$f":"IF(G28=\"\",\"\",COUNTIF('別紙１各系統（太陽光）'!$E$6:$E$20,G28))","v":""},null,"台","（型式別出力）",null,null,null,{"$f":"IF(P27=\"\",\"\",P27*P28)","v":""},null,"ｋＷ"]
[null,"種類・方式",null,null,null,null,null,null,null,null,null,null,null,"定格電圧",null,null,null,null,"ｋＶ","系統並列箇所"]
[null,"絶縁変圧器",null,null,null,null,null,null,null,null,null,null,null,"自動同期検定装置"]
[null,"過電流制限値",null,null,null,null,"定格電流の",null,null,null,null,"％","高調波",null,null,"総合",null,null,null,"％","各次",null,null,null,"％",null,null,null,null,null,null,null,null,null,null,"5.サイバーセキュリティ対策",null,null,null,null,null,null,null,null,null,null,null,null,null,null,null,null,null,null,null,null,null,null,null,null,null,null,null,null,null,null,null,null,null,null,null,null,false]
[null,null,null,null,null,null,null,null,null,null,null,null,null,null,null,null,null,null,null,null,null,null,null,null,null,null,null,null,null,null,null,null,null,null,null,null,null,null,null,null,null,null,null,null,null,null,null,null,null,null,null,null,null,null,null,null,null,null,null,null,null,null,null,null,null,null,null,null,null,null,null,null,false]
[null,"５種類目（ＰＣＳ）",null,null,null,null,null,null,null,null,null,null,null,null,null,null,null,null,null,null,null,null,null,null,null,null,null,null,null,null,null,null,null,null,null,"【留意事項】\n　系統連系に際して、サイバーセキュリティ対策の実施、セキュリティ管理責任者の氏名及び緊急時連絡先を通知いただく必要があるため、その確認をさせていただきます。",null,null,null,null,null,null,null,null,null,null,null,null,null,null,null,null,null,null,null,null,null,null,null,null,null,null,null,null,null,null,null,null,null,null,null,null,false]
[null,"発電方式",null,null,null,null,{"$f":"IF(G35=\"\",\"\",\"太陽光\")","v":""},null,null,null,null,"定格出力",null,null,null,{"$f":"IF(G35=\"\",\"\",INDEX('別紙１各系統（太陽光）'!G6:G20,MATCH(G35,'別紙１各系統（太陽光）'!E6:E20,0),1))","v":""},null,"ｋＷ",null,null,null,null,null,null,null,null,null,null,null,null,null,null,null,null,null,null,null,null,null,null,null,null,null,null,null,null,null,null,null,null,null,null,null,null,null,null,null,null,null,null,null,null,null,null,null,null,null,null,null,null,null,null,false]
[null,"型式",null,null,null,null,{"$f":"'別紙１各系統（太陽光）'!Z10","v":""},null,null,null,null,null,null,null,null,{"$f":"IF(G35=\"\",\"\",COUNTIF('別紙１各系統（太陽光）'!$E$6:$E$20,G35))","v":""},null,"台","（型式別出力）",null,null,null,{"$f":"IF(P34=\"\",\"\",P34*P35)","v":""},null,"ｋＷ",null,null,null,null,null,null,null,null,null,null,"対策",null,null,null,"系統連系技術要件に基づいた以下のサイバーセキュリティ対策を実施します。\n・発電事業の用に供する場合は、電力制御システムセキュリティガイドラインに準拠すること。\n・発電事業の用に供さない場合は、以下の対策を講じること。\n １：外部ネットワークや他ネットワークを通じた発電設備の制御に係るシステムへの影響を最小化\n     するための対策\n ２：発電設備の制御に係るシステムへのマルウェアの侵入防止対策",null,null,null,null,null,null,null,null,null,null,null,null,null,null,null,null,null,null,null,null,null,null,null,null,null,null,null,null,null,null,null,null,false]
[null,"種類・方式",null,null,null,null,null,null,null,null,null,null,null,"定格電圧",null,null,null,null,"ｋＶ","系統並列箇所",null,null,null,null,null,null,null,null,null,null,null,null,null,null,null,null,null,null,null,null,null,null,null,null,null,null,null,null,null,null,null,null,null,null,null,null,null,null,null,null,null,null,null,null,null,null,null,null,null,null,null,null,false]
[null,"絶縁変圧器",null,null,null,null,null,null,null,null,null,null,null,"自動同期検定装置"]
[null,"過電流制限値",null,null,null,null,"定格電流の",null,null,null,null,"％","高調波",null,null,"総合",null,null,null,"％","各次",null,null,null,"％",null,null,null,null,false]
[null,null,null,null,null,null,null,null,null,null,null,null,null,null,null,null,null,null,null,null,null,null,null,null,null,null,null,null,null,null,null,null,null,null,null,null,null,"セキュリティ管理責任者"]
[null,null,null,null,null,null,null,null,null,null,null,null,null,null,null,null,null,null,null,null,null,null,null,null,null,null,null,null,null,null,null,null,null,null,null,"6.添付資料"]
[null,null,null,null,null,null,null,null,null,null,null,null,null,null,null,null,null,null,null,null,null,null,null,null,null,null,null,null,null,null,null,null,null,null,null,null,null,"パワーコンディショナー仕様書\n（認証品の場合は提出不要）",null,null,null,null,null,null,null,null,null,null,null,null,null,null,null,null,"単線結線図（ＯＶＧＲ、ＲＰＲ、太陽光パネル\n（枚数含む）がどの部分に連系されているか明記）"]
[]
[null,null,null,null,null,null,null,null,null,null,null,null,null,null,null,null,null,null,null,null,null,null,null,null,null,null,null,null,null,null,null,null,null,null,null,null,null,"設備配置図\n（PCS、パネルの位置、台数や枚数を明記）",null,null,null,null,null,null,null,null,null,null,null,null,null,null,null,null,"ＰＣＳ代表機データ\n（認証品の場合、提出不要）"]
[]
[null,null,null,null,null,null,null,null,null,null,null,null,null,null,null,null,null,null,null,null,null,null,null,null,null,null,null,null,null,null,null,null,null,null,null,null,null,"ＯＶＧＲ、ＲＰＲ仕様書"]
[]
[null,null,null,null,null,null,null,null,null,null,null,null,null,null,null,null,null,null,null,null,null,null,null,null,null,null,null,null,null,null,null,false,false,false,false]
[]
[null,null,null,null,null,null,null,null,null,null,null,null,null,null,null,null,null,null,null,null,null,null,null,null,null,null,null,false]

{"sheet":"別紙２発電設備詳細（太陽光）","index":5,"n_rows":52,"n_cols":35,"rows_kept":52,"cut":false,"hidden":true,"merged":[[0,1,0,21],[9,1,9,5],[9,6,9,8],[9,9,9,10],[9,12,9,14],[9,15,9,16],[8,1,8,5],[8,6,8,12],[8,13,8,17],[8,18,8,24],[9,17,9,18],[9,20,9,21],[9,22,9,23],[3,16,3,19],[3,20,3,21],[7,1,7,5],[7,6,7,12],[7,13,7,15],[7,16,7,17],[7,19,7,22],[7,23,7,24],[6,1,6,5],[6,6,6,14],[6,15,6,16],[6,18,6,21],[6,22,6,23],[4,1,4,8],[5,1,5,5],[5,6,5,10],[5,11,5,14],[5,15,5,16],[5,17,5,19],[13,15,13,16],[13,18,13,21],[13,22,13,23],[11,1,11,8],[12,1,12,5],[12,6,12,10],[12,11,12,14],[12,15,12,16],[12,17,12,19],[13,1,13,5],[13,6,13,14],[15,1,15,5],[15,6,15,12],[15,13,15,17],[15,18,15,24],[16,1,16,5],[16,6,16,8],[16,9,16,10],[16,12,16,14],[14,23,14,24],[14,1,14,5],[14,6,14,12],[14,13,14,15],[14,16,14,17],[14,19,14,22],[16,15,16,16],[16,17,16,18],[16,20,16,21],[16,22,16,23],[18,1,18,8],[19,1,19,5],[19,6,19,10],[19,11,19,14],[19,15,19,16],[19,17,19,19],[21,19,21,22],[21,23,21,24],[22,1,22,5],[22,6,22,12],[22,13,22,17],[22,18,22,24],[20,1,20,5],[20,6,20,14],[20,15,20,16],[20,18,20,21],[20,22,20,23],[21,1,21,5],[21,6,21,12],[21,13,21,15],[21,16,21,17],[23,22,23,23],[25,1,25,8],[26,1,26,5],[26,6,26,10],[26,11,26,14],[26,15,26,16],[26,17,26,19],[23,1,23,5],[23,6,23,8],[23,9,23,10],[23,12,23,14],[23,15,23,16],[23,17,23,18],[23,20,23,21],[28,1,28,5],[28,6,28,12],[28,13,28,15],[28,16,28,17],[28,19,28,22],[28,23,28,24],[27,1,27,5],[27,6,27,14],[27,15,27,16],[27,18,27,21],[27,22,27,23],[32,1,32,8],[33,1,33,5],[33,6,33,10],[33,11,33,14],[33,15,33,16],[33,17,33,19],[30,20,30,21],[30,22,30,23],[29,1,29,5],[29,6,29,12],[29,13,29,17],[29,18,29,24],[30,1,30,5],[30,6,30,8],[30,9,30,10],[30,12,30,14],[30,15,30,16],[30,17,30,18],[35,1,35,5],[35,6,35,12],[35,13,35,15],[35,16,35,17],[35,19,35,22],[35,23,35,24],[34,1,34,5],[34,6,34,14],[34,15,34,16],[34,18,34,21],[34,22,34,23],[36,1,36,5],[36,6,36,12],[36,13,36,17],[36,18,36,24],[37,1,37,5],[37,6,37,8],[37,9,37,10],[37,12,37,14],[37,15,37,16],[37,17,37,18],[37,20,37,21],[37,22,37,23]]}
[null,"※黄色の箇所をご入力ください。その他は自動反映されます。\n （別紙１で入力した新規または取替のPCS種類ごとに入力箇所（黄色塗）が表示されます。）"]
[null,"2.発電設備詳細"]
[null,"「別紙1各系統」で入力した新規または取替のPCS情報についてご入力ください。"]
[null,null,null,null,null,null,null,null,null,null,null,null,null,null,null,null,"設置種類",null,null,null,{"$f":"SUM('別紙１各系統（太陽光）'!U6:U20)","v":0},null,"種"]
[null,"１種類目（ＰＣＳ）"]
[null,"発電方式",null,null,null,null,null,null,null,null,null,"定格出力",null,null,null,{"$f":"IF(G7=\"\",\"\",INDEX('別紙１各系統（太陽光）'!G6:G20,MATCH(G7,'別紙１各系統（太陽光）'!E6:E20,0),1))","v":""},null,"ｋＷ"]
[null,"型式",null,null,null,null,{"$f":"'別紙１各系統（太陽光）'!Z6","v":""},null,null,null,null,null,null,null,null,{"$f":"IF(G7=\"\",\"\",COUNTIF('別紙１各系統（太陽光）'!$E$6:$E$20,G7))","v":""},null,"台","（型式別出力）",null,null,null,{"$f":"IF(P6=\"\",\"\",P6*P7)","v":""},null,"ｋＷ",null,null,"太陽光"]
[null,"種類・方式",null,null,null,null,null,null,null,null,null,null,null,"定格電圧",null,null,null,null,"ｋＶ","系統並列箇所",null,null,null,null,null,null,null,"太陽光＋蓄電池"]
[null,"絶縁変圧器",null,null,null,null,null,null,null,null,null,null,null,"自動同期検定装置"]
[null,"過電流制限値",null,null,null,null,"定格電流の",null,null,null,null,"％","高調波",null,null,"総合",null,null,null,"％","各次",null,null,null,"％"]
[]
[null,"２種類目（ＰＣＳ）"]
[null,"発電方式",null,null,null,null,null,null,null,null,null,"定格出力",null,null,null,{"$f":"IF(G14=\"\",\"\",INDEX('別紙１各系統（太陽光）'!G6:G20,MATCH(G14,'別紙１各系統（太陽光）'!E6:E20,0),1))","v":""},null,"ｋＷ"]
[null,"型式",null,null,null,null,{"$f":"'別紙１各系統（太陽光）'!Z7","v":""},null,null,null,null,null,null,null,null,{"$f":"IF(G14=\"\",\"\",COUNTIF('別紙１各系統（太陽光）'!$E$6:$E$20,G14))","v":""},null,"台","（型式別出力）",null,null,null,{"$f":"IF(P13=\"\",\"\",P13*P14)","v":""},null,"ｋＷ"]
[null,"種類・方式",null,null,null,null,null,null,null,null,null,null,null,"定格電圧",null,null,null,null,"ｋＶ","系統並列箇所"]
[null,"絶縁変圧器",null,null,null,null,null,null,null,null,null,null,null,"自動同期検定装置"]
[null,"過電流制限値",null,null,null,null,"定格電流の",null,null,null,null,"％","高調波",null,null,"総合",null,null,null,"％","各次",null,null,null,"％"]
[]
[null,"３種類目（ＰＣＳ）"]
[null,"発電方式",null,null,null,null,null,null,null,null,null,"定格出力",null,null,null,{"$f":"IF(G21=\"\",\"\",INDEX('別紙１各系統（太陽光）'!G6:G20,MATCH(G21,'別紙１各系統（太陽光）'!E6:E20,0),1))","v":""},null,"ｋＷ"]
[null,"型式",null,null,null,null,{"$f":"'別紙１各系統（太陽光）'!Z8","v":""},null,null,null,null,null,null,null,null,{"$f":"IF(G21=\"\",\"\",COUNTIF('別紙１各系統（太陽光）'!$E$6:$E$20,G21))","v":""},null,"台","（型式別出力）",null,null,null,{"$f":"IF(P20=\"\",\"\",P20*P21)","v":""},null,"ｋＷ"]
[null,"種類・方式",null,null,null,null,null,null,null,null,null,null,null,"定格電圧",null,null,null,null,"ｋＶ","系統並列箇所"]
[null,"絶縁変圧器",null,null,null,null,null,null,null,null,null,null,null,"自動同期検定装置"]
[null,"過電流制限値",null,null,null,null,"定格電流の",null,null,null,null,"％","高調波",null,null,"総合",null,null,null,"％","各次",null,null,null,"％"]
[]
[null,"４種類目（ＰＣＳ）"]
[null,"発電方式",null,null,null,null,null,null,null,null,null,"定格出力",null,null,null,{"$f":"IF(G28=\"\",\"\",INDEX('別紙１各系統（太陽光）'!G6:G20,MATCH(G28,'別紙１各系統（太陽光）'!E6:E20,0),1))","v":""},null,"ｋＷ"]
[null,"型式",null,null,null,null,{"$f":"'別紙１各系統（太陽光）'!Z9","v":""},null,null,null,null,null,null,null,null,{"$f":"IF(G28=\"\",\"\",COUNTIF('別紙１各系統（太陽光）'!$E$6:$E$20,G28))","v":""},null,"台","（型式別出力）",null,null,null,{"$f":"IF(P27=\"\",\"\",P27*P28)","v":""},null,"ｋＷ"]
[null,"種類・方式",null,null,null,null,null,null,null,null,null,null,null,"定格電圧",null,null,null,null,"ｋＶ","系統並列箇所"]
[null,"絶縁変圧器",null,null,null,null,null,null,null,null,null,null,null,"自動同期検定装置"]
[null,"過電流制限値",null,null,null,null,"定格電流の",null,null,null,null,"％","高調波",null,null,"総合",null,null,null,"％","各次",null,null,null,"％"]
[]
[null,"５種類目（ＰＣＳ）"]
[null,"発電方式",null,null,null,null,null,null,null,null,null,"定格出力",null,null,null,{"$f":"IF(G35=\"\",\"\",INDEX('別紙１各系統（太陽光）'!G6:G20,MATCH(G35,'別紙１各系統（太陽光）'!E6:E20,0),1))","v":""},null,"ｋＷ"]
[null,"型式",null,null,null,null,{"$f":"'別紙１各系統（太陽光）'!Z10","v":""},null,null,null,null,null,null,null,null,{"$f":"IF(G35=\"\",\"\",COUNTIF('別紙１各系統（太陽光）'!$E$6:$E$20,G35))","v":""},null,"台","（型式別出力）",null,null,null,{"$f":"IF(P34=\"\",\"\",P34*P35)","v":""},null,"ｋＷ"]
[null,"種類・方式",null,null,null,null,null,null,null,null,null,null,null,"定格電圧",null,null,null,null,"ｋＶ","系統並列箇所"]
[null,"絶縁変圧器",null,null,null,null,null,null,null,null,null,null,null,"自動同期検定装置"]
[null,"過電流制限値",null,null,null,null,"定格電流の",null,null,null,null,"％","高調波",null,null,"総合",null,null,null,"％","各次",null,null,null,"％",null,null,null,null,false]
[]
[]
[]
[]
[]
[]
[]
[]
[]
[]
[]
[null,null,null,null,null,null,null,null,null,null,null,null,null,null,null,null,null,null,null,null,null,null,null,null,null,null,null,null,null,null,null,false,false,false,false]
[]
[null,null,null,null,null,null,null,null,null,null,null,null,null,null,null,null,null,null,null,null,null,null,null,null,null,null,null,false]

{"sheet":"別紙３発電設備詳細（蓄電池）・その他","index":6,"n_rows":41,"n_cols":75,"rows_kept":41,"cut":false,"hidden":true,"merged":[[24,25,26,60],[3,25,6,26],[3,27,4,27],[3,28,3,31],[3,32,3,39],[3,40,3,45],[3,46,3,51],[3,52,3,56],[3,57,3,58],[15,36,16,39],[17,36,18,39],[15,40,16,43],[17,40,18,43],[15,44,16,47],[17,44,18,47],[15,48,16,51],[17,48,18,51],[12,36,12,40],[12,41,12,60],[13,28,13,35],[13,36,13,40],[11,28,11,35],[11,36,11,40],[11,41,11,43],[11,44,11,52],[11,53,11,55],[11,56,11,60],[7,25,7,33],[7,34,7,39],[7,40,7,60],[8,25,8,34],[8,35,8,37],[8,38,8,39],[8,40,8,42],[8,43,8,44],[8,45,8,50],[8,51,8,53],[8,54,8,55],[8,56,8,58],[8,59,8,60],[3,59,3,60],[4,28,4,31],[4,32,4,41],[4,42,4,47],[4,48,4,60],[5,27,6,27],[5,28,5,31],[5,32,5,39],[5,40,5,45],[5,46,5,51],[5,52,5,56],[5,57,5,58],[5,59,5,60],[6,28,6,31],[6,32,6,41],[6,42,6,47],[6,48,6,60],[8,22,8,23],[14,22,14,23],[7,1,7,5],[7,6,7,12],[8,1,8,5],[3,1,3,8],[4,1,4,5],[4,6,4,10],[4,15,4,18],[4,11,4,12],[4,13,4,14],[4,19,4,21],[4,22,4,24],[6,22,6,23],[6,18,6,21],[5,6,5,24],[5,1,5,5],[6,1,6,5],[6,6,6,14],[6,15,6,16],[12,1,12,5],[12,6,12,10],[9,1,9,5],[9,6,9,8],[9,9,9,10],[9,12,9,14],[9,15,9,16],[9,17,9,18],[9,20,9,21],[22,45,22,60],[21,28,21,35],[21,36,21,37],[21,38,21,44],[21,45,21,46],[21,47,21,52],[17,9,17,10],[17,12,17,14],[17,15,17,16],[15,23,15,24],[15,6,15,12],[15,13,15,15],[15,16,15,17],[15,19,15,22],[17,17,17,18],[15,52,16,55],[17,52,18,55],[15,56,16,60],[17,56,18,60],[14,1,14,5],[14,6,14,14],[14,15,14,16],[14,18,14,21],[14,56,14,60],[15,28,16,35],[19,41,20,60],[13,41,13,60],[14,28,14,35],[14,36,14,40],[14,41,14,43],[14,44,14,52],[14,53,14,55],[16,6,16,11],[16,12,16,15],[16,16,16,17],[16,18,16,21],[16,22,16,23],[17,1,17,5],[17,6,17,8],[16,1,16,5],[15,1,15,5],[17,28,18,35],[19,28,20,35],[40,25,41,26],[40,27,41,41],[36,25,37,26],[36,27,37,41],[36,42,37,43],[36,44,37,60],[38,25,39,26],[38,27,39,41],[38,42,39,43],[38,44,39,60],[23,41,23,42],[23,43,23,44],[28,25,29,60],[35,25,35,29],[17,20,17,21],[17,22,17,23],[23,45,23,60],[34,27,34,36],[34,37,34,60],[23,25,23,35],[23,36,23,37],[23,38,23,40],[21,53,21,54],[21,55,21,60],[22,25,22,35],[22,36,22,37],[22,38,22,40],[22,41,22,42],[22,43,22,44],[30,29,33,60],[30,27,33,28],[30,25,34,26],[19,36,20,40],[11,25,21,27],[2,38,2,40],[2,42,2,45],[2,46,2,60],[9,25,10,30],[13,1,13,5],[13,6,13,24],[12,11,12,12],[12,13,12,14],[12,15,12,18],[12,19,12,21],[12,22,12,24],[2,25,2,33],[2,34,2,37],[8,6,8,11],[8,12,8,15],[8,16,8,17],[8,18,8,21],[12,28,12,35],[7,23,7,24],[7,13,7,15],[7,16,7,17],[7,19,7,22],[9,22,9,23],[11,1,11,8]]}
[null,"※黄色の箇所をご入力ください。その他は自動反映されます。",null,null,null,null,null,null,null,null,null,null,null,null,null,null,null,null,null,null,null,null,null,null,null,"※黄色の箇所をご入力ください。"]
[null,"4.発電設備詳細",null,null,null,null,null,null,null,null,null,null,null,null,null,null,null,null,null,null,null,null,null,null,null,"5.系統連系に関するその他確認事項"]
[null,"単独設置する蓄電池のPCS情報をご入力ください。(創蓄一体型PCSを設置される場合は入力不要です。)",null,null,null,null,null,null,null,null,null,null,null,null,null,null,null,null,null,null,null,null,null,null,null,"主遮断器（遮断容量）",null,null,null,null,null,null,null,null,null,null,null,null,"ｋＶＡ",null,null,"（",null,null,null,null,"ｋＡ）"]
[null,"１種類目",null,null,null,null,null,null,null,null,null,null,null,null,null,null,null,null,null,null,null,null,null,null,null,"解列箇所",null,"①","解列箇所",null,null,null,null,null,null,null,null,null,null,null,"遮断機種類",null,null,null,null,null,null,null,null,null,null,null,"定格遮断時間",null,null,null,null,null,null,"ｓ"]
[null,"発電方式",null,null,null,null,"蓄電池",null,null,null,null,"設備区分",null,null,null,"定格出力",null,null,null,null,null,null,"ｋＷ",null,null,null,null,null,"メーカー",null,null,null,null,null,null,null,null,null,null,null,null,null,"型式"]
[null,"メーカー",null,null,null,null,null,null,null,null,null,null,null,null,null,null,null,null,null,null,null,null,null,null,null,null,null,"②","解列箇所",null,null,null,null,null,null,null,null,null,null,null,"遮断機種類",null,null,null,null,null,null,null,null,null,null,null,"定格遮断時間",null,null,null,null,null,null,"ｓ"]
[null,"型式",null,null,null,null,null,null,null,null,null,null,null,null,null,null,null,"台","（型式別出力）",null,null,null,{"$f":"IF(T5=\"\",\"\",T5*P7)","v":""},null,"ｋＷ",null,null,null,"メーカー",null,null,null,null,null,null,null,null,null,null,null,null,null,"型式"]
[null,"種類・方式",null,null,null,null,null,null,null,null,null,null,null,"定格電圧",null,null,null,null,"ｋＶ","系統並列箇所",null,null,null,null,null,"単独運転検出機能",null,null,null,null,null,null,null,null,null,null,null,null,null,null,"※「あり」の場合、詳細資料を提出してください。"]
[null,"絶縁変圧器",null,null,null,null,null,null,null,null,null,null,"自動同期検定装置",null,null,null,null,null,"定格力率",null,null,null,null,null,"％","ＣＴ比（変流比）",null,null,null,null,null,null,null,null,null,null,null,null,"Ａ／",null,null,null,null,"Ａ",null,"ＶＴ比（変圧比）",null,null,null,null,null,null,null,null,"Ｖ／",null,null,null,null,"Ｖ"]
[null,"過電流制限値",null,null,null,null,"定格電流の",null,null,null,null,"％","高調波",null,null,"総合",null,null,null,"％","各次",null,null,null,"％","6.負荷設備"]
[]
[null,"２種類目",null,null,null,null,null,null,null,null,null,null,null,null,null,null,null,null,null,null,null,null,null,null,null,"負荷設備",null,null,"電動機（高圧）",null,null,null,null,null,null,null,null,null,null,null,null,"ｋＷ",null,null,"（三相一括対地静電容量",null,null,null,null,null,null,null,null,null,null,null,"μＦ　※1）"]
[null,"発電方式",null,null,null,null,"蓄電池",null,null,null,null,"設備区分",null,null,null,"定格出力",null,null,null,null,null,null,"ｋＷ",null,null,null,null,null,"電動機（低圧）",null,null,null,null,null,null,null,null,null,null,null,null,"ｋＷ",null,null,null,null,null,null,null,null,null,null,null,null,null,null,null,null,null,null,null,null,false,false,false,null,null,null,null,null,null,null,false,false,false]
[null,"メーカー",null,null,null,null,null,null,null,null,null,null,null,null,null,null,null,null,null,null,null,null,null,null,null,null,null,null,"電灯",null,null,null,null,null,null,null,null,null,null,null,null,"ｋＷ",null,null,null,null,null,null,null,null,null,null,null,null,null,null,null,null,null,null,null,null,false,false,null,null,null,null,null,null,null,null,false,false]
[null,"型式",null,null,null,null,null,null,null,null,null,null,null,null,null,null,null,"台","（型式別出力）",null,null,null,{"$f":"IF(T13=\"\",\"\",T13*P15)","v":""},null,"ｋＷ",null,null,null,"合計",null,null,null,null,null,null,null,null,null,null,null,null,"ｋＷ",null,null,"（総合負荷力率",null,null,null,null,null,null,null,null,null,null,null,"％　※2）",null,null,null,null,null,false,false,null,null,null,null,null,null,null,null,false,false]
[null,"種類・方式",null,null,null,null,null,null,null,null,null,null,null,"定格電圧",null,null,null,null,"ｋＶ","系統並列箇所",null,null,null,null,null,null,null,null,"進相用コンデンサ\n（高圧）",null,null,null,null,null,null,null,null,null,null,null,"％リアクトル\nｋＶＡ",null,null,null,null,null,null,null,"％リアクトル\nｋＶＡ",null,null,null,null,null,null,null,"％リアクトル\nｋＶＡ"]
[null,"絶縁変圧器",null,null,null,null,null,null,null,null,null,null,"自動同期検定装置",null,null,null,null,null,"定格力率",null,null,null,null,null,"％"]
[null,"過電流制限値",null,null,null,null,"定格電流の",null,null,null,null,"％","高調波",null,null,"総合",null,null,null,"％","各次",null,null,null,"％",null,null,null,"進相用コンデンサ\n（低圧）",null,null,null,null,null,null,null,null,null,null,null,"％リアクトル\nｋＶＡ",null,null,null,null,null,null,null,"％リアクトル\nｋＶＡ",null,null,null,null,null,null,null,"％リアクトル\nｋＶＡ"]
[]
[null,null,null,null,null,null,null,null,null,null,null,null,null,null,null,null,null,null,null,null,null,null,null,null,null,null,null,null,"進相用コンデンサ\n合計",null,null,null,null,null,null,null,null,null,null,null,null,"ｋＶＡ"]
[]
[null,null,null,null,null,null,null,null,null,null,null,null,null,null,null,null,null,null,null,null,null,null,null,null,null,null,null,null,"制御方法",null,null,null,null,null,null,null,null,null,"自動力率調整装置",null,null,null,null,null,null,null,null,"タイマー制御",null,null,null,null,null,null,null,"なし"]
[null,null,null,null,null,null,null,null,null,null,null,null,null,null,null,null,null,null,null,null,null,null,null,null,null,"高調波発生負荷",null,null,null,null,null,null,null,null,null,null,null,null,"あり",null,null,null,null,"なし",null,"※3"]
[null,null,null,null,null,null,null,null,null,null,null,null,null,null,null,null,null,null,null,null,null,null,null,null,null,"電圧変動発生負荷",null,null,null,null,null,null,null,null,null,null,null,null,"あり",null,null,null,null,"なし",null,"※4",null,null,null,null,null,null,null,null,null,null,null,null,null,null,null,null,false,null,null,null,null,null,null,null,null,null,false]
[null,null,null,null,null,null,null,null,null,null,null,null,null,null,null,null,null,null,null,null,null,null,null,null,null,"※１　高圧電動機があり、かつケーブル引込の場合、記入してください。\n※２　総合負荷力率は、調相設備を含まないでください。\n※３　「あり」の場合で、６．６ｋＶ受電時５０ｋＶＡ超過のときは、別途「高調波流出電流計算書」を提出して\n      ください。\n※４　「あり」の場合、発生機器の仕様書等の鍾愛資料を提出してください。"]
[]
[]
[null,null,null,null,null,null,null,null,null,null,null,null,null,null,null,null,null,null,null,null,null,null,null,null,null,"7.サイバーセキュリティ対策"]
[null,null,null,null,null,null,null,null,null,null,null,null,null,null,null,null,null,null,null,null,null,null,null,null,null,"【留意事項】\n　系統連系に際して、サイバーセキュリティ対策の実施、セキュリティ管理責任者の氏名及び緊急時連絡先を通知いただく必要があるため、その確認をさせていただきます。"]
[null,null,null,null,null,null,null,null,null,null,null,null,null,null,null,null,null,null,null,null,null,null,null,null,null,null,null,null,null,null,null,null,null,null,null,null,null,null,null,null,null,null,null,null,null,null,null,null,null,null,null,null,null,null,null,null,null,null,null,null,null,null,false,null,null,null,null,null,null,null,null,null,false]
[null,null,null,null,null,null,null,null,null,null,null,null,null,null,null,null,null,null,null,null,null,null,null,null,null,"対策",null,null,null,"系統連系技術要件に基づいた以下のサイバーセキュリティ対策を実施します。\n・発電事業の用に供する場合は、電力制御システムセキュリティガイドラインに準拠すること。\n・発電事業の用に供さない場合は、以下の対策を講じること。\n １：外部ネットワークや他ネットワークを通じた発電設備の制御に係るシステムへの影響を最小化\n     するための対策\n ２：発電設備の制御に係るシステムへのマルウェアの侵入防止対策",null,null,null,null,null,null,null,null,null,null,null,null,null,null,null,null,null,null,null,null,null,null,null,null,null,null,null,null,null,null,null,null,false,null,null,null,null,null,null,null,null,null,false]
[null,null,null,null,null,null,null,null,null,null,null,null,null,null,null,null,null,null,null,null,null,null,null,null,null,null,null,null,null,null,null,null,null,null,null,null,null,null,null,null,null,null,null,null,null,null,null,null,null,null,null,null,null,null,null,null,null,null,null,null,null,null,false,null,null,null,null,null,null,null,null,null,false]
[null,null,null,null,null,null,null,null,null,null,null,null,null,null,null,null,null,null,null,null,null,null,null,null,null,null,null,null,null,null,null,null,null,null,null,null,null,null,null,null,null,null,null,null,null,null,null,null,null,null,null,null,null,null,null,null,null,null,null,null,null,null,false,null,null,null,null,null,null,null,null,null,false]
[null,null,null,null,null,null,null,null,null,null,null,null,null,null,null,null,null,null,null,null,null,null,null,null,null,null,null,null,null,null,null,null,null,null,null,null,null,null,null,null,null,null,null,null,null,null,null,null,null,null,null,null,null,null,null,null,null,null,null,null,null,null,false,null,null,null,null,null,null,null,null,null,false]
[null,null,null,null,null,null,null,null,null,null,null,null,null,null,null,null,null,null,null,null,null,null,null,null,null,null,null,"セキュリティ管理責任者",null,null,null,null,null,null,null,null,null,null,null,null,null,null,null,null,null,null,null,null,null,null,null,null,null,null,null,null,null,null,null,null,null,null,false]
[null,null,null,null,null,null,null,null,null,null,null,null,null,null,null,null,null,null,null,null,null,null,null,null,null,"8.添付資料"]
[null,null,null,null,null,null,null,null,null,null,null,null,null,null,null,null,null,null,null,null,null,null,null,null,null,null,null,"パワーコンディショナー仕様書\n（認証品の場合は提出不要）",null,null,null,null,null,null,null,null,null,null,null,null,null,null,null,null,"単線結線図（ＯＶＧＲ、ＲＰＲ、太陽光パネル\n（枚数含む）がどの部分に連系されているか明記）"]
[]
[null,null,null,null,null,null,null,null,null,null,null,null,null,null,null,null,null,null,null,null,null,null,null,null,null,null,null,"設備配置図\n（PCS、パネルの位置、台数や枚数を明記）",null,null,null,null,null,null,null,null,null,null,null,null,null,null,null,null,"ＰＣＳ代表機データ\n（認証品の場合、提出不要）"]
[]
[null,null,null,null,null,null,null,null,null,null,null,null,null,null,null,null,null,null,null,null,null,null,null,null,null,null,null,"ＯＶＧＲ、ＲＰＲ仕様書"]

{"sheet":"別紙３発電設備詳細（太陽光以外）・その他","index":7,"n_rows":44,"n_cols":73,"rows_kept":44,"cut":false,"hidden":true,"merged":[[23,25,23,35],[23,36,23,37],[23,38,23,40],[23,41,23,42],[23,43,23,44],[23,45,23,60],[21,25,22,35],[21,45,22,60],[21,43,22,44],[7,34,7,39],[7,40,7,60],[10,44,10,52],[21,41,22,42],[21,38,22,40],[21,36,22,37],[14,57,15,60],[16,28,17,35],[16,36,17,40],[16,41,17,43],[10,28,10,35],[10,36,10,40],[10,41,10,43],[8,56,8,58],[8,59,8,60],[8,43,8,44],[5,27,6,27],[5,46,5,51],[11,36,11,40],[11,41,11,60],[10,56,10,57],[10,58,10,60],[16,57,17,60],[12,28,12,35],[12,36,12,40],[12,41,12,60],[13,28,13,35],[13,36,13,40],[13,41,13,43],[13,44,13,52],[13,53,13,55],[13,56,13,57],[7,25,7,33],[8,35,8,37],[8,38,8,39],[8,40,8,42],[8,45,8,50],[8,51,8,53],[8,54,8,55],[13,58,13,60],[3,1,3,5],[3,6,3,10],[5,8,5,12],[5,18,5,20],[5,21,5,24],[6,1,6,5],[6,6,6,10],[6,11,6,12],[6,13,7,17],[6,18,6,24],[7,1,7,5],[7,6,7,10],[4,1,5,5],[4,6,4,12],[4,13,5,17],[4,18,4,24],[5,6,5,7],[7,11,7,12],[7,18,7,20],[7,21,7,24],[3,11,3,12],[3,13,3,14],[8,1,8,5],[8,6,8,7],[8,8,8,9],[8,10,8,11],[8,13,8,17],[8,18,8,21],[8,22,8,24],[9,1,9,5],[9,6,9,12],[9,13,9,17],[9,18,9,24],[10,1,10,5],[10,6,10,9],[10,10,10,12],[10,13,10,17],[10,18,10,19],[10,22,10,23],[15,23,15,24],[11,1,17,5],[11,6,11,15],[11,16,11,24],[12,6,12,11],[12,12,12,13],[12,16,12,20],[12,21,12,22],[12,23,12,24],[13,6,13,11],[13,12,13,13],[13,16,13,20],[16,6,16,7],[12,14,12,15],[15,14,15,15],[14,14,14,15],[13,14,13,15],[18,1,19,5],[19,6,19,12],[19,13,19,20],[19,21,19,24],[16,21,16,22],[13,21,13,22],[13,23,13,24],[14,6,14,11],[14,12,14,13],[14,16,14,20],[16,23,16,24],[17,6,17,7],[17,8,17,9],[17,10,17,11],[17,12,17,13],[17,14,17,15],[17,16,17,24],[16,8,16,9],[16,10,16,11],[16,12,16,13],[16,14,16,15],[16,16,16,20],[14,21,14,22],[14,23,14,24],[25,1,26,5],[25,6,25,12],[25,13,26,17],[25,18,25,24],[26,6,26,7],[26,8,26,12],[26,18,26,20],[26,21,26,24],[2,1,2,8],[23,1,23,8],[24,1,24,5],[24,6,24,10],[20,21,20,22],[20,23,20,24],[21,6,21,10],[21,11,21,12],[21,13,21,15],[21,16,21,20],[21,21,21,24],[20,1,21,5],[20,6,20,10],[20,11,20,13],[20,14,20,15],[20,16,20,20],[27,1,27,5],[27,6,27,10],[27,11,27,12],[27,13,28,17],[27,18,27,24],[28,1,28,5],[28,6,28,10],[28,11,28,12],[28,18,28,20],[28,21,28,24],[31,1,31,5],[31,6,31,9],[31,10,31,12],[31,13,31,17],[31,18,31,19],[29,18,29,21],[29,22,29,24],[30,1,30,5],[30,6,30,12],[30,13,30,17],[30,18,30,24],[29,1,29,5],[29,6,29,7],[29,8,29,9],[29,10,29,11],[29,13,29,17],[31,22,31,23],[33,12,33,13],[33,16,33,20],[33,21,33,22],[33,23,33,24],[34,6,34,11],[34,12,34,13],[34,16,34,20],[34,21,34,22],[34,23,34,24],[34,14,34,15],[33,14,33,15],[43,1,44,24],[37,8,37,9],[37,10,37,11],[37,12,37,13],[37,14,37,15],[37,16,37,20],[37,6,37,7],[41,1,42,5],[41,6,41,10],[41,11,41,13],[41,14,41,15],[41,16,41,20],[42,6,42,10],[42,11,42,12],[42,13,42,15],[42,16,42,20],[42,21,42,24],[32,1,38,5],[35,16,35,20],[35,21,35,22],[35,23,35,24],[32,6,32,15],[32,16,32,24],[33,6,33,11],[37,21,37,22],[37,23,37,24],[36,12,36,13],[36,16,36,20],[36,21,36,22],[36,23,36,24],[39,14,39,24],[41,21,41,22],[41,23,41,24],[38,8,38,9],[38,10,38,11],[38,12,38,13],[38,14,38,15],[38,16,38,24],[39,1,40,5],[40,6,40,12],[40,13,40,20],[40,21,40,24],[39,6,39,7],[39,8,39,10],[35,6,35,11],[35,12,35,13],[36,14,36,15],[35,14,35,15],[40,25,41,26],[40,27,41,41],[40,42,41,43],[40,44,41,60],[28,25,29,60],[34,27,34,36],[34,37,34,60],[36,25,37,26],[36,27,37,41],[36,42,37,43],[36,44,37,60],[30,29,33,60],[30,27,33,28],[30,25,34,26],[38,25,39,26],[38,27,39,41],[38,42,39,43],[38,44,39,60],[36,6,36,11],[38,6,38,7],[24,25,26,60],[10,53,10,55],[11,28,11,35],[3,52,3,56],[15,6,15,11],[15,12,15,13],[15,16,15,20],[15,21,15,22],[5,40,5,45],[5,52,5,56],[5,57,5,58],[18,6,18,7],[18,8,18,10],[18,14,18,24],[24,11,24,12],[24,13,24,14],[20,28,20,35],[20,36,20,37],[20,38,20,44],[20,45,20,46],[20,47,20,52],[20,53,20,54],[20,55,20,60],[8,25,8,34],[10,25,20,27],[18,28,19,35],[18,36,19,40],[18,41,19,60],[14,28,15,35],[16,44,17,48],[16,49,17,51],[16,52,17,56],[14,49,15,51],[14,52,15,56],[14,36,15,40],[14,41,15,43],[14,44,15,48],[2,25,2,33],[2,34,2,37],[2,38,2,40],[2,42,2,45],[2,46,2,60],[6,42,6,47],[6,48,6,60],[3,32,3,39],[3,28,3,31],[4,28,4,31],[4,32,4,41],[5,28,5,31],[5,32,5,39],[6,28,6,31],[6,32,6,41],[4,42,4,47],[4,48,4,60],[5,59,5,60],[3,57,3,58],[3,59,3,60],[3,25,6,26],[3,40,3,45],[3,46,3,51],[3,27,4,27]]}
[null,"※黄色の箇所をご入力ください。入力内容についてはメーカーのカタログ等を参照してください。",null,null,null,null,null,null,null,null,null,null,null,null,null,null,null,null,null,null,null,null,null,null,null,"※黄色の箇所をご入力ください。"]
[null,"4.連系する発電設備",null,null,null,null,null,null,null,null,null,null,null,null,null,null,null,null,null,null,null,null,null,null,null,"5.系統連系に関するその他確認事項"]
[null,"１種類目",null,null,null,null,null,null,null,null,null,null,null,null,null,null,null,null,null,null,null,null,null,null,null,"主遮断器（遮断容量）",null,null,null,null,null,null,null,null,null,null,null,null,"ｋＶＡ",null,null,"（",null,null,null,null,"ｋＡ）"]
[null,"発電方式",null,null,null,null,null,null,null,null,null,"設備区分",null,null,null,null,null,null,null,null,null,null,null,null,null,"解列箇所",null,"①","解列箇所",null,null,null,null,null,null,null,null,null,null,null,"遮断機種類",null,null,null,null,null,null,null,null,null,null,null,"定格遮断時間",null,null,null,null,null,null,"ｓ"]
[null,"発電機・電池",null,null,null,null,null,null,null,null,null,null,null,"原動機",null,null,null,null,null,null,null,null,null,null,null,null,null,null,"メーカー",null,null,null,null,null,null,null,null,null,null,null,null,null,"型式"]
[null,null,null,null,null,null,"その他：",null,null,null,null,null,null,null,null,null,null,null,"その他：",null,null,null,null,null,null,null,null,"②","解列箇所",null,null,null,null,null,null,null,null,null,null,null,"遮断機種類",null,null,null,null,null,null,null,null,null,null,null,"定格遮断時間",null,null,null,null,null,null,"ｓ"]
[null,"定格容量",null,null,null,null,null,null,null,null,null,"ｋＶＡ",null,"用途",null,null,null,null,null,null,null,null,null,null,null,null,null,null,"メーカー",null,null,null,null,null,null,null,null,null,null,null,null,null,"型式"]
[null,"定格電圧",null,null,null,null,null,null,null,null,null,"ｋＶ",null,null,null,null,null,null,"その他：",null,null,null,null,null,null,"単独運転検出機能",null,null,null,null,null,null,null,null,null,null,null,null,null,null,"※「あり」の場合、詳細資料を提出してください。"]
[null,"定格出力",null,null,null,null,null,null,"ｋＷ ×",null,null,null,"台","最大並列台数",null,null,null,null,null,null,null,null,"台",null,null,"ＣＴ比（変流比）",null,null,null,null,null,null,null,null,null,null,null,null,"Ａ／",null,null,null,null,"Ａ",null,"ＶＴ比（変圧比）",null,null,null,null,null,null,null,null,"Ｖ／",null,null,null,null,"Ｖ"]
[null,"メーカー",null,null,null,null,null,null,null,null,null,null,null,"型式",null,null,null,null,null,null,null,null,null,null,null,"6.負荷設備"]
[null,"定格力率",null,null,null,null,null,null,null,null,"％",null,null,"運転可能力率",null,null,null,null,null,null,"％","～",null,null,"％","負荷設備",null,null,"電動機（高圧）",null,null,null,null,null,null,null,null,null,null,null,null,"ｋＷ",null,null,"（三相一括対地静電容量",null,null,null,null,null,null,null,null,null,null,null,"μＦ）",null,"※1"]
[null,"電気定数　※１\n（定格容量ﾍﾞｰｽ）\n設計値・実測値\n",null,null,null,null,"同期発電機（不飽和値）",null,null,null,null,null,null,null,null,null,"誘導発電機",null,null,null,null,null,null,null,null,null,null,null,"電動機（低圧）",null,null,null,null,null,null,null,null,null,null,null,null,"ｋＷ"]
[null,null,null,null,null,null,"過渡リアクタンス　",null,null,null,null,null,null,null,"p.u.",null,"拘束リアクタンス",null,null,null,null,null,null,"p.u.",null,null,null,null,"電灯",null,null,null,null,null,null,null,null,null,null,null,null,"ｋＷ",null,null,null,null,null,null,null,null,null,null,null,null,null,null,null,null,null,null,null,null,false,false,false]
[null,null,null,null,null,null,"初期過渡リアクタンス ",null,null,null,null,null,null,null,"p.u.",null,"励磁リアクタンス",null,null,null,null,null,null,"p.u.",null,null,null,null,"合計",null,null,null,null,null,null,null,null,null,null,null,null,"ｋＷ",null,null,"（総合負荷力率",null,null,null,null,null,null,null,null,null,null,null,"％）",null,"※2",null,null,null,false,false]
[null,null,null,null,null,null,"同期リアクタンス",null,null,null,null,null,null,null,"p.u.",null,"二次漏れリアクタンス",null,null,null,null,null,null,"p.u.",null,null,null,null,"進相用コンデンサ\n（高圧）",null,null,null,null,null,null,null,null,null,null,null,null,"％リアクトル\nｋＶＡ",null,null,null,null,null,null,null,"％リアクトル\nｋＶＡ",null,null,null,null,null,null,null,"％リアクトル\nｋＶＡ",null,null,null,null,false,false]
[null,null,null,null,null,null,"慣性定数　　　　　　　",null,null,null,null,null,null,null,"Sec",null,"二次抵抗",null,null,null,null,null,null,"p.u."]
[null,null,null,null,null,null,"時定数",null,"Td'",null,null,null,"Td\"",null,null,null,"限流リアクトル容量",null,null,null,null,null,null,"kVA",null,null,null,null,"進相用コンデンサ\n（低圧）",null,null,null,null,null,null,null,null,null,null,null,null,"％リアクトル\nｋＶＡ",null,null,null,null,null,null,null,"％リアクトル\nｋＶＡ",null,null,null,null,null,null,null,"％リアクトル\nｋＶＡ"]
[null,null,null,null,null,null,"(Sec)",null,"Tdo'",null,null,null,"Tdo\"",null,null,null,null,null,null,null,null,null,null,null,null,null,null,null,null,null,null,null,null,null,null,null,null,null,null,null,null,null,null,null,null,null,null,null,null,null,null,null,null,null,null,null,null,null,null,null,null,null,false,false,false]
[null,"制　動　巻　線\n(同期発電機の場合)",null,null,null,null,null,null,"あり",null,null,null,"なし",null,"ありと同様の機能あり",null,null,null,null,null,null,null,null,null,null,null,null,null,"進相用コンデンサ\n合計",null,null,null,null,null,null,null,null,null,null,null,null,"ｋＶＡ"]
[null,null,null,null,null,null,"（構造等：",null,null,null,null,null,null,null,null,null,null,null,null,null,null,"）"]
[null,"自動同期検定装置\n（投入条件）",null,null,null,null,"電圧差",null,null,null,null,null,null,null,"％",null,"前進時間",null,null,null,null,null,null,"ｓ",null,null,null,null,"制御方法",null,null,null,null,null,null,null,null,null,"自動力率調整装置",null,null,null,null,null,null,null,null,"タイマー制御",null,null,null,null,null,null,null,"なし"]
[null,null,null,null,null,null,"周波数差",null,null,null,null,null,null,"Ｈｚ",null,null,"系統並列箇所",null,null,null,null,null,null,null,null,"高調波発生負荷",null,null,null,null,null,null,null,null,null,null,null,null,"あり",null,null,null,null,"なし",null,"※3"]
[]
[null,"２種類目",null,null,null,null,null,null,null,null,null,null,null,null,null,null,null,null,null,null,null,null,null,null,null,"電圧変動発生負荷",null,null,null,null,null,null,null,null,null,null,null,null,"あり",null,null,null,null,"なし",null,"※4",null,null,null,null,null,null,null,null,null,null,null,null,null,null,null,null,null,null,null,null,null,null,null,null,null,null,false]
[null,"発電方式",null,null,null,null,null,null,null,null,null,"設備区分",null,null,null,null,null,null,null,null,null,null,null,null,null,"※１　高圧電動機があり、かつケーブル引込の場合、記入してください。\n※２　総合負荷力率は、調相設備を含まないでください。\n※３　「あり」の場合で、６．６ｋＶ受電時５０ｋＶＡ超過のときは、別途「高調波流出電流計算書」を提出して\n      ください。\n※４　「あり」の場合、発生機器の仕様書等の鍾愛資料を提出してください。"]
[null,"発電機・電池",null,null,null,null,null,null,null,null,null,null,null,"原動機"]
[null,null,null,null,null,null,"その他：",null,null,null,null,null,null,null,null,null,null,null,"その他："]
[null,"定格容量",null,null,null,null,null,null,null,null,null,"ｋＶＡ",null,"用途",null,null,null,null,null,null,null,null,null,null,null,"7.サイバーセキュリティ対策"]
[null,"定格電圧",null,null,null,null,null,null,null,null,null,"ｋＶ",null,null,null,null,null,null,"その他：",null,null,null,null,null,null,"【留意事項】\n　系統連系に際して、サイバーセキュリティ対策の実施、セキュリティ管理責任者の氏名及び緊急時連絡先を通知いただく必要があるため、その確認をさせていただきます。"]
[null,"定格出力",null,null,null,null,null,null,"ｋＷ ×",null,null,null,"台","最大並列台数",null,null,null,null,null,null,null,null,"台"]
[null,"メーカー",null,null,null,null,null,null,null,null,null,null,null,"型式",null,null,null,null,null,null,null,null,null,null,null,"対策",null,null,null,"系統連系技術要件に基づいた以下のサイバーセキュリティ対策を実施します。\n・発電事業の用に供する場合は、電力制御システムセキュリティガイドラインに準拠すること。\n・発電事業の用に供さない場合は、以下の対策を講じること。\n １：外部ネットワークや他ネットワークを通じた発電設備の制御に係るシステムへの影響を最小化\n     するための対策\n ２：発電設備の制御に係るシステムへのマルウェアの侵入防止対策",null,null,null,null,null,null,null,null,null,null,null,null,null,null,null,null,null,null,null,null,null,null,null,null,null,null,null,null,null,null,null,null,null,null,null,null,null,null,null,null,null,null,false]
[null,"定格力率",null,null,null,null,null,null,null,null,"％",null,null,"運転可能力率",null,null,null,null,null,null,"％","～",null,null,"％",null,null,null,null,null,null,null,null,null,null,null,null,null,null,null,null,null,null,null,null,null,null,null,null,null,null,null,null,null,null,null,null,null,null,null,null,null,null,null,null,null,null,null,null,null,null,null,false]
[null,"電気定数　※１\n（定格容量ﾍﾞｰｽ）\n設計値・実測値\n",null,null,null,null,"同期発電機（不飽和値）",null,null,null,null,null,null,null,null,null,"誘導発電機",null,null,null,null,null,null,null,null,null,null,null,null,null,null,null,null,null,null,null,null,null,null,null,null,null,null,null,null,null,null,null,null,null,null,null,null,null,null,null,null,null,null,null,null,null,null,null,null,null,null,null,null,null,null,null,false]
[null,null,null,null,null,null,"過渡リアクタンス　",null,null,null,null,null,null,null,"p.u.",null,"拘束リアクタンス",null,null,null,null,null,null,"p.u.",null,null,null,null,null,null,null,null,null,null,null,null,null,null,null,null,null,null,null,null,null,null,null,null,null,null,null,null,null,null,null,null,null,null,null,null,null,null,null,null,null,null,null,null,null,null,null,null,false]
[null,null,null,null,null,null,"初期過渡リアクタンス ",null,null,null,null,null,null,null,"p.u.",null,"励磁リアクタンス",null,null,null,null,null,null,"p.u.",null,null,null,"セキュリティ管理責任者",null,null,null,null,null,null,null,null,null,null,null,null,null,null,null,null,null,null,null,null,null,null,null,null,null,null,null,null,null,null,null,null,null,null,null,null,null,null,null,null,null,null,null,null,false]
[null,null,null,null,null,null,"同期リアクタンス",null,null,null,null,null,null,null,"p.u.",null,"二次漏れリアクタンス",null,null,null,null,null,null,"p.u.",null,"8.添付資料",null,null,null,null,null,null,null,null,null,null,null,null,null,null,null,null,null,null,null,null,null,null,null,null,null,null,null,null,null,null,null,null,null,null,null,null,null,null,null,null,null,null,null,null,null,null,false]
[null,null,null,null,null,null,"慣性定数　　　　　　　",null,null,null,null,null,null,null,"Sec",null,"二次抵抗",null,null,null,null,null,null,"p.u.",null,null,null,"パワーコンディショナー仕様書\n（認証品の場合は提出不要）",null,null,null,null,null,null,null,null,null,null,null,null,null,null,null,null,"単線結線図（ＯＶＧＲ、ＲＰＲ、太陽光パネル\n（枚数含む）がどの部分に連系されているか明記）"]
[null,null,null,null,null,null,"時定数",null,"Td'",null,null,null,"Td\"",null,null,null,"限流リアクトル容量",null,null,null,null,null,null,"kVA"]
[null,null,null,null,null,null,"(Sec)",null,"Tdo'",null,null,null,"Tdo\"",null,null,null,null,null,null,null,null,null,null,null,null,null,null,"設備配置図\n（PCS、パネルの位置、台数や枚数を明記）",null,null,null,null,null,null,null,null,null,null,null,null,null,null,null,null,"ＰＣＳ代表機データ\n（認証品の場合、提出不要）"]
[null,"制　動　巻　線\n(同期発電機の場合)",null,null,null,null,null,null,"あり",null,null,null,"なし",null,"ありと同様の機能あり",null,null,null,null,null,null,null,null,null,null,null,null,null,null,null,null,null,null,null,null,null,null,null,null,null,null,null,null,null,null,null,null,null,null,null,null,null,null,null,null,null,null,null,null,null,null,null,false,false,false]
[null,null,null,null,null,null,"（構造等：",null,null,null,null,null,null,null,null,null,null,null,null,null,null,"）",null,null,null,null,null,"ＯＶＧＲ、ＲＰＲ仕様書",null,null,null,null,null,null,null,null,null,null,null,null,null,null,null,null,"太陽光以外の機器仕様書"]
[null,"自動同期検定装置\n（投入条件）",null,null,null,null,"電圧差",null,null,null,null,null,null,null,"％",null,"前進時間",null,null,null,null,null,null,"ｓ"]
[null,null,null,null,null,null,"周波数差",null,null,null,null,null,null,"Ｈｚ",null,null,"系統並列箇所"]
[null,"※１　電気定数の各項目については，わかる範囲で記入してください。未定の項目については，標準的な数値を使用し\n　　　検討を行います。"]

{"sheet":"別紙　発電設備詳細・その他","index":8,"n_rows":88,"n_cols":75,"rows_kept":88,"cut":false,"hidden":true,"merged":[[15,14,15,15],[14,14,14,15],[36,14,36,15],[35,14,35,15],[34,14,34,15],[33,14,33,15],[28,35,29,70],[34,37,34,46],[34,47,34,70],[30,39,33,70],[30,37,33,38],[30,35,34,36],[21,21,21,24],[15,21,15,22],[24,35,26,70],[14,46,15,50],[21,55,22,70],[21,53,22,54],[21,51,22,52],[21,48,22,50],[21,46,22,47],[36,35,36,36],[36,37,36,51],[36,52,36,53],[36,54,36,70],[37,35,37,36],[37,37,37,51],[37,52,37,53],[37,54,37,70],[10,35,20,37],[10,38,10,45],[10,46,10,50],[10,51,10,53],[10,54,10,62],[10,63,10,65],[21,35,22,45],[23,35,23,45],[23,46,23,47],[23,48,23,50],[23,51,23,52],[23,53,23,54],[23,55,23,70],[16,54,17,58],[16,59,17,61],[16,62,17,66],[16,67,17,70],[14,38,15,45],[12,38,12,45],[3,56,3,61],[3,62,3,66],[6,42,6,51],[6,52,6,57],[6,58,6,70],[3,67,3,68],[3,69,3,70],[7,50,7,70],[8,69,8,70],[7,35,7,43],[7,44,7,49],[8,35,8,44],[8,45,8,47],[8,48,8,49],[8,50,8,52],[8,53,8,54],[8,55,8,60],[8,61,8,63],[3,35,6,36],[3,37,4,37],[3,38,3,41],[3,42,3,49],[4,38,4,41],[4,42,4,51],[20,6,20,10],[8,64,8,65],[8,66,8,68],[14,51,15,53],[14,54,15,58],[14,59,15,61],[18,38,19,45],[18,46,19,50],[18,51,19,70],[20,38,20,45],[20,46,20,47],[20,48,20,54],[20,55,20,56],[20,57,20,62],[20,63,20,64],[20,65,20,70],[10,66,10,70],[11,38,11,45],[11,46,11,50],[11,51,11,70],[17,6,17,7],[9,6,9,12],[9,13,9,17],[9,18,9,24],[43,1,43,24],[18,1,19,5],[19,6,19,12],[19,13,19,20],[19,21,19,24],[20,1,21,5],[20,11,20,13],[20,14,20,15],[20,16,20,20],[20,21,20,22],[20,23,20,24],[21,6,21,10],[21,11,21,12],[21,13,21,15],[21,16,21,20],[25,1,26,5],[25,6,25,12],[25,13,26,17],[25,18,25,24],[26,6,26,7],[26,8,26,12],[26,18,26,20],[27,1,27,5],[18,6,18,7],[6,1,6,5],[12,16,12,20],[12,21,12,22],[17,12,17,13],[17,14,17,15],[17,16,17,24],[15,23,15,24],[16,8,16,9],[16,10,16,11],[16,12,16,13],[16,14,16,15],[16,16,16,20],[16,21,16,22],[16,23,16,24],[17,8,17,9],[17,10,17,11],[14,6,14,11],[14,12,14,13],[14,16,14,20],[14,21,14,22],[15,6,15,11],[15,12,15,13],[16,6,16,7],[12,14,12,15],[12,23,12,24],[13,6,13,11],[13,12,13,13],[13,16,13,20],[13,21,13,22],[13,23,13,24],[10,6,10,9],[10,10,10,12],[10,13,10,17],[10,18,10,19],[10,22,10,23],[13,14,13,15],[7,1,7,5],[4,1,5,5],[4,6,4,12],[4,13,5,17],[8,10,8,11],[15,16,15,20],[18,8,18,10],[18,14,18,24],[4,18,4,24],[6,6,6,10],[6,11,6,12],[6,13,7,17],[6,18,6,24],[7,6,7,10],[7,11,7,12],[5,18,5,20],[5,8,5,12],[7,18,7,20],[5,21,5,24],[7,21,7,24],[5,6,5,7],[8,18,8,21],[8,22,8,24],[9,1,9,5],[28,1,28,5],[28,6,28,10],[28,11,28,12],[28,18,28,20],[28,21,28,24],[2,1,2,8],[23,1,23,8],[24,1,24,5],[24,6,24,10],[14,23,14,24],[10,1,10,5],[8,1,8,5],[8,13,8,17],[11,1,17,5],[11,6,11,15],[11,16,11,24],[12,6,12,11],[12,12,12,13],[8,6,8,7],[8,8,8,9],[3,1,3,5],[3,11,3,12],[3,13,3,14],[3,6,3,10],[35,16,35,20],[35,21,35,22],[35,23,35,24],[29,1,29,5],[29,6,29,7],[29,8,29,9],[29,10,29,11],[29,13,29,17],[29,18,29,21],[29,22,29,24],[30,1,30,5],[30,6,30,12],[30,13,30,17],[30,18,30,24],[39,6,39,7],[39,8,39,10],[39,14,39,24],[31,1,31,5],[31,6,31,9],[31,10,31,12],[31,13,31,17],[31,18,31,19],[31,22,31,23],[32,1,38,5],[32,6,32,15],[32,16,32,24],[33,6,33,11],[33,12,33,13],[33,16,33,20],[33,21,33,22],[33,23,33,24],[34,6,34,11],[34,12,34,13],[34,16,34,20],[34,21,34,22],[34,23,34,24],[35,6,35,11],[35,12,35,13],[27,13,28,17],[27,18,27,24],[41,1,42,5],[41,6,41,10],[41,11,41,13],[41,14,41,15],[41,16,41,20],[41,21,41,22],[41,23,41,24],[42,6,42,10],[42,11,42,12],[42,13,42,15],[42,16,42,20],[42,21,42,24],[39,1,40,5],[40,6,40,12],[40,13,40,20],[40,21,40,24],[36,6,36,11],[37,14,37,15],[37,16,37,20],[37,21,37,22],[37,23,37,24],[37,6,37,7],[5,50,5,55],[5,56,5,61],[5,62,5,66],[5,67,5,68],[5,69,5,70],[6,38,6,41],[24,11,24,12],[24,13,24,14],[38,6,38,7],[38,8,38,9],[38,10,38,11],[38,12,38,13],[38,14,38,15],[38,16,38,24],[26,21,26,24],[36,12,36,13],[36,16,36,20],[36,21,36,22],[36,23,36,24],[37,8,37,9],[37,10,37,11],[37,12,37,13],[27,6,27,10],[27,11,27,12],[14,62,15,66],[14,67,15,70],[16,38,17,45],[16,46,17,50],[16,51,17,53],[3,50,3,55],[2,35,2,43],[2,44,2,47],[2,48,2,50],[2,52,2,55],[2,56,2,70],[12,46,12,50],[12,51,12,70],[13,38,13,45],[13,46,13,50],[13,51,13,53],[13,54,13,62],[13,63,13,65],[13,66,13,70],[4,52,4,57],[4,58,4,70],[5,37,6,37],[5,38,5,41],[5,42,5,49]]}
[null,"※黄色の箇所をご入力ください。入力内容についてはメーカーのカタログ等を参照してください。",null,null,null,null,null,null,null,null,null,null,null,null,null,null,null,null,null,null,null,null,null,null,null,null,null,null,null,null,null,null,null,null,null,"※黄色の箇所をご入力ください。"]
[null,"1.連系する発電設備",null,null,null,null,null,null,null,null,null,null,null,null,null,null,null,null,null,null,null,null,null,null,null,null,null,null,null,null,null,null,null,null,null,"2.系統連系に関するその他確認事項"]
[null,"１種類目",null,null,null,null,null,null,null,null,null,null,null,null,null,null,null,null,null,null,null,null,null,null,null,null,null,null,null,null,null,null,null,null,null,"主遮断器（遮断容量）",null,null,null,null,null,null,null,null,null,null,null,null,"ｋＶＡ",null,null,"（",null,null,null,null,"ｋＡ）"]
[null,"発電方式",null,null,null,null,null,null,null,null,null,"設備区分",null,null,null,null,null,null,null,null,null,null,null,null,null,null,null,null,null,null,null,null,null,null,null,"解列箇所",null,"①","解列箇所",null,null,null,null,null,null,null,null,null,null,null,"遮断機種類",null,null,null,null,null,null,null,null,null,null,null,"定格遮断時間",null,null,null,null,null,null,"ｓ"]
[null,"発電機・電池",null,null,null,null,null,null,null,null,null,null,null,"原動機",null,null,null,null,null,null,null,null,null,null,null,null,null,null,null,null,null,null,null,null,null,null,null,null,"メーカー",null,null,null,null,null,null,null,null,null,null,null,null,null,"型式"]
[null,null,null,null,null,null,"その他：",null,null,null,null,null,null,null,null,null,null,null,"その他：",null,null,null,null,null,null,null,null,null,null,null,null,null,null,null,null,null,null,"②","解列箇所",null,null,null,null,null,null,null,null,null,null,null,"遮断機種類",null,null,null,null,null,null,null,null,null,null,null,"定格遮断時間",null,null,null,null,null,null,"ｓ"]
[null,"定格容量",null,null,null,null,null,null,null,null,null,"ｋＶＡ",null,"用途",null,null,null,null,null,null,null,null,null,null,null,null,null,null,null,null,null,null,null,null,null,null,null,null,"メーカー",null,null,null,null,null,null,null,null,null,null,null,null,null,"型式"]
[null,"定格電圧",null,null,null,null,null,null,null,null,null,"ｋＶ",null,null,null,null,null,null,"その他：",null,null,null,null,null,null,null,null,null,null,null,null,null,null,null,null,"単独運転検出機能",null,null,null,null,null,null,null,null,null,null,null,null,null,null,"※「あり」の場合、詳細資料を提出してください。"]
[null,"定格出力",null,null,null,null,null,null,"ｋＷ ×",null,null,null,"台","最大並列台数",null,null,null,null,null,null,null,null,"台",null,null,null,null,null,null,null,null,null,null,null,null,"ＣＴ比（変流比）",null,null,null,null,null,null,null,null,null,null,null,null,"Ａ／",null,null,null,null,"Ａ",null,"ＶＴ比（変圧比）",null,null,null,null,null,null,null,null,"Ｖ／",null,null,null,null,"Ｖ"]
[null,"メーカー",null,null,null,null,null,null,null,null,null,null,null,"型式",null,null,null,null,null,null,null,null,null,null,null,null,null,null,null,null,null,null,null,null,null,"3.負荷設備"]
[null,"定格力率",null,null,null,null,null,null,null,null,"％",null,null,"運転可能力率",null,null,null,null,null,null,"％","～",null,null,"％",null,null,null,null,null,null,null,null,null,null,"負荷設備",null,null,"電動機（高圧）",null,null,null,null,null,null,null,null,null,null,null,null,"ｋＷ",null,null,"（三相一括対地静電容量",null,null,null,null,null,null,null,null,null,null,null,"μＦ　※1）"]
[null,"電気定数　※１\n（定格容量ﾍﾞｰｽ）\n設計値・実測値\n",null,null,null,null,"同期発電機（不飽和値）",null,null,null,null,null,null,null,null,null,"誘導発電機",null,null,null,null,null,null,null,null,null,null,null,null,null,null,null,null,null,null,null,null,null,"電動機（低圧）",null,null,null,null,null,null,null,null,null,null,null,null,"ｋＷ"]
[null,null,null,null,null,null,"過渡リアクタンス　",null,null,null,null,null,null,null,"p.u.",null,"拘束リアクタンス",null,null,null,null,null,null,"p.u.",null,null,null,null,null,null,null,null,null,null,null,null,null,null,"電灯",null,null,null,null,null,null,null,null,null,null,null,null,"ｋＷ"]
[null,null,null,null,null,null,"初期過渡リアクタンス ",null,null,null,null,null,null,null,"p.u.",null,"励磁リアクタンス",null,null,null,null,null,null,"p.u.",null,null,null,null,null,null,null,null,null,null,null,null,null,null,"合計",null,null,null,null,null,null,null,null,null,null,null,null,"ｋＷ",null,null,"（総合負荷力率",null,null,null,null,null,null,null,null,null,null,null,"％　※2）"]
[null,null,null,null,null,null,"同期リアクタンス",null,null,null,null,null,null,null,"p.u.",null,"二次漏れリアクタンス",null,null,null,null,null,null,"p.u.",null,null,null,null,null,null,null,null,null,null,null,null,null,null,"進相用コンデンサ\n（高圧）",null,null,null,null,null,null,null,null,null,null,null,null,"％リアクトル\nｋＶＡ",null,null,null,null,null,null,null,"％リアクトル\nｋＶＡ",null,null,null,null,null,null,null,"％リアクトル\nｋＶＡ"]
[null,null,null,null,null,null,"慣性定数　　　　　　　",null,null,null,null,null,null,null,"Sec",null,"二次抵抗",null,null,null,null,null,null,"p.u."]
[null,null,null,null,null,null,"時定数",null,"Td'",null,null,null,"Td\"",null,null,null,"限流リアクトル容量",null,null,null,null,null,null,"kVA",null,null,null,null,null,null,null,null,null,null,null,null,null,null,"進相用コンデンサ\n（低圧）",null,null,null,null,null,null,null,null,null,null,null,null,"％リアクトル\nｋＶＡ",null,null,null,null,null,null,null,"％リアクトル\nｋＶＡ",null,null,null,null,null,null,null,"％リアクトル\nｋＶＡ"]
[null,null,null,null,null,null,"(Sec)",null,"Tdo'",null,null,null,"Tdo\""]
[null,"制　動　巻　線\n(同期発電機の場合)",null,null,null,null,null,null,"あり",null,null,null,"なし",null,"ありと同様の機能あり",null,null,null,null,null,null,null,null,null,null,null,null,null,null,null,null,null,null,null,null,null,null,null,"進相用コンデンサ\n合計",null,null,null,null,null,null,null,null,null,null,null,null,"ｋＶＡ",null,null,null,null,null,null,null,null,null,null,null,null,null,null,null,null,null,null,null,null,false,false,false]
[null,null,null,null,null,null,"（構造等：",null,null,null,null,null,null,null,null,null,null,null,null,null,null,"）",null,null,null,null,null,null,null,null,null,null,null,null,null,null,null,null,null,null,null,null,null,null,null,null,null,null,null,null,null,null,null,null,null,null,null,null,null,null,null,null,null,null,null,null,null,null,null,null,null,null,false,false]
[null,"自動同期検定装置\n（投入条件）",null,null,null,null,"電圧差",null,null,null,null,null,null,null,"％",null,"前進時間",null,null,null,null,null,null,"ｓ",null,null,null,null,null,null,null,null,null,null,null,null,null,null,"制御方法",null,null,null,null,null,null,null,null,null,"自動力率調整装置",null,null,null,null,null,null,null,null,"タイマー制御",null,null,null,null,null,null,null,"なし",null,null,null,null,null,null,false,false]
[null,null,null,null,null,null,"周波数差",null,null,null,null,null,null,"Ｈｚ",null,null,"系統並列箇所",null,null,null,null,null,null,null,null,null,null,null,null,null,null,null,null,null,null,"高調波発生負荷",null,null,null,null,null,null,null,null,null,null,null,null,"あり",null,null,null,null,"なし",null,"※3"]
[]
[null,"２種類目",null,null,null,null,null,null,null,null,null,null,null,null,null,null,null,null,null,null,null,null,null,null,null,null,null,null,null,null,null,null,null,null,null,"電圧変動発生負荷",null,null,null,null,null,null,null,null,null,null,null,null,"あり",null,null,null,null,"なし",null,"※4"]
[null,"発電方式",null,null,null,null,null,null,null,null,null,"設備区分",null,null,null,null,null,null,null,null,null,null,null,null,null,null,null,null,null,null,null,null,null,null,null,"※１　高圧電動機があり、かつケーブル引込の場合、記入してください。\n※２　総合負荷力率は、調相設備を含まないでください。\n※３　「あり」の場合で、６．６ｋＶ受電時５０ｋＶＡ超過のときは、別途「高調波流出電流計算書」を提出してください。\n※４　「あり」の場合、発生機器の仕様書等の鍾愛資料を提出してください。"]
[null,"発電機・電池",null,null,null,null,null,null,null,null,null,null,null,"原動機"]
[null,null,null,null,null,null,"その他：",null,null,null,null,null,null,null,null,null,null,null,"その他："]
[null,"定格容量",null,null,null,null,null,null,null,null,null,"ｋＶＡ",null,"用途",null,null,null,null,null,null,null,null,null,null,null,null,null,null,null,null,null,null,null,null,null,"4.サイバーセキュリティ対策"]
[null,"定格電圧",null,null,null,null,null,null,null,null,null,"ｋＶ",null,null,null,null,null,null,"その他：",null,null,null,null,null,null,null,null,null,null,null,null,null,null,null,null,"【留意事項】\n　系統連系に際して、サイバーセキュリティ対策の実施、セキュリティ管理責任者の氏名及び緊急時連絡先を通知いただく必要があるため、その確認をさせていただきます。",null,null,null,null,null,null,null,null,null,null,null,null,null,null,null,null,null,null,null,null,null,null,null,null,null,null,null,null,null,null,null,null,null,null,null,null,false,false,false]
[null,"定格出力",null,null,null,null,null,null,"ｋＷ ×",null,null,null,"台","最大並列台数",null,null,null,null,null,null,null,null,"台"]
[null,"メーカー",null,null,null,null,null,null,null,null,null,null,null,"型式",null,null,null,null,null,null,null,null,null,null,null,null,null,null,null,null,null,null,null,null,null,"対策",null,null,null,"系統連系技術要件に基づいた以下のサイバーセキュリティ対策を実施します。\n・発電事業の用に供する場合は、電力制御システムセキュリティガイドラインに準拠すること。\n・発電事業の用に供さない場合は、以下の対策を講じること。\n １：外部ネットワークや他ネットワークを通じた発電設備の制御に係るシステムへの影響を最小化するための対策\n ２：発電設備の制御に係るシステムへのマルウェアの侵入防止対策"]
[null,"定格力率",null,null,null,null,null,null,null,null,"％",null,null,"運転可能力率",null,null,null,null,null,null,"％","～",null,null,"％"]
[null,"電気定数　※１\n（定格容量ﾍﾞｰｽ）\n設計値・実測値\n",null,null,null,null,"同期発電機（不飽和値）",null,null,null,null,null,null,null,null,null,"誘導発電機",null,null,null,null,null,null,null,null,null,null,null,null,null,null,null,null,null,null,null,null,null,null,null,null,null,null,null,null,null,null,null,null,null,null,null,null,null,null,null,null,null,null,null,null,null,null,null,null,null,null,null,null,null,null,null,false]
[null,null,null,null,null,null,"過渡リアクタンス　",null,null,null,null,null,null,null,"p.u.",null,"拘束リアクタンス",null,null,null,null,null,null,"p.u."]
[null,null,null,null,null,null,"初期過渡リアクタンス ",null,null,null,null,null,null,null,"p.u.",null,"励磁リアクタンス",null,null,null,null,null,null,"p.u.",null,null,null,null,null,null,null,null,null,null,null,null,null,"セキュリティ管理責任者"]
[null,null,null,null,null,null,"同期リアクタンス",null,null,null,null,null,null,null,"p.u.",null,"二次漏れリアクタンス",null,null,null,null,null,null,"p.u.",null,null,null,null,null,null,null,null,null,null,null,"5.添付資料"]
[null,null,null,null,null,null,"慣性定数　　　　　　　",null,null,null,null,null,null,null,"Sec",null,"二次抵抗",null,null,null,null,null,null,"p.u.",null,null,null,null,null,null,null,null,null,null,null,null,null,"単線結線図（ＯＶＧＲ、ＲＰＲ等を明記）",null,null,null,null,null,null,null,null,null,null,null,null,null,null,null,null,"設備配置図",null,null,null,null,null,null,null,false]
[null,null,null,null,null,null,"時定数",null,"Td'",null,null,null,"Td\"",null,null,null,"限流リアクトル容量",null,null,null,null,null,null,"kVA",null,null,null,null,null,null,null,null,null,null,null,null,null,"ＯＶＧＲ、ＲＰＲ仕様書",null,null,null,null,null,null,null,null,null,null,null,null,null,null,null,null,"機器仕様書"]
[null,null,null,null,null,null,"(Sec)",null,"Tdo'",null,null,null,"Tdo\"",null,null,null,null,null,null,null,null,null,null,null,null,null,null,null,null,null,null,null,null,null,null,null,null,null,null,null,null,null,null,null,null,null,null,null,null,null,null,null,null,null,null,null,null,null,null,null,null,null,null,null,null,null,null,null,null,null,null,null,false,false,false]
[null,"制　動　巻　線\n(同期発電機の場合)",null,null,null,null,null,null,"あり",null,null,null,"なし",null,"ありと同様の機能あり",null,null,null,null,null,null,null,null,null,null,null,null,null,null,null,null,null,null,null,null,null,null,null,null,null,null,null,null,null,null,null,null,null,null,null,null,null,null,null,null,null,null,null,null,null,null,null,null,null,null,null,null,null,null,null,null,null,false]
[null,null,null,null,null,null,"（構造等：",null,null,null,null,null,null,null,null,null,null,null,null,null,null,"）",null,null,null,null,null,null,null,null,null,null,null,null,null,null,null,null,null,null,null,null,null,null,null,null,null,null,null,null,null,null,null,null,null,null,null,null,null,null,null,null,null,null,null,null,null,null,null,null,null,null,false]
[null,"自動同期検定装置\n（投入条件）",null,null,null,null,"電圧差",null,null,null,null,null,null,null,"％",null,"前進時間",null,null,null,null,null,null,"ｓ",null,null,null,null,null,null,null,null,null,null,null,null,null,null,null,null,null,null,null,null,null,null,null,null,null,null,null,null,null,null,null,null,null,null,null,null,null,null,null,null,null,null,null,null,null,null,null,null,false]
[null,null,null,null,null,null,"周波数差",null,null,null,null,null,null,"Ｈｚ",null,null,"系統並列箇所",null,null,null,null,null,null,null,null,null,null,null,null,null,null,null,null,null,null,null,null,null,null,null,null,null,null,null,null,null,null,null,null,null,null,null,null,null,null,null,null,null,null,null,null,null,null,null,null,null,null,null,null,null,null,null,false]
[null,"※１　電気定数の各項目については，わかる範囲で記入してください。未定の項目については，標準的な数値を使用し検討を行います。"]
[]
[]
[]
[]
[]
[]
[]
[]
[]
[]
[null,null,null,null,null,null,null,null,null,null,null,null,null,null,null,null,null,null,null,null,null,null,null,null,null,null,null,null,null,1,2,3,4,5,6]
[null,null,null,null,null,null,null,null,null,null,null,null,null,null,null,null,null,null,null,null,null,null,null,null,null,null,null,null,null,false,false,false,false,false,false]
[]
[]
[]
[null,null,null,null,null,null,null,null,null,null,null,null,null,null,null,null,null,null,null,null,null,null,null,null,null,null,null,null,null,false]
[]
[]
[]
[]
[]
[]
[]
[]
[]
[]
[]
[]
[]
[]
[]
[]
[]
[]
[]
[]
[]
[]
[]
[]
[]
[]
[null,null,null,null,null,null,null,null,null,null,null,null,null,null,null,null,null,null,null,null,null,null,null,null,null,null,null,null,null,null,null,false,false,null,false]
[null,null,null,null,null,null,null,null,null,null,null,null,null,null,null,null,null,null,null,null,null,null,null,null,null,null,null,null,null,null,null,null,null,null,null,false]

{"sheet":"中部電力パワーグリッド使用帳票⇒","index":9,"n_rows":0,"n_cols":0,"rows_kept":0,"cut":false,"hidden":true,"merged":[]}

{"sheet":"アンシラお知らせ","index":10,"n_rows":137,"n_cols":46,"rows_kept":137,"cut":false,"hidden":true,"merged":[[0,27,1,27],[0,28,1,28],[0,29,1,30],[0,31,1,31],[1,1,2,8],[2,25,3,26],[2,27,3,27],[2,28,3,28],[2,29,3,29],[2,30,3,30],[28,9,28,10],[28,11,28,12],[28,14,28,15],[28,17,28,18],[2,31,3,31],[3,1,4,17],[4,21,4,32],[7,1,8,16],[9,18,10,33],[11,19,12,33],[13,18,14,33],[15,1,20,32],[21,1,22,32],[23,1,24,32],[25,1,26,32],[5,1,6,20],[33,1,33,13],[33,15,33,16],[33,23,33,24],[33,25,33,32],[34,18,34,22],[36,8,36,9],[36,10,36,16],[36,24,36,25],[36,26,36,32],[35,17,35,32],[37,1,38,16],[37,17,38,32],[39,1,41,5],[39,6,41,32],[42,1,44,5],[42,6,44,13],[42,14,44,16],[42,17,44,21],[42,22,44,29],[42,30,44,32],[45,1,47,5],[45,6,47,16],[45,17,47,21],[45,22,47,29],[45,30,47,32],[48,1,50,5],[48,6,48,7],[48,13,48,32],[49,6,49,32],[50,6,50,32],[52,1,52,32],[53,3,53,4],[53,10,53,32],[54,1,54,32],[55,1,55,32],[64,29,65,32],[130,1,135,32],[136,1,147,15],[136,16,147,32],[56,1,56,32],[57,1,57,32]]}
[]
[]
[null,null,null,null,null,null,null,null,null,null,null,null,null,null,null,null,null,null,null,null,null,null,null,null,null,null,null,"年",null,"月",null,"日"]
[]
[]
[null,{"$f":"IF(申込書!O47=\"\",#REF!,申込書!H10)","v":{"$error":"#REF!"}}]
[]
[null,{"$f":"IF(申込書!O47=\"\",CONCATENATE(\"　\",#REF!,\"　様\"),CONCATENATE(\"　\",申込書!H11,\"　様\"))","v":{"$error":"#REF!"}}]
[]
[null,null,null,null,null,null,null,null,null,null,null,null,null,null,null,null,null,null,"中部電力パワーグリッド株式会社　  　"]
[]
[]
[]
[]
[]
[null,"ご契約内容のお知らせ"]
[]
[]
[]
[]
[]
[null,"　平素は格別のご高配を賜り，厚く御礼申しあげます。"]
[]
[null,"　お申込みいただきました発電設備系統連系サービスに関するご契約につきまして，お客さまと当社との間で"]
[]
[null,"成立いたしました契約の内容を次のとおりご案内いたします。"]
[]
[]
[null,"１　連系ｻｰﾋﾞｽ開始日　　",null,null,null,null,null,null,null,null,null,{"$f":"申込書!O47","v":0},null,"年",{"$f":"申込書!R47","v":0},null,"月",{"$f":"申込書!U47","v":0},null,"日"]
[]
[null,"２　ご契約内容"]
[]
[]
[null,"お客さま番号",null,null,null,null,null,null,null,null,null,null,null,null,null,"日程",null," 発電場所",null,null,null,null,null,"〒",null,{"$f":"申込書!I14","v":0}]
[]
[null,{"$f":"申込書!I33","v":0},{"$f":"申込書!J33","v":0},{"$f":"申込書!K33","v":0},{"$f":"申込書!L33","v":0},{"$f":"申込書!M33","v":0},{"$f":"申込書!N33","v":0},{"$f":"申込書!O33","v":0},{"$f":"申込書!P33","v":0},{"$f":"申込書!Q33","v":0},{"$f":"申込書!R33","v":0},{"$f":"申込書!S33","v":0},{"$f":"申込書!T33","v":0},{"$f":"申込書!U33","v":0},null,1,6,{"$f":"申込書!L14","v":0}]
[null," お客さま名",null,null,null,null,null,null,null,null,null,null,null,null,null,null,null," 事業所名"]
[null,{"$f":"申込書!H10","v":0},null,null,null,null,null,null,null,null,null,null,null,null,null,null,null,{"$f":"申込書!H15","v":0}]
[]
[null,"連系地点"]
[]
[]
[null,"連系電圧",null,null,null,null,6,null,null,null,null,null,null,null,"ｋＶ",null,null,"控除容量",null,null,null,null,null,null,null,null,null,null,null,null,"キロワット",null,null,null,null,null,null,null,null,null,null,null,null,null,null,"お客さま構内第１柱開閉器の電源側接続点"]
[null,null,null,null,null,null,null,null,null,null,null,null,null,null,null,null,null,null,null,null,null,null,null,null,null,null,null,null,null,null,null,null,null,null,null,null,null,null,null,null,null,null,null,null,null,"お客さまの家屋（変電室）側引込第１支持点支持碍子の負荷側接続点"]
[null,null,null,null,null,null,null,null,null,null,null,null,null,null,null,null,null,null,null,null,null,null,null,null,null,null,null,null,null,null,null,null,null,null,null,null,null,null,null,null,null,null,null,null,null,"お客さまの家屋（変電室）側引込第１支持点開閉器の電源側接続点"]
[null,"契約発電設備",null,null,null,null,"別紙（１　契約発電設備）のとおりとします。",null,null,null,null,null,null,null,null,null,null,"契約容量",null,null,null,null,null,null,null,null,null,null,null,null,"キロワット",null,null,null,null,null,null,null,null,null,null,null,null,null,null,"お客さま構外当社配電柱上の開閉器の負荷側接続点"]
[null,null,null,null,null,null,null,null,null,null,null,null,null,null,null,null,null,null,null,null,null,null,null,null,null,null,null,null,null,null,null,null,null,null,null,null,null,null,null,null,null,null,null,null,null,"お客さまの変電室（キュービクル）内引込口開閉器等の電源側接続点"]
[null,null,null,null,null,null,null,null,null,null,null,null,null,null,null,null,null,null,null,null,null,null,null,null,null,null,null,null,null,null,null,null,null,null,null,null,null,null,null,null,null,null,null,null,null,"当社開閉器室の開閉器等の電源側"]
[null,"契約期間",null,null,null,null,null,null,"年",null,"月",null,"日","から連系サービス開始日の属する年度の末日までとします。",null,null,null,null,null,null,null,null,null,null,null,null,null,null,null,null,null,null,null,null,null,null,null,null,null,null,null,null,null,null,null,"お客さま構内の当社開閉器室の開閉器等の負荷側接続点"]
[null,null,null,null,null,null,"ただし，契約期間満了に先だって，お客さままたは当社のいずれからもこの契約の廃止または変更について申入れ",null,null,null,null,null,null,null,null,null,null,null,null,null,null,null,null,null,null,null,null,null,null,null,null,null,null,null,null,null,null,null,null,null,null,null,null,null,null,"その他"]
[null,null,null,null,null,null,"を行なわない場合は，契約期間満了後も１年ごとに同一条件で継続されるものとします。"]
[null,"　記　事"]
[null,"１　発電設備系統連系サービス要綱「20（連系にともなう技術要件等）（１）ハ」における「技術的に適当と認める方法」とは，"]
[null,null,null,null,null,"年",null,"月",null,"日","付「直流発電設備系統連系に関する検討結果説明書」によるものといたします。"]
[null,"２　当社は，お客さまが当社の定める技術要件を充足いただけない場合，発電設備系統連系サービス要綱「31（連系契約の解約）」"]
[null,"　　にもとづき，契約の解約を行なうことがあります。"]
[null,"３　お客さまの発電設備を当社高圧配電線へ連系する場合、お客さまの発電設備の並列運転に関する配電運用を円滑に行うため、"]
[null,"　　別添の「高圧発電設備系統連系に伴う取り決めについて」の事項を遵守していただきます。"]
[]
[]
[]
[null,"・本書に記載がない事項につきましては，当社の発電設備系統連系サービス要綱によります。"]
[null,"・上記内容に変更が生じた場合には，すみやかに当社までご連絡いただきますようお願いいたします。"]
[]
[null,null,null,null,null,null,null,null,null,null,null,null,null,null,null,null,null,null,null,null,null,null,null,null,null,null,null,null,null,"以　上"]
[]
[]
[]
[]
[]
[]
[]
[]
[]
[]
[]
[]
[]
[]
[]
[]
[]
[]
[]
[]
[]
[]
[]
[]
[]
[]
[]
[]
[]
[]
[]
[]
[]
[]
[]
[]
[]
[]
[]
[]
[]
[]
[]
[]
[]
[]
[]
[]
[]
[]
[]
[]
[]
[]
[]
[]
[]
[]
[]
[]
[]
[]
[]
[]
[]
[null,"【個人情報の利用目的】\n　当社は、当社が取得・保有する個人情報について、次の事業において、契約の媒介・締結・履行、資産・設備等の形成・保全、関連するアフターサービス、商品・サービスの改善・開発、商品・サービスに関するダイレクトメール・電話・訪問等によるご案内、アンケートの実施、その他これらに付随する業務を行うために必要な範囲内において利用させていただきます。\n　なお、利用目的が法令等に基づき限定されている個人情報は、法令等で認められた場合を除き、法令等に基づき限定されている目的以外では利用いたしません。"]
[]
[]
[]
[]
[]
[null,"１　電気事業\n２　エネルギー関連の機械器具および設備の製造、販売、\n　　賃貸、修理、運転および保守\n３　電気通信事業法に定める電気通信事業\n４　各種情報の収集、分析、処理、加工、\n　　提供および販売に関する事業、\n　　放送事業ならびに広告事業\n５　データプラットフォーム事業\n６　コミュニティサポートインフラ事業\n７　不動産の売買、賃貸および管理\n８　土木建築工事その他建設工事全般に関する企画、設計、\n　　監理、施工およびマネジメント\n９　エネルギー利用、環境および前各号に関する調査、\n　　エンジニアリングおよびコンサルティング",null,null,null,null,null,null,null,null,null,null,null,null,null,null,"１０　法人および個人向け各種支援サービスの提供および斡旋\n１１　前各事業に附帯関連する事業"]

{"sheet":"別紙（太陽光）","index":11,"n_rows":99,"n_cols":19,"rows_kept":99,"cut":false,"hidden":true,"merged":[[6,11,7,11],[6,12,7,12],[90,1,90,3],[91,1,91,3],[6,1,6,4],[6,5,6,9],[6,10,7,10]]}
[null,null,null,null,null,null,null,null,null,null,null,null,null,null,"別紙"]
[null,null,null,null,null,null,null,null,null,null,null,null,null,null,null,null,"（皮相電力一定）",null,"太陽光"]
[null,"１　契約発電設備",null,null,null,null,null,null,null,null,null,null,null,null,null,null,"（有効電力一定）",null,"水力"]
[null,null,null,null,null,null,null,null,null,null,null,null,null,null,null,null,"（その他）",null,"風力"]
[null,"（１） 太陽光発電設備",null,null,null,null,null,null,null,null,null,null,null,null,null,null,null,null,"バイオマス"]
[null,null,null,null,null,null,null,null,null,null,null,null,"〔 単位：kW〕",null,null,null,null,null,"地熱"]
[null,"パワーコンディショナー",null,null,null,"太陽電池",null,null,null,null,"契約容量算定上の定格出力","連系開始年月日","特別措置対象\n発電設備"]
[null,"製造者","型式","力率","出力","製造者","型式","定格出力","枚数","出力計"]
[null,{"$f":"IF('別紙１各系統（太陽光）'!D6=\"\",\"\",'別紙１各系統（太陽光）'!D6)","v":""},{"$f":"IF('別紙１各系統（太陽光）'!E6=\"\",\"\",'別紙１各系統（太陽光）'!E6)","v":""},{"$f":"IF('別紙１各系統（太陽光）'!I6=\"\",\"\",'別紙１各系統（太陽光）'!I6)","v":""},{"$f":"IF('別紙１各系統（太陽光）'!J6=\"\",\"\",'別紙１各系統（太陽光）'!J6)","v":""},{"$f":"IF('別紙１各系統（太陽光）'!K6=\"\",\"\",'別紙１各系統（太陽光）'!K6)","v":""},{"$f":"IF('別紙１各系統（太陽光）'!L6=\"\",\"\",'別紙１各系統（太陽光）'!L6)","v":""},{"$f":"IF('別紙１各系統（太陽光）'!M6=\"\",\"\",'別紙１各系統（太陽光）'!M6)","v":""},{"$f":"IF('別紙１各系統（太陽光）'!N6=\"\",\"\",'別紙１各系統（太陽光）'!N6)","v":""},{"$f":"IF('別紙１各系統（太陽光）'!O6=\"\",\"\",'別紙１各系統（太陽光）'!O6)","v":""},{"$f":"IF('別紙１各系統（太陽光）'!Q6=\"\",\"\",'別紙１各系統（太陽光）'!Q6)","v":""},null,{"$f":"IF(C9=\"\",\"\",\"〇\")","v":""}]
[null,{"$f":"IF('別紙１各系統（太陽光）'!D7=\"\",\"\",'別紙１各系統（太陽光）'!D7)","v":""},{"$f":"IF('別紙１各系統（太陽光）'!E7=\"\",\"\",'別紙１各系統（太陽光）'!E7)","v":""},{"$f":"IF('別紙１各系統（太陽光）'!I7=\"\",\"\",'別紙１各系統（太陽光）'!I7)","v":""},{"$f":"IF('別紙１各系統（太陽光）'!J7=\"\",\"\",'別紙１各系統（太陽光）'!J7)","v":""},{"$f":"IF('別紙１各系統（太陽光）'!K7=\"\",\"\",'別紙１各系統（太陽光）'!K7)","v":""},{"$f":"IF('別紙１各系統（太陽光）'!L7=\"\",\"\",'別紙１各系統（太陽光）'!L7)","v":""},{"$f":"IF('別紙１各系統（太陽光）'!M7=\"\",\"\",'別紙１各系統（太陽光）'!M7)","v":""},{"$f":"IF('別紙１各系統（太陽光）'!N7=\"\",\"\",'別紙１各系統（太陽光）'!N7)","v":""},{"$f":"IF('別紙１各系統（太陽光）'!O7=\"\",\"\",'別紙１各系統（太陽光）'!O7)","v":""},{"$f":"IF('別紙１各系統（太陽光）'!Q7=\"\",\"\",'別紙１各系統（太陽光）'!Q7)","v":""},null,{"$f":"IF(C10=\"\",\"\",\"〇\")","v":""}]
[null,{"$f":"IF('別紙１各系統（太陽光）'!D8=\"\",\"\",'別紙１各系統（太陽光）'!D8)","v":""},{"$f":"IF('別紙１各系統（太陽光）'!E8=\"\",\"\",'別紙１各系統（太陽光）'!E8)","v":""},{"$f":"IF('別紙１各系統（太陽光）'!I8=\"\",\"\",'別紙１各系統（太陽光）'!I8)","v":""},{"$f":"IF('別紙１各系統（太陽光）'!J8=\"\",\"\",'別紙１各系統（太陽光）'!J8)","v":""},{"$f":"IF('別紙１各系統（太陽光）'!K8=\"\",\"\",'別紙１各系統（太陽光）'!K8)","v":""},{"$f":"IF('別紙１各系統（太陽光）'!L8=\"\",\"\",'別紙１各系統（太陽光）'!L8)","v":""},{"$f":"IF('別紙１各系統（太陽光）'!M8=\"\",\"\",'別紙１各系統（太陽光）'!M8)","v":""},{"$f":"IF('別紙１各系統（太陽光）'!N8=\"\",\"\",'別紙１各系統（太陽光）'!N8)","v":""},{"$f":"IF('別紙１各系統（太陽光）'!O8=\"\",\"\",'別紙１各系統（太陽光）'!O8)","v":""},{"$f":"IF('別紙１各系統（太陽光）'!Q8=\"\",\"\",'別紙１各系統（太陽光）'!Q8)","v":""},null,{"$f":"IF(C11=\"\",\"\",\"〇\")","v":""}]
[null,{"$f":"IF('別紙１各系統（太陽光）'!D9=\"\",\"\",'別紙１各系統（太陽光）'!D9)","v":""},{"$f":"IF('別紙１各系統（太陽光）'!E9=\"\",\"\",'別紙１各系統（太陽光）'!E9)","v":""},{"$f":"IF('別紙１各系統（太陽光）'!I9=\"\",\"\",'別紙１各系統（太陽光）'!I9)","v":""},{"$f":"IF('別紙１各系統（太陽光）'!J9=\"\",\"\",'別紙１各系統（太陽光）'!J9)","v":""},{"$f":"IF('別紙１各系統（太陽光）'!K9=\"\",\"\",'別紙１各系統（太陽光）'!K9)","v":""},{"$f":"IF('別紙１各系統（太陽光）'!L9=\"\",\"\",'別紙１各系統（太陽光）'!L9)","v":""},{"$f":"IF('別紙１各系統（太陽光）'!M9=\"\",\"\",'別紙１各系統（太陽光）'!M9)","v":""},{"$f":"IF('別紙１各系統（太陽光）'!N9=\"\",\"\",'別紙１各系統（太陽光）'!N9)","v":""},{"$f":"IF('別紙１各系統（太陽光）'!O9=\"\",\"\",'別紙１各系統（太陽光）'!O9)","v":""},{"$f":"IF('別紙１各系統（太陽光）'!Q9=\"\",\"\",'別紙１各系統（太陽光）'!Q9)","v":""},null,""]
[null,{"$f":"IF('別紙１各系統（太陽光）'!D10=\"\",\"\",'別紙１各系統（太陽光）'!D10)","v":""},{"$f":"IF('別紙１各系統（太陽光）'!E10=\"\",\"\",'別紙１各系統（太陽光）'!E10)","v":""},{"$f":"IF('別紙１各系統（太陽光）'!I10=\"\",\"\",'別紙１各系統（太陽光）'!I10)","v":""},{"$f":"IF('別紙１各系統（太陽光）'!J10=\"\",\"\",'別紙１各系統（太陽光）'!J10)","v":""},{"$f":"IF('別紙１各系統（太陽光）'!K10=\"\",\"\",'別紙１各系統（太陽光）'!K10)","v":""},{"$f":"IF('別紙１各系統（太陽光）'!L10=\"\",\"\",'別紙１各系統（太陽光）'!L10)","v":""},{"$f":"IF('別紙１各系統（太陽光）'!M10=\"\",\"\",'別紙１各系統（太陽光）'!M10)","v":""},{"$f":"IF('別紙１各系統（太陽光）'!N10=\"\",\"\",'別紙１各系統（太陽光）'!N10)","v":""},{"$f":"IF('別紙１各系統（太陽光）'!O10=\"\",\"\",'別紙１各系統（太陽光）'!O10)","v":""},{"$f":"IF('別紙１各系統（太陽光）'!Q10=\"\",\"\",'別紙１各系統（太陽光）'!Q10)","v":""},null,""]
[null,{"$f":"IF('別紙１各系統（太陽光）'!D11=\"\",\"\",'別紙１各系統（太陽光）'!D11)","v":""},{"$f":"IF('別紙１各系統（太陽光）'!E11=\"\",\"\",'別紙１各系統（太陽光）'!E11)","v":""},{"$f":"IF('別紙１各系統（太陽光）'!I11=\"\",\"\",'別紙１各系統（太陽光）'!I11)","v":""},{"$f":"IF('別紙１各系統（太陽光）'!J11=\"\",\"\",'別紙１各系統（太陽光）'!J11)","v":""},{"$f":"IF('別紙１各系統（太陽光）'!K11=\"\",\"\",'別紙１各系統（太陽光）'!K11)","v":""},{"$f":"IF('別紙１各系統（太陽光）'!L11=\"\",\"\",'別紙１各系統（太陽光）'!L11)","v":""},{"$f":"IF('別紙１各系統（太陽光）'!M11=\"\",\"\",'別紙１各系統（太陽光）'!M11)","v":""},{"$f":"IF('別紙１各系統（太陽光）'!N11=\"\",\"\",'別紙１各系統（太陽光）'!N11)","v":""},{"$f":"IF('別紙１各系統（太陽光）'!O11=\"\",\"\",'別紙１各系統（太陽光）'!O11)","v":""},{"$f":"IF('別紙１各系統（太陽光）'!Q11=\"\",\"\",'別紙１各系統（太陽光）'!Q11)","v":""},null,""]
[null,{"$f":"IF('別紙１各系統（太陽光）'!D12=\"\",\"\",'別紙１各系統（太陽光）'!D12)","v":""},{"$f":"IF('別紙１各系統（太陽光）'!E12=\"\",\"\",'別紙１各系統（太陽光）'!E12)","v":""},{"$f":"IF('別紙１各系統（太陽光）'!I12=\"\",\"\",'別紙１各系統（太陽光）'!I12)","v":""},{"$f":"IF('別紙１各系統（太陽光）'!J12=\"\",\"\",'別紙１各系統（太陽光）'!J12)","v":""},{"$f":"IF('別紙１各系統（太陽光）'!K12=\"\",\"\",'別紙１各系統（太陽光）'!K12)","v":""},{"$f":"IF('別紙１各系統（太陽光）'!L12=\"\",\"\",'別紙１各系統（太陽光）'!L12)","v":""},{"$f":"IF('別紙１各系統（太陽光）'!M12=\"\",\"\",'別紙１各系統（太陽光）'!M12)","v":""},{"$f":"IF('別紙１各系統（太陽光）'!N12=\"\",\"\",'別紙１各系統（太陽光）'!N12)","v":""},{"$f":"IF('別紙１各系統（太陽光）'!O12=\"\",\"\",'別紙１各系統（太陽光）'!O12)","v":""},{"$f":"IF('別紙１各系統（太陽光）'!Q12=\"\",\"\",'別紙１各系統（太陽光）'!Q12)","v":""},null,""]
[null,{"$f":"IF('別紙１各系統（太陽光）'!D13=\"\",\"\",'別紙１各系統（太陽光）'!D13)","v":""},{"$f":"IF('別紙１各系統（太陽光）'!E13=\"\",\"\",'別紙１各系統（太陽光）'!E13)","v":""},{"$f":"IF('別紙１各系統（太陽光）'!I13=\"\",\"\",'別紙１各系統（太陽光）'!I13)","v":""},{"$f":"IF('別紙１各系統（太陽光）'!J13=\"\",\"\",'別紙１各系統（太陽光）'!J13)","v":""},{"$f":"IF('別紙１各系統（太陽光）'!K13=\"\",\"\",'別紙１各系統（太陽光）'!K13)","v":""},{"$f":"IF('別紙１各系統（太陽光）'!L13=\"\",\"\",'別紙１各系統（太陽光）'!L13)","v":""},{"$f":"IF('別紙１各系統（太陽光）'!M13=\"\",\"\",'別紙１各系統（太陽光）'!M13)","v":""},{"$f":"IF('別紙１各系統（太陽光）'!N13=\"\",\"\",'別紙１各系統（太陽光）'!N13)","v":""},{"$f":"IF('別紙１各系統（太陽光）'!O13=\"\",\"\",'別紙１各系統（太陽光）'!O13)","v":""},{"$f":"IF('別紙１各系統（太陽光）'!Q13=\"\",\"\",'別紙１各系統（太陽光）'!Q13)","v":""},null,""]
[null,{"$f":"IF('別紙１各系統（太陽光）'!D14=\"\",\"\",'別紙１各系統（太陽光）'!D14)","v":""},{"$f":"IF('別紙１各系統（太陽光）'!E14=\"\",\"\",'別紙１各系統（太陽光）'!E14)","v":""},{"$f":"IF('別紙１各系統（太陽光）'!I14=\"\",\"\",'別紙１各系統（太陽光）'!I14)","v":""},{"$f":"IF('別紙１各系統（太陽光）'!J14=\"\",\"\",'別紙１各系統（太陽光）'!J14)","v":""},{"$f":"IF('別紙１各系統（太陽光）'!K14=\"\",\"\",'別紙１各系統（太陽光）'!K14)","v":""},{"$f":"IF('別紙１各系統（太陽光）'!L14=\"\",\"\",'別紙１各系統（太陽光）'!L14)","v":""},{"$f":"IF('別紙１各系統（太陽光）'!M14=\"\",\"\",'別紙１各系統（太陽光）'!M14)","v":""},{"$f":"IF('別紙１各系統（太陽光）'!N14=\"\",\"\",'別紙１各系統（太陽光）'!N14)","v":""},{"$f":"IF('別紙１各系統（太陽光）'!O14=\"\",\"\",'別紙１各系統（太陽光）'!O14)","v":""},{"$f":"IF('別紙１各系統（太陽光）'!Q14=\"\",\"\",'別紙１各系統（太陽光）'!Q14)","v":""},null,""]
[null,{"$f":"IF('別紙１各系統（太陽光）'!D15=\"\",\"\",'別紙１各系統（太陽光）'!D15)","v":""},{"$f":"IF('別紙１各系統（太陽光）'!E15=\"\",\"\",'別紙１各系統（太陽光）'!E15)","v":""},{"$f":"IF('別紙１各系統（太陽光）'!I15=\"\",\"\",'別紙１各系統（太陽光）'!I15)","v":""},{"$f":"IF('別紙１各系統（太陽光）'!J15=\"\",\"\",'別紙１各系統（太陽光）'!J15)","v":""},{"$f":"IF('別紙１各系統（太陽光）'!K15=\"\",\"\",'別紙１各系統（太陽光）'!K15)","v":""},{"$f":"IF('別紙１各系統（太陽光）'!L15=\"\",\"\",'別紙１各系統（太陽光）'!L15)","v":""},{"$f":"IF('別紙１各系統（太陽光）'!M15=\"\",\"\",'別紙１各系統（太陽光）'!M15)","v":""},{"$f":"IF('別紙１各系統（太陽光）'!N15=\"\",\"\",'別紙１各系統（太陽光）'!N15)","v":""},{"$f":"IF('別紙１各系統（太陽光）'!O15=\"\",\"\",'別紙１各系統（太陽光）'!O15)","v":""},{"$f":"IF('別紙１各系統（太陽光）'!Q15=\"\",\"\",'別紙１各系統（太陽光）'!Q15)","v":""},null,""]
[null,{"$f":"IF('別紙１各系統（太陽光）'!D16=\"\",\"\",'別紙１各系統（太陽光）'!D16)","v":""},{"$f":"IF('別紙１各系統（太陽光）'!E16=\"\",\"\",'別紙１各系統（太陽光）'!E16)","v":""},{"$f":"IF('別紙１各系統（太陽光）'!I16=\"\",\"\",'別紙１各系統（太陽光）'!I16)","v":""},{"$f":"IF('別紙１各系統（太陽光）'!J16=\"\",\"\",'別紙１各系統（太陽光）'!J16)","v":""},{"$f":"IF('別紙１各系統（太陽光）'!K16=\"\",\"\",'別紙１各系統（太陽光）'!K16)","v":""},{"$f":"IF('別紙１各系統（太陽光）'!L16=\"\",\"\",'別紙１各系統（太陽光）'!L16)","v":""},{"$f":"IF('別紙１各系統（太陽光）'!M16=\"\",\"\",'別紙１各系統（太陽光）'!M16)","v":""},{"$f":"IF('別紙１各系統（太陽光）'!N16=\"\",\"\",'別紙１各系統（太陽光）'!N16)","v":""},{"$f":"IF('別紙１各系統（太陽光）'!O16=\"\",\"\",'別紙１各系統（太陽光）'!O16)","v":""},{"$f":"IF('別紙１各系統（太陽光）'!Q16=\"\",\"\",'別紙１各系統（太陽光）'!Q16)","v":""},null,""]
[null,{"$f":"IF('別紙１各系統（太陽光）'!D17=\"\",\"\",'別紙１各系統（太陽光）'!D17)","v":""},{"$f":"IF('別紙１各系統（太陽光）'!E17=\"\",\"\",'別紙１各系統（太陽光）'!E17)","v":""},{"$f":"IF('別紙１各系統（太陽光）'!I17=\"\",\"\",'別紙１各系統（太陽光）'!I17)","v":""},{"$f":"IF('別紙１各系統（太陽光）'!J17=\"\",\"\",'別紙１各系統（太陽光）'!J17)","v":""},{"$f":"IF('別紙１各系統（太陽光）'!K17=\"\",\"\",'別紙１各系統（太陽光）'!K17)","v":""},{"$f":"IF('別紙１各系統（太陽光）'!L17=\"\",\"\",'別紙１各系統（太陽光）'!L17)","v":""},{"$f":"IF('別紙１各系統（太陽光）'!M17=\"\",\"\",'別紙１各系統（太陽光）'!M17)","v":""},{"$f":"IF('別紙１各系統（太陽光）'!N17=\"\",\"\",'別紙１各系統（太陽光）'!N17)","v":""},{"$f":"IF('別紙１各系統（太陽光）'!O17=\"\",\"\",'別紙１各系統（太陽光）'!O17)","v":""},{"$f":"IF('別紙１各系統（太陽光）'!Q17=\"\",\"\",'別紙１各系統（太陽光）'!Q17)","v":""},null,""]
[null,{"$f":"IF('別紙１各系統（太陽光）'!D18=\"\",\"\",'別紙１各系統（太陽光）'!D18)","v":""},{"$f":"IF('別紙１各系統（太陽光）'!E18=\"\",\"\",'別紙１各系統（太陽光）'!E18)","v":""},{"$f":"IF('別紙１各系統（太陽光）'!I18=\"\",\"\",'別紙１各系統（太陽光）'!I18)","v":""},{"$f":"IF('別紙１各系統（太陽光）'!J18=\"\",\"\",'別紙１各系統（太陽光）'!J18)","v":""},{"$f":"IF('別紙１各系統（太陽光）'!K18=\"\",\"\",'別紙１各系統（太陽光）'!K18)","v":""},{"$f":"IF('別紙１各系統（太陽光）'!L18=\"\",\"\",'別紙１各系統（太陽光）'!L18)","v":""},{"$f":"IF('別紙１各系統（太陽光）'!M18=\"\",\"\",'別紙１各系統（太陽光）'!M18)","v":""},{"$f":"IF('別紙１各系統（太陽光）'!N18=\"\",\"\",'別紙１各系統（太陽光）'!N18)","v":""},{"$f":"IF('別紙１各系統（太陽光）'!O18=\"\",\"\",'別紙１各系統（太陽光）'!O18)","v":""},{"$f":"IF('別紙１各系統（太陽光）'!Q18=\"\",\"\",'別紙１各系統（太陽光）'!Q18)","v":""},null,""]
[null,{"$f":"IF('別紙１各系統（太陽光）'!D19=\"\",\"\",'別紙１各系統（太陽光）'!D19)","v":""},{"$f":"IF('別紙１各系統（太陽光）'!E19=\"\",\"\",'別紙１各系統（太陽光）'!E19)","v":""},{"$f":"IF('別紙１各系統（太陽光）'!I19=\"\",\"\",'別紙１各系統（太陽光）'!I19)","v":""},{"$f":"IF('別紙１各系統（太陽光）'!J19=\"\",\"\",'別紙１各系統（太陽光）'!J19)","v":""},{"$f":"IF('別紙１各系統（太陽光）'!K19=\"\",\"\",'別紙１各系統（太陽光）'!K19)","v":""},{"$f":"IF('別紙１各系統（太陽光）'!L19=\"\",\"\",'別紙１各系統（太陽光）'!L19)","v":""},{"$f":"IF('別紙１各系統（太陽光）'!M19=\"\",\"\",'別紙１各系統（太陽光）'!M19)","v":""},{"$f":"IF('別紙１各系統（太陽光）'!N19=\"\",\"\",'別紙１各系統（太陽光）'!N19)","v":""},{"$f":"IF('別紙１各系統（太陽光）'!O19=\"\",\"\",'別紙１各系統（太陽光）'!O19)","v":""},{"$f":"IF('別紙１各系統（太陽光）'!Q19=\"\",\"\",'別紙１各系統（太陽光）'!Q19)","v":""},null,""]
[null,{"$f":"IF('別紙１各系統（太陽光）'!D20=\"\",\"\",'別紙１各系統（太陽光）'!D20)","v":""},{"$f":"IF('別紙１各系統（太陽光）'!E20=\"\",\"\",'別紙１各系統（太陽光）'!E20)","v":""},{"$f":"IF('別紙１各系統（太陽光）'!I20=\"\",\"\",'別紙１各系統（太陽光）'!I20)","v":""},{"$f":"IF('別紙１各系統（太陽光）'!J20=\"\",\"\",'別紙１各系統（太陽光）'!J20)","v":""},{"$f":"IF('別紙１各系統（太陽光）'!K20=\"\",\"\",'別紙１各系統（太陽光）'!K20)","v":""},{"$f":"IF('別紙１各系統（太陽光）'!L20=\"\",\"\",'別紙１各系統（太陽光）'!L20)","v":""},{"$f":"IF('別紙１各系統（太陽光）'!M20=\"\",\"\",'別紙１各系統（太陽光）'!M20)","v":""},{"$f":"IF('別紙１各系統（太陽光）'!N20=\"\",\"\",'別紙１各系統（太陽光）'!N20)","v":""},{"$f":"IF('別紙１各系統（太陽光）'!O20=\"\",\"\",'別紙１各系統（太陽光）'!O20)","v":""},{"$f":"IF('別紙１各系統（太陽光）'!Q20=\"\",\"\",'別紙１各系統（太陽光）'!Q20)","v":""},null,{"$f":"IF(C23=\"\",\"\",\"〇\")","v":""}]
[null,0,0,null,null,0,0,0,0,0,{"$f":"IF('別紙１各系統（太陽光）'!Q21=\"\",\"\",'別紙１各系統（太陽光）'!Q21)","v":""},{"$f":"IF(G24<=#REF!,G24,#REF!)","v":{"$error":"#REF!"}}]
[null,0,0,null,null,0,0,0,0,0,{"$f":"IF('別紙１各系統（太陽光）'!Q22=\"\",\"\",'別紙１各系統（太陽光）'!Q22)","v":""},{"$f":"IF(G25<=#REF!,G25,#REF!)","v":{"$error":"#REF!"}}]
[null,0,0,null,null,0,0,0,0,0,{"$f":"IF('別紙１各系統（太陽光）'!Q23=\"\",\"\",'別紙１各系統（太陽光）'!Q23)","v":""},{"$f":"IF(G26<=#REF!,G26,#REF!)","v":{"$error":"#REF!"}}]
[null,0,0,null,null,0,0,0,0,0,{"$f":"IF('別紙１各系統（太陽光）'!Q24=\"\",\"\",'別紙１各系統（太陽光）'!Q24)","v":""},{"$f":"IF(G27<=#REF!,G27,#REF!)","v":{"$error":"#REF!"}}]
[null,0,0,null,null,0,0,0,0,0,{"$f":"IF('別紙１各系統（太陽光）'!Q25=\"\",\"\",'別紙１各系統（太陽光）'!Q25)","v":""},{"$f":"IF(G28<=#REF!,G28,#REF!)","v":{"$error":"#REF!"}}]
[null,0,0,null,null,0,0,0,0,0,{"$f":"IF('別紙１各系統（太陽光）'!Q26=\"\",\"\",'別紙１各系統（太陽光）'!Q26)","v":""},{"$f":"IF(G29<=#REF!,G29,#REF!)","v":{"$error":"#REF!"}}]
[null,0,0,null,null,0,0,0,0,0,{"$f":"IF('別紙１各系統（太陽光）'!Q27=\"\",\"\",'別紙１各系統（太陽光）'!Q27)","v":""},{"$f":"IF(G30<=#REF!,G30,#REF!)","v":{"$error":"#REF!"}}]
[null,0,0,null,null,0,0,0,0,0,{"$f":"IF('別紙１各系統（太陽光）'!Q28=\"\",\"\",'別紙１各系統（太陽光）'!Q28)","v":""},{"$f":"IF(G31<=#REF!,G31,#REF!)","v":{"$error":"#REF!"}}]
[null,0,0,null,null,0,0,0,0,0,{"$f":"IF('別紙１各系統（太陽光）'!Q29=\"\",\"\",'別紙１各系統（太陽光）'!Q29)","v":""},{"$f":"IF(G32<=#REF!,G32,#REF!)","v":{"$error":"#REF!"}}]
[null,0,0,null,null,0,0,0,0,0,{"$f":"IF('別紙１各系統（太陽光）'!Q30=\"\",\"\",'別紙１各系統（太陽光）'!Q30)","v":""},{"$f":"IF(G33<=#REF!,G33,#REF!)","v":{"$error":"#REF!"}}]
[null,0,0,null,null,0,0,0,0,0,{"$f":"IF('別紙１各系統（太陽光）'!Q31=\"\",\"\",'別紙１各系統（太陽光）'!Q31)","v":""},{"$f":"IF(G34<=#REF!,G34,#REF!)","v":{"$error":"#REF!"}}]
[null,0,0,null,null,0,0,0,0,0,{"$f":"IF('別紙１各系統（太陽光）'!Q32=\"\",\"\",'別紙１各系統（太陽光）'!Q32)","v":""},{"$f":"IF(G35<=#REF!,G35,#REF!)","v":{"$error":"#REF!"}}]
[null,0,0,null,null,0,0,0,0,0,{"$f":"IF('別紙１各系統（太陽光）'!Q33=\"\",\"\",'別紙１各系統（太陽光）'!Q33)","v":""},{"$f":"IF(G36<=#REF!,G36,#REF!)","v":{"$error":"#REF!"}}]
[null,0,0,null,null,0,0,0,0,0,{"$f":"IF('別紙１各系統（太陽光）'!Q34=\"\",\"\",'別紙１各系統（太陽光）'!Q34)","v":""},{"$f":"IF(G37<=#REF!,G37,#REF!)","v":{"$error":"#REF!"}}]
[null,0,0,null,null,0,0,0,0,0,{"$f":"IF('別紙１各系統（太陽光）'!Q35=\"\",\"\",'別紙１各系統（太陽光）'!Q35)","v":""},{"$f":"IF(G38<=#REF!,G38,#REF!)","v":{"$error":"#REF!"}}]
[null,0,0,null,null,0,0,0,0,0,{"$f":"IF('別紙１各系統（太陽光）'!Q36=\"\",\"\",'別紙１各系統（太陽光）'!Q36)","v":""},{"$f":"IF(G39<=#REF!,G39,#REF!)","v":{"$error":"#REF!"}}]
[null,0,0,null,null,0,0,0,0,0,{"$f":"IF('別紙１各系統（太陽光）'!Q37=\"\",\"\",'別紙１各系統（太陽光）'!Q37)","v":""},{"$f":"IF(G40<=#REF!,G40,#REF!)","v":{"$error":"#REF!"}}]
[null,0,0,null,null,0,0,0,0,0,{"$f":"IF('別紙１各系統（太陽光）'!Q38=\"\",\"\",'別紙１各系統（太陽光）'!Q38)","v":""},{"$f":"IF(G41<=#REF!,G41,#REF!)","v":{"$error":"#REF!"}}]
[null,0,0,null,null,0,0,0,0,0,{"$f":"IF('別紙１各系統（太陽光）'!Q39=\"\",\"\",'別紙１各系統（太陽光）'!Q39)","v":""},{"$f":"IF(G42<=#REF!,G42,#REF!)","v":{"$error":"#REF!"}}]
[null,0,0,null,null,0,0,0,0,0,{"$f":"IF('別紙１各系統（太陽光）'!Q40=\"\",\"\",'別紙１各系統（太陽光）'!Q40)","v":""},{"$f":"IF(G43<=#REF!,G43,#REF!)","v":{"$error":"#REF!"}}]
[null,0,0,null,null,0,0,0,0,0,{"$f":"IF('別紙１各系統（太陽光）'!Q41=\"\",\"\",'別紙１各系統（太陽光）'!Q41)","v":""},{"$f":"IF(G44<=#REF!,G44,#REF!)","v":{"$error":"#REF!"}}]
[null,0,0,null,null,0,0,0,0,0,{"$f":"IF('別紙１各系統（太陽光）'!Q42=\"\",\"\",'別紙１各系統（太陽光）'!Q42)","v":""},{"$f":"IF(G45<=#REF!,G45,#REF!)","v":{"$error":"#REF!"}}]
[null,0,0,null,null,0,0,0,0,0,{"$f":"IF('別紙１各系統（太陽光）'!Q43=\"\",\"\",'別紙１各系統（太陽光）'!Q43)","v":""},{"$f":"IF(G46<=#REF!,G46,#REF!)","v":{"$error":"#REF!"}}]
[null,0,0,null,null,0,0,0,0,0,{"$f":"IF('別紙１各系統（太陽光）'!Q44=\"\",\"\",'別紙１各系統（太陽光）'!Q44)","v":""},{"$f":"IF(G47<=#REF!,G47,#REF!)","v":{"$error":"#REF!"}}]
[null,0,0,null,null,0,0,0,0,0,{"$f":"IF('別紙１各系統（太陽光）'!Q45=\"\",\"\",'別紙１各系統（太陽光）'!Q45)","v":""},{"$f":"IF(G48<=#REF!,G48,#REF!)","v":{"$error":"#REF!"}}]
[null,0,0,null,null,0,0,0,0,0,{"$f":"IF('別紙１各系統（太陽光）'!Q46=\"\",\"\",'別紙１各系統（太陽光）'!Q46)","v":""},{"$f":"IF(G49<=#REF!,G49,#REF!)","v":{"$error":"#REF!"}}]
[null,0,0,null,null,0,0,0,0,0,{"$f":"IF('別紙１各系統（太陽光）'!Q47=\"\",\"\",'別紙１各系統（太陽光）'!Q47)","v":""},{"$f":"IF(G50<=#REF!,G50,#REF!)","v":{"$error":"#REF!"}}]
[null,0,0,null,null,0,0,0,0,0,{"$f":"IF('別紙１各系統（太陽光）'!Q48=\"\",\"\",'別紙１各系統（太陽光）'!Q48)","v":""},{"$f":"IF(G51<=#REF!,G51,#REF!)","v":{"$error":"#REF!"}}]
[null,0,0,null,null,0,0,0,0,0,{"$f":"IF('別紙１各系統（太陽光）'!Q49=\"\",\"\",'別紙１各系統（太陽光）'!Q49)","v":""},{"$f":"IF(G52<=#REF!,G52,#REF!)","v":{"$error":"#REF!"}}]
[null,0,0,null,null,0,0,0,0,0,{"$f":"IF('別紙１各系統（太陽光）'!Q50=\"\",\"\",'別紙１各系統（太陽光）'!Q50)","v":""},{"$f":"IF(G53<=#REF!,G53,#REF!)","v":{"$error":"#REF!"}}]
[null,0,0,null,null,0,0,0,0,0,{"$f":"IF('別紙１各系統（太陽光）'!Q51=\"\",\"\",'別紙１各系統（太陽光）'!Q51)","v":""},{"$f":"IF(G54<=#REF!,G54,#REF!)","v":{"$error":"#REF!"}}]
[null,0,0,null,null,0,0,0,0,0,{"$f":"IF('別紙１各系統（太陽光）'!Q52=\"\",\"\",'別紙１各系統（太陽光）'!Q52)","v":""},{"$f":"IF(G55<=#REF!,G55,#REF!)","v":{"$error":"#REF!"}}]
[null,0,0,null,null,0,0,0,0,0,{"$f":"IF('別紙１各系統（太陽光）'!Q53=\"\",\"\",'別紙１各系統（太陽光）'!Q53)","v":""},{"$f":"IF(G56<=#REF!,G56,#REF!)","v":{"$error":"#REF!"}}]
[null,0,0,null,null,0,0,0,0,0,{"$f":"IF('別紙１各系統（太陽光）'!Q54=\"\",\"\",'別紙１各系統（太陽光）'!Q54)","v":""},{"$f":"IF(G57<=#REF!,G57,#REF!)","v":{"$error":"#REF!"}}]
[null,0,0,null,null,0,0,0,0,0,{"$f":"IF('別紙１各系統（太陽光）'!Q55=\"\",\"\",'別紙１各系統（太陽光）'!Q55)","v":""},{"$f":"IF(G58<=#REF!,G58,#REF!)","v":{"$error":"#REF!"}}]
[null,0,0,null,null,0,0,0,0,0,{"$f":"IF('別紙１各系統（太陽光）'!Q56=\"\",\"\",'別紙１各系統（太陽光）'!Q56)","v":""},{"$f":"IF(G59<=#REF!,G59,#REF!)","v":{"$error":"#REF!"}}]
[null,0,0,null,null,0,0,0,0,0,{"$f":"IF('別紙１各系統（太陽光）'!Q57=\"\",\"\",'別紙１各系統（太陽光）'!Q57)","v":""},{"$f":"IF(G60<=#REF!,G60,#REF!)","v":{"$error":"#REF!"}}]
[null,0,0,null,null,0,0,0,0,0,{"$f":"IF('別紙１各系統（太陽光）'!Q58=\"\",\"\",'別紙１各系統（太陽光）'!Q58)","v":""},{"$f":"IF(G61<=#REF!,G61,#REF!)","v":{"$error":"#REF!"}}]
[null,0,0,null,null,0,0,0,0,0,{"$f":"IF('別紙１各系統（太陽光）'!Q59=\"\",\"\",'別紙１各系統（太陽光）'!Q59)","v":""},{"$f":"IF(G62<=#REF!,G62,#REF!)","v":{"$error":"#REF!"}}]
[null,0,0,null,null,0,0,0,0,0,{"$f":"IF('別紙１各系統（太陽光）'!Q60=\"\",\"\",'別紙１各系統（太陽光）'!Q60)","v":""},{"$f":"IF(G63<=#REF!,G63,#REF!)","v":{"$error":"#REF!"}}]
[null,0,0,null,null,0,0,0,0,0,{"$f":"IF('別紙１各系統（太陽光）'!Q61=\"\",\"\",'別紙１各系統（太陽光）'!Q61)","v":""},{"$f":"IF(G64<=#REF!,G64,#REF!)","v":{"$error":"#REF!"}}]
[null,0,0,null,null,0,0,0,0,0,{"$f":"IF('別紙１各系統（太陽光）'!Q62=\"\",\"\",'別紙１各系統（太陽光）'!Q62)","v":""},{"$f":"IF(G65<=#REF!,G65,#REF!)","v":{"$error":"#REF!"}}]
[null,0,0,null,null,0,0,0,0,0,{"$f":"IF('別紙１各系統（太陽光）'!Q63=\"\",\"\",'別紙１各系統（太陽光）'!Q63)","v":""},{"$f":"IF(G66<=#REF!,G66,#REF!)","v":{"$error":"#REF!"}}]
[null,0,0,null,null,0,0,0,0,0,{"$f":"IF('別紙１各系統（太陽光）'!Q64=\"\",\"\",'別紙１各系統（太陽光）'!Q64)","v":""},{"$f":"IF(G67<=#REF!,G67,#REF!)","v":{"$error":"#REF!"}}]
[null,0,0,null,null,0,0,0,0,0,{"$f":"IF('別紙１各系統（太陽光）'!Q65=\"\",\"\",'別紙１各系統（太陽光）'!Q65)","v":""},{"$f":"IF(G68<=#REF!,G68,#REF!)","v":{"$error":"#REF!"}}]
[null,0,0,null,null,0,0,0,0,0,{"$f":"IF('別紙１各系統（太陽光）'!Q66=\"\",\"\",'別紙１各系統（太陽光）'!Q66)","v":""},{"$f":"IF(G69<=#REF!,G69,#REF!)","v":{"$error":"#REF!"}}]
[null,0,0,null,null,0,0,0,0,0,{"$f":"IF('別紙１各系統（太陽光）'!Q67=\"\",\"\",'別紙１各系統（太陽光）'!Q67)","v":""},{"$f":"IF(G70<=#REF!,G70,#REF!)","v":{"$error":"#REF!"}}]
[null,0,0,null,null,0,0,0,0,0,{"$f":"IF('別紙１各系統（太陽光）'!Q68=\"\",\"\",'別紙１各系統（太陽光）'!Q68)","v":""},{"$f":"IF(G71<=#REF!,G71,#REF!)","v":{"$error":"#REF!"}}]
[null,0,0,null,null,0,0,0,0,0,{"$f":"IF('別紙１各系統（太陽光）'!Q69=\"\",\"\",'別紙１各系統（太陽光）'!Q69)","v":""},{"$f":"IF(G72<=#REF!,G72,#REF!)","v":{"$error":"#REF!"}}]
[null,0,0,null,null,0,0,0,0,0,{"$f":"IF('別紙１各系統（太陽光）'!Q70=\"\",\"\",'別紙１各系統（太陽光）'!Q70)","v":""},{"$f":"IF(G73<=#REF!,G73,#REF!)","v":{"$error":"#REF!"}}]
[null,0,0,null,null,0,0,0,0,0,{"$f":"IF('別紙１各系統（太陽光）'!Q71=\"\",\"\",'別紙１各系統（太陽光）'!Q71)","v":""},{"$f":"IF(G74<=#REF!,G74,#REF!)","v":{"$error":"#REF!"}}]
[null,0,0,null,null,0,0,0,0,0,{"$f":"IF('別紙１各系統（太陽光）'!Q72=\"\",\"\",'別紙１各系統（太陽光）'!Q72)","v":""},{"$f":"IF(G75<=#REF!,G75,#REF!)","v":{"$error":"#REF!"}}]
[null,0,0,null,null,0,0,0,0,0,{"$f":"IF('別紙１各系統（太陽光）'!Q73=\"\",\"\",'別紙１各系統（太陽光）'!Q73)","v":""},{"$f":"IF(G76<=#REF!,G76,#REF!)","v":{"$error":"#REF!"}}]
[null,0,0,null,null,0,0,0,0,0,{"$f":"IF('別紙１各系統（太陽光）'!Q74=\"\",\"\",'別紙１各系統（太陽光）'!Q74)","v":""},{"$f":"IF(G77<=#REF!,G77,#REF!)","v":{"$error":"#REF!"}}]
[null,0,0,null,null,0,0,0,0,0,{"$f":"IF('別紙１各系統（太陽光）'!Q75=\"\",\"\",'別紙１各系統（太陽光）'!Q75)","v":""},{"$f":"IF(G78<=#REF!,G78,#REF!)","v":{"$error":"#REF!"}}]
[null,0,0,null,null,0,0,0,0,0,{"$f":"IF('別紙１各系統（太陽光）'!Q76=\"\",\"\",'別紙１各系統（太陽光）'!Q76)","v":""},{"$f":"IF(G79<=#REF!,G79,#REF!)","v":{"$error":"#REF!"}}]
[null,0,0,null,null,0,0,0,0,0,{"$f":"IF('別紙１各系統（太陽光）'!Q77=\"\",\"\",'別紙１各系統（太陽光）'!Q77)","v":""},{"$f":"IF(G80<=#REF!,G80,#REF!)","v":{"$error":"#REF!"}}]
[null,0,0,null,null,0,0,0,0,0,{"$f":"IF('別紙１各系統（太陽光）'!Q78=\"\",\"\",'別紙１各系統（太陽光）'!Q78)","v":""},{"$f":"IF(G81<=#REF!,G81,#REF!)","v":{"$error":"#REF!"}}]
[null,0,0,null,null,0,0,0,0,0,{"$f":"IF('別紙１各系統（太陽光）'!Q79=\"\",\"\",'別紙１各系統（太陽光）'!Q79)","v":""},{"$f":"IF(G82<=#REF!,G82,#REF!)","v":{"$error":"#REF!"}}]
[null,0,0,null,null,0,0,0,0,0,{"$f":"IF('別紙１各系統（太陽光）'!Q80=\"\",\"\",'別紙１各系統（太陽光）'!Q80)","v":""},{"$f":"IF(G83<=#REF!,G83,#REF!)","v":{"$error":"#REF!"}}]
[]
[null,"（注） 上表の「特別措置対象発電設備」の欄に〇を付した契約発電設備は、発電設備系統連系サービス要綱附則２（料金についての特別措置） （1），（2）または（3）に該当する発電設備といたします。"]
[]
[]
[]
[null,"（２） 契約容量の算定諸元"]
[]
[null,"契約発電設備の定格出力の合計値",null,null,{"$f":"ROUND(SUM(K9:K83),0)","v":0}," kW"]
[null,"特別措置対象発電設備の定格出力の合計値",null,null,{"$f":"ROUND(SUMIF(M9:M83,\"〇\",K9:K83),0)","v":0}," kW"]
[]
[]
[]
[null,"２　控除容量の基準となる値（発電設備系統連系サービス要綱１３ [ 料金 ] （３）イおよびロの値）"]
[]
[null,"イ",null," ｋW"]
[null,"ロ",null," ｋW"]

{"sheet":"別紙（混在）","index":12,"n_rows":110,"n_cols":19,"rows_kept":110,"cut":false,"hidden":true,"merged":[[17,11,18,11],[17,12,18,12],[101,1,101,3],[102,1,102,3],[8,4,8,5],[8,7,8,8],[9,4,9,5],[9,7,9,8],[17,10,18,10],[10,4,10,5],[10,7,10,8],[11,4,11,5],[17,1,17,4],[17,5,17,9],[12,4,12,5],[12,7,12,8],[13,4,13,5],[13,7,13,8],[11,7,11,8],[6,1,6,5],[6,6,6,8],[6,12,7,12],[6,11,7,11],[6,10,7,10],[6,9,7,9],[7,4,7,5],[7,7,7,8]]}
[null,null,null,null,null,null,null,null,null,null,null,null,null,null,"別紙"]
[null,null,null,null,null,null,null,null,null,null,null,null,null,null,null,null,"（皮相電力一定）",null,"太陽光"]
[null,"１　契約発電設備",null,null,null,null,null,null,null,null,null,null,null,null,null,null,"（有効電力一定）",null,"水力"]
[null,null,null,null,null,null,null,null,null,null,null,null,null,null,null,null,"（その他）",null,"風力"]
[null,"（１）太陽光発電設備以外"]
[null,null,null,null,null,null,null,null,null,null,null,null,"〔 単位：kVA,kW 〕"]
[null,"発電機",null,null,null,null,"契約容量算定上の定格出力",null,null,"発電方式","用途","連系開始年月日","特別措置対象\n発電設備"]
[null,"製造者","型式","定格力率","銘板表示定格出力",null,null,"（摘要）"]
[]
[]
[]
[]
[]
[]
[]
[null,"（２） 太陽光発電設備"]
[null,null,null,null,null,null,null,null,null,null,null,null,"〔 単位：kW 〕"]
[null,"パワーコンディショナー",null,null,null,"太陽電池",null,null,null,null,"契約容量算定上の定格出力","連系開始年月日","特別措置対象\n発電設備"]
[null,"製造者","型式","力率","出力","製造者","型式","定格出力","枚数","出力計"]
[null,{"$f":"IF('別紙１各系統（太陽光）'!D6=\"\",\"\",'別紙１各系統（太陽光）'!D6)","v":""},{"$f":"IF('別紙１各系統（太陽光）'!E6=\"\",\"\",'別紙１各系統（太陽光）'!E6)","v":""},{"$f":"IF('別紙１各系統（太陽光）'!I6=\"\",\"\",'別紙１各系統（太陽光）'!I6)","v":""},{"$f":"IF('別紙１各系統（太陽光）'!J6=\"\",\"\",'別紙１各系統（太陽光）'!J6)","v":""},{"$f":"IF('別紙１各系統（太陽光）'!K6=\"\",\"\",'別紙１各系統（太陽光）'!K6)","v":""},{"$f":"IF('別紙１各系統（太陽光）'!L6=\"\",\"\",'別紙１各系統（太陽光）'!L6)","v":""},{"$f":"IF('別紙１各系統（太陽光）'!M6=\"\",\"\",'別紙１各系統（太陽光）'!M6)","v":""},{"$f":"IF('別紙１各系統（太陽光）'!N6=\"\",\"\",'別紙１各系統（太陽光）'!N6)","v":""},{"$f":"IF('別紙１各系統（太陽光）'!O6=\"\",\"\",'別紙１各系統（太陽光）'!O6)","v":""},{"$f":"IF('別紙１各系統（太陽光）'!Q6=\"\",\"\",'別紙１各系統（太陽光）'!Q6)","v":""},null,{"$f":"IF(C20=\"\",\"\",\"〇\")","v":""}]
[null,{"$f":"IF('別紙１各系統（太陽光）'!D7=\"\",\"\",'別紙１各系統（太陽光）'!D7)","v":""},{"$f":"IF('別紙１各系統（太陽光）'!E7=\"\",\"\",'別紙１各系統（太陽光）'!E7)","v":""},{"$f":"IF('別紙１各系統（太陽光）'!I7=\"\",\"\",'別紙１各系統（太陽光）'!I7)","v":""},{"$f":"IF('別紙１各系統（太陽光）'!J7=\"\",\"\",'別紙１各系統（太陽光）'!J7)","v":""},{"$f":"IF('別紙１各系統（太陽光）'!K7=\"\",\"\",'別紙１各系統（太陽光）'!K7)","v":""},{"$f":"IF('別紙１各系統（太陽光）'!L7=\"\",\"\",'別紙１各系統（太陽光）'!L7)","v":""},{"$f":"IF('別紙１各系統（太陽光）'!M7=\"\",\"\",'別紙１各系統（太陽光）'!M7)","v":""},{"$f":"IF('別紙１各系統（太陽光）'!N7=\"\",\"\",'別紙１各系統（太陽光）'!N7)","v":""},{"$f":"IF('別紙１各系統（太陽光）'!O7=\"\",\"\",'別紙１各系統（太陽光）'!O7)","v":""},{"$f":"IF('別紙１各系統（太陽光）'!Q7=\"\",\"\",'別紙１各系統（太陽光）'!Q7)","v":""},null,{"$f":"IF(C21=\"\",\"\",\"〇\")","v":""}]
[null,{"$f":"IF('別紙１各系統（太陽光）'!D8=\"\",\"\",'別紙１各系統（太陽光）'!D8)","v":""},{"$f":"IF('別紙１各系統（太陽光）'!E8=\"\",\"\",'別紙１各系統（太陽光）'!E8)","v":""},{"$f":"IF('別紙１各系統（太陽光）'!I8=\"\",\"\",'別紙１各系統（太陽光）'!I8)","v":""},{"$f":"IF('別紙１各系統（太陽光）'!J8=\"\",\"\",'別紙１各系統（太陽光）'!J8)","v":""},{"$f":"IF('別紙１各系統（太陽光）'!K8=\"\",\"\",'別紙１各系統（太陽光）'!K8)","v":""},{"$f":"IF('別紙１各系統（太陽光）'!L8=\"\",\"\",'別紙１各系統（太陽光）'!L8)","v":""},{"$f":"IF('別紙１各系統（太陽光）'!M8=\"\",\"\",'別紙１各系統（太陽光）'!M8)","v":""},{"$f":"IF('別紙１各系統（太陽光）'!N8=\"\",\"\",'別紙１各系統（太陽光）'!N8)","v":""},{"$f":"IF('別紙１各系統（太陽光）'!O8=\"\",\"\",'別紙１各系統（太陽光）'!O8)","v":""},{"$f":"IF('別紙１各系統（太陽光）'!Q8=\"\",\"\",'別紙１各系統（太陽光）'!Q8)","v":""},null,{"$f":"IF(C22=\"\",\"\",\"〇\")","v":""}]
[null,{"$f":"IF('別紙１各系統（太陽光）'!D9=\"\",\"\",'別紙１各系統（太陽光）'!D9)","v":""},{"$f":"IF('別紙１各系統（太陽光）'!E9=\"\",\"\",'別紙１各系統（太陽光）'!E9)","v":""},{"$f":"IF('別紙１各系統（太陽光）'!I9=\"\",\"\",'別紙１各系統（太陽光）'!I9)","v":""},{"$f":"IF('別紙１各系統（太陽光）'!J9=\"\",\"\",'別紙１各系統（太陽光）'!J9)","v":""},{"$f":"IF('別紙１各系統（太陽光）'!K9=\"\",\"\",'別紙１各系統（太陽光）'!K9)","v":""},{"$f":"IF('別紙１各系統（太陽光）'!L9=\"\",\"\",'別紙１各系統（太陽光）'!L9)","v":""},{"$f":"IF('別紙１各系統（太陽光）'!M9=\"\",\"\",'別紙１各系統（太陽光）'!M9)","v":""},{"$f":"IF('別紙１各系統（太陽光）'!N9=\"\",\"\",'別紙１各系統（太陽光）'!N9)","v":""},{"$f":"IF('別紙１各系統（太陽光）'!O9=\"\",\"\",'別紙１各系統（太陽光）'!O9)","v":""},{"$f":"IF('別紙１各系統（太陽光）'!Q9=\"\",\"\",'別紙１各系統（太陽光）'!Q9)","v":""},null,""]
[null,{"$f":"IF('別紙１各系統（太陽光）'!D10=\"\",\"\",'別紙１各系統（太陽光）'!D10)","v":""},{"$f":"IF('別紙１各系統（太陽光）'!E10=\"\",\"\",'別紙１各系統（太陽光）'!E10)","v":""},{"$f":"IF('別紙１各系統（太陽光）'!I10=\"\",\"\",'別紙１各系統（太陽光）'!I10)","v":""},{"$f":"IF('別紙１各系統（太陽光）'!J10=\"\",\"\",'別紙１各系統（太陽光）'!J10)","v":""},{"$f":"IF('別紙１各系統（太陽光）'!K10=\"\",\"\",'別紙１各系統（太陽光）'!K10)","v":""},{"$f":"IF('別紙１各系統（太陽光）'!L10=\"\",\"\",'別紙１各系統（太陽光）'!L10)","v":""},{"$f":"IF('別紙１各系統（太陽光）'!M10=\"\",\"\",'別紙１各系統（太陽光）'!M10)","v":""},{"$f":"IF('別紙１各系統（太陽光）'!N10=\"\",\"\",'別紙１各系統（太陽光）'!N10)","v":""},{"$f":"IF('別紙１各系統（太陽光）'!O10=\"\",\"\",'別紙１各系統（太陽光）'!O10)","v":""},{"$f":"IF('別紙１各系統（太陽光）'!Q10=\"\",\"\",'別紙１各系統（太陽光）'!Q10)","v":""},null,""]
[null,{"$f":"IF('別紙１各系統（太陽光）'!D11=\"\",\"\",'別紙１各系統（太陽光）'!D11)","v":""},{"$f":"IF('別紙１各系統（太陽光）'!E11=\"\",\"\",'別紙１各系統（太陽光）'!E11)","v":""},{"$f":"IF('別紙１各系統（太陽光）'!I11=\"\",\"\",'別紙１各系統（太陽光）'!I11)","v":""},{"$f":"IF('別紙１各系統（太陽光）'!J11=\"\",\"\",'別紙１各系統（太陽光）'!J11)","v":""},{"$f":"IF('別紙１各系統（太陽光）'!K11=\"\",\"\",'別紙１各系統（太陽光）'!K11)","v":""},{"$f":"IF('別紙１各系統（太陽光）'!L11=\"\",\"\",'別紙１各系統（太陽光）'!L11)","v":""},{"$f":"IF('別紙１各系統（太陽光）'!M11=\"\",\"\",'別紙１各系統（太陽光）'!M11)","v":""},{"$f":"IF('別紙１各系統（太陽光）'!N11=\"\",\"\",'別紙１各系統（太陽光）'!N11)","v":""},{"$f":"IF('別紙１各系統（太陽光）'!O11=\"\",\"\",'別紙１各系統（太陽光）'!O11)","v":""},{"$f":"IF('別紙１各系統（太陽光）'!Q11=\"\",\"\",'別紙１各系統（太陽光）'!Q11)","v":""},null,""]
[null,{"$f":"IF('別紙１各系統（太陽光）'!D12=\"\",\"\",'別紙１各系統（太陽光）'!D12)","v":""},{"$f":"IF('別紙１各系統（太陽光）'!E12=\"\",\"\",'別紙１各系統（太陽光）'!E12)","v":""},{"$f":"IF('別紙１各系統（太陽光）'!I12=\"\",\"\",'別紙１各系統（太陽光）'!I12)","v":""},{"$f":"IF('別紙１各系統（太陽光）'!J12=\"\",\"\",'別紙１各系統（太陽光）'!J12)","v":""},{"$f":"IF('別紙１各系統（太陽光）'!K12=\"\",\"\",'別紙１各系統（太陽光）'!K12)","v":""},{"$f":"IF('別紙１各系統（太陽光）'!L12=\"\",\"\",'別紙１各系統（太陽光）'!L12)","v":""},{"$f":"IF('別紙１各系統（太陽光）'!M12=\"\",\"\",'別紙１各系統（太陽光）'!M12)","v":""},{"$f":"IF('別紙１各系統（太陽光）'!N12=\"\",\"\",'別紙１各系統（太陽光）'!N12)","v":""},{"$f":"IF('別紙１各系統（太陽光）'!O12=\"\",\"\",'別紙１各系統（太陽光）'!O12)","v":""},{"$f":"IF('別紙１各系統（太陽光）'!Q12=\"\",\"\",'別紙１各系統（太陽光）'!Q12)","v":""},null,""]
[null,{"$f":"IF('別紙１各系統（太陽光）'!D13=\"\",\"\",'別紙１各系統（太陽光）'!D13)","v":""},{"$f":"IF('別紙１各系統（太陽光）'!E13=\"\",\"\",'別紙１各系統（太陽光）'!E13)","v":""},{"$f":"IF('別紙１各系統（太陽光）'!I13=\"\",\"\",'別紙１各系統（太陽光）'!I13)","v":""},{"$f":"IF('別紙１各系統（太陽光）'!J13=\"\",\"\",'別紙１各系統（太陽光）'!J13)","v":""},{"$f":"IF('別紙１各系統（太陽光）'!K13=\"\",\"\",'別紙１各系統（太陽光）'!K13)","v":""},{"$f":"IF('別紙１各系統（太陽光）'!L13=\"\",\"\",'別紙１各系統（太陽光）'!L13)","v":""},{"$f":"IF('別紙１各系統（太陽光）'!M13=\"\",\"\",'別紙１各系統（太陽光）'!M13)","v":""},{"$f":"IF('別紙１各系統（太陽光）'!N13=\"\",\"\",'別紙１各系統（太陽光）'!N13)","v":""},{"$f":"IF('別紙１各系統（太陽光）'!O13=\"\",\"\",'別紙１各系統（太陽光）'!O13)","v":""},{"$f":"IF('別紙１各系統（太陽光）'!Q13=\"\",\"\",'別紙１各系統（太陽光）'!Q13)","v":""},null,""]
[null,{"$f":"IF('別紙１各系統（太陽光）'!D14=\"\",\"\",'別紙１各系統（太陽光）'!D14)","v":""},{"$f":"IF('別紙１各系統（太陽光）'!E14=\"\",\"\",'別紙１各系統（太陽光）'!E14)","v":""},{"$f":"IF('別紙１各系統（太陽光）'!I14=\"\",\"\",'別紙１各系統（太陽光）'!I14)","v":""},{"$f":"IF('別紙１各系統（太陽光）'!J14=\"\",\"\",'別紙１各系統（太陽光）'!J14)","v":""},{"$f":"IF('別紙１各系統（太陽光）'!K14=\"\",\"\",'別紙１各系統（太陽光）'!K14)","v":""},{"$f":"IF('別紙１各系統（太陽光）'!L14=\"\",\"\",'別紙１各系統（太陽光）'!L14)","v":""},{"$f":"IF('別紙１各系統（太陽光）'!M14=\"\",\"\",'別紙１各系統（太陽光）'!M14)","v":""},{"$f":"IF('別紙１各系統（太陽光）'!N14=\"\",\"\",'別紙１各系統（太陽光）'!N14)","v":""},{"$f":"IF('別紙１各系統（太陽光）'!O14=\"\",\"\",'別紙１各系統（太陽光）'!O14)","v":""},{"$f":"IF('別紙１各系統（太陽光）'!Q14=\"\",\"\",'別紙１各系統（太陽光）'!Q14)","v":""},null,""]
[null,{"$f":"IF('別紙１各系統（太陽光）'!D15=\"\",\"\",'別紙１各系統（太陽光）'!D15)","v":""},{"$f":"IF('別紙１各系統（太陽光）'!E15=\"\",\"\",'別紙１各系統（太陽光）'!E15)","v":""},{"$f":"IF('別紙１各系統（太陽光）'!I15=\"\",\"\",'別紙１各系統（太陽光）'!I15)","v":""},{"$f":"IF('別紙１各系統（太陽光）'!J15=\"\",\"\",'別紙１各系統（太陽光）'!J15)","v":""},{"$f":"IF('別紙１各系統（太陽光）'!K15=\"\",\"\",'別紙１各系統（太陽光）'!K15)","v":""},{"$f":"IF('別紙１各系統（太陽光）'!L15=\"\",\"\",'別紙１各系統（太陽光）'!L15)","v":""},{"$f":"IF('別紙１各系統（太陽光）'!M15=\"\",\"\",'別紙１各系統（太陽光）'!M15)","v":""},{"$f":"IF('別紙１各系統（太陽光）'!N15=\"\",\"\",'別紙１各系統（太陽光）'!N15)","v":""},{"$f":"IF('別紙１各系統（太陽光）'!O15=\"\",\"\",'別紙１各系統（太陽光）'!O15)","v":""},{"$f":"IF('別紙１各系統（太陽光）'!Q15=\"\",\"\",'別紙１各系統（太陽光）'!Q15)","v":""},null,""]
[null,{"$f":"IF('別紙１各系統（太陽光）'!D16=\"\",\"\",'別紙１各系統（太陽光）'!D16)","v":""},{"$f":"IF('別紙１各系統（太陽光）'!E16=\"\",\"\",'別紙１各系統（太陽光）'!E16)","v":""},{"$f":"IF('別紙１各系統（太陽光）'!I16=\"\",\"\",'別紙１各系統（太陽光）'!I16)","v":""},{"$f":"IF('別紙１各系統（太陽光）'!J16=\"\",\"\",'別紙１各系統（太陽光）'!J16)","v":""},{"$f":"IF('別紙１各系統（太陽光）'!K16=\"\",\"\",'別紙１各系統（太陽光）'!K16)","v":""},{"$f":"IF('別紙１各系統（太陽光）'!L16=\"\",\"\",'別紙１各系統（太陽光）'!L16)","v":""},{"$f":"IF('別紙１各系統（太陽光）'!M16=\"\",\"\",'別紙１各系統（太陽光）'!M16)","v":""},{"$f":"IF('別紙１各系統（太陽光）'!N16=\"\",\"\",'別紙１各系統（太陽光）'!N16)","v":""},{"$f":"IF('別紙１各系統（太陽光）'!O16=\"\",\"\",'別紙１各系統（太陽光）'!O16)","v":""},{"$f":"IF('別紙１各系統（太陽光）'!Q16=\"\",\"\",'別紙１各系統（太陽光）'!Q16)","v":""},null,""]
[null,{"$f":"IF('別紙１各系統（太陽光）'!D17=\"\",\"\",'別紙１各系統（太陽光）'!D17)","v":""},{"$f":"IF('別紙１各系統（太陽光）'!E17=\"\",\"\",'別紙１各系統（太陽光）'!E17)","v":""},{"$f":"IF('別紙１各系統（太陽光）'!I17=\"\",\"\",'別紙１各系統（太陽光）'!I17)","v":""},{"$f":"IF('別紙１各系統（太陽光）'!J17=\"\",\"\",'別紙１各系統（太陽光）'!J17)","v":""},{"$f":"IF('別紙１各系統（太陽光）'!K17=\"\",\"\",'別紙１各系統（太陽光）'!K17)","v":""},{"$f":"IF('別紙１各系統（太陽光）'!L17=\"\",\"\",'別紙１各系統（太陽光）'!L17)","v":""},{"$f":"IF('別紙１各系統（太陽光）'!M17=\"\",\"\",'別紙１各系統（太陽光）'!M17)","v":""},{"$f":"IF('別紙１各系統（太陽光）'!N17=\"\",\"\",'別紙１各系統（太陽光）'!N17)","v":""},{"$f":"IF('別紙１各系統（太陽光）'!O17=\"\",\"\",'別紙１各系統（太陽光）'!O17)","v":""},{"$f":"IF('別紙１各系統（太陽光）'!Q17=\"\",\"\",'別紙１各系統（太陽光）'!Q17)","v":""},null,""]
[null,{"$f":"IF('別紙１各系統（太陽光）'!D18=\"\",\"\",'別紙１各系統（太陽光）'!D18)","v":""},{"$f":"IF('別紙１各系統（太陽光）'!E18=\"\",\"\",'別紙１各系統（太陽光）'!E18)","v":""},{"$f":"IF('別紙１各系統（太陽光）'!I18=\"\",\"\",'別紙１各系統（太陽光）'!I18)","v":""},{"$f":"IF('別紙１各系統（太陽光）'!J18=\"\",\"\",'別紙１各系統（太陽光）'!J18)","v":""},{"$f":"IF('別紙１各系統（太陽光）'!K18=\"\",\"\",'別紙１各系統（太陽光）'!K18)","v":""},{"$f":"IF('別紙１各系統（太陽光）'!L18=\"\",\"\",'別紙１各系統（太陽光）'!L18)","v":""},{"$f":"IF('別紙１各系統（太陽光）'!M18=\"\",\"\",'別紙１各系統（太陽光）'!M18)","v":""},{"$f":"IF('別紙１各系統（太陽光）'!N18=\"\",\"\",'別紙１各系統（太陽光）'!N18)","v":""},{"$f":"IF('別紙１各系統（太陽光）'!O18=\"\",\"\",'別紙１各系統（太陽光）'!O18)","v":""},{"$f":"IF('別紙１各系統（太陽光）'!Q18=\"\",\"\",'別紙１各系統（太陽光）'!Q18)","v":""},null,""]
[null,{"$f":"IF('別紙１各系統（太陽光）'!D19=\"\",\"\",'別紙１各系統（太陽光）'!D19)","v":""},{"$f":"IF('別紙１各系統（太陽光）'!E19=\"\",\"\",'別紙１各系統（太陽光）'!E19)","v":""},{"$f":"IF('別紙１各系統（太陽光）'!I19=\"\",\"\",'別紙１各系統（太陽光）'!I19)","v":""},{"$f":"IF('別紙１各系統（太陽光）'!J19=\"\",\"\",'別紙１各系統（太陽光）'!J19)","v":""},{"$f":"IF('別紙１各系統（太陽光）'!K19=\"\",\"\",'別紙１各系統（太陽光）'!K19)","v":""},{"$f":"IF('別紙１各系統（太陽光）'!L19=\"\",\"\",'別紙１各系統（太陽光）'!L19)","v":""},{"$f":"IF('別紙１各系統（太陽光）'!M19=\"\",\"\",'別紙１各系統（太陽光）'!M19)","v":""},{"$f":"IF('別紙１各系統（太陽光）'!N19=\"\",\"\",'別紙１各系統（太陽光）'!N19)","v":""},{"$f":"IF('別紙１各系統（太陽光）'!O19=\"\",\"\",'別紙１各系統（太陽光）'!O19)","v":""},{"$f":"IF('別紙１各系統（太陽光）'!Q19=\"\",\"\",'別紙１各系統（太陽光）'!Q19)","v":""},null,""]
[null,{"$f":"IF('別紙１各系統（太陽光）'!D20=\"\",\"\",'別紙１各系統（太陽光）'!D20)","v":""},{"$f":"IF('別紙１各系統（太陽光）'!E20=\"\",\"\",'別紙１各系統（太陽光）'!E20)","v":""},{"$f":"IF('別紙１各系統（太陽光）'!I20=\"\",\"\",'別紙１各系統（太陽光）'!I20)","v":""},{"$f":"IF('別紙１各系統（太陽光）'!J20=\"\",\"\",'別紙１各系統（太陽光）'!J20)","v":""},{"$f":"IF('別紙１各系統（太陽光）'!K20=\"\",\"\",'別紙１各系統（太陽光）'!K20)","v":""},{"$f":"IF('別紙１各系統（太陽光）'!L20=\"\",\"\",'別紙１各系統（太陽光）'!L20)","v":""},{"$f":"IF('別紙１各系統（太陽光）'!M20=\"\",\"\",'別紙１各系統（太陽光）'!M20)","v":""},{"$f":"IF('別紙１各系統（太陽光）'!N20=\"\",\"\",'別紙１各系統（太陽光）'!N20)","v":""},{"$f":"IF('別紙１各系統（太陽光）'!O20=\"\",\"\",'別紙１各系統（太陽光）'!O20)","v":""},{"$f":"IF('別紙１各系統（太陽光）'!Q20=\"\",\"\",'別紙１各系統（太陽光）'!Q20)","v":""},null,{"$f":"IF(C34=\"\",\"\",\"〇\")","v":""}]
[null,0,0,null,null,0,0,0,0,0,{"$f":"IF('別紙１各系統（太陽光）'!Q21=\"\",\"\",'別紙１各系統（太陽光）'!Q21)","v":""},{"$f":"IF(G35<=#REF!,G35,#REF!)","v":{"$error":"#REF!"}}]
[null,0,0,null,null,0,0,0,0,0,{"$f":"IF('別紙１各系統（太陽光）'!Q22=\"\",\"\",'別紙１各系統（太陽光）'!Q22)","v":""},{"$f":"IF(G36<=#REF!,G36,#REF!)","v":{"$error":"#REF!"}}]
[null,0,0,null,null,0,0,0,0,0,{"$f":"IF('別紙１各系統（太陽光）'!Q23=\"\",\"\",'別紙１各系統（太陽光）'!Q23)","v":""},{"$f":"IF(G37<=#REF!,G37,#REF!)","v":{"$error":"#REF!"}}]
[null,0,0,null,null,0,0,0,0,0,{"$f":"IF('別紙１各系統（太陽光）'!Q24=\"\",\"\",'別紙１各系統（太陽光）'!Q24)","v":""},{"$f":"IF(G38<=#REF!,G38,#REF!)","v":{"$error":"#REF!"}}]
[null,0,0,null,null,0,0,0,0,0,{"$f":"IF('別紙１各系統（太陽光）'!Q25=\"\",\"\",'別紙１各系統（太陽光）'!Q25)","v":""},{"$f":"IF(G39<=#REF!,G39,#REF!)","v":{"$error":"#REF!"}}]
[null,0,0,null,null,0,0,0,0,0,{"$f":"IF('別紙１各系統（太陽光）'!Q26=\"\",\"\",'別紙１各系統（太陽光）'!Q26)","v":""},{"$f":"IF(G40<=#REF!,G40,#REF!)","v":{"$error":"#REF!"}}]
[null,0,0,null,null,0,0,0,0,0,{"$f":"IF('別紙１各系統（太陽光）'!Q27=\"\",\"\",'別紙１各系統（太陽光）'!Q27)","v":""},{"$f":"IF(G41<=#REF!,G41,#REF!)","v":{"$error":"#REF!"}}]
[null,0,0,null,null,0,0,0,0,0,{"$f":"IF('別紙１各系統（太陽光）'!Q28=\"\",\"\",'別紙１各系統（太陽光）'!Q28)","v":""},{"$f":"IF(G42<=#REF!,G42,#REF!)","v":{"$error":"#REF!"}}]
[null,0,0,null,null,0,0,0,0,0,{"$f":"IF('別紙１各系統（太陽光）'!Q29=\"\",\"\",'別紙１各系統（太陽光）'!Q29)","v":""},{"$f":"IF(G43<=#REF!,G43,#REF!)","v":{"$error":"#REF!"}}]
[null,0,0,null,null,0,0,0,0,0,{"$f":"IF('別紙１各系統（太陽光）'!Q30=\"\",\"\",'別紙１各系統（太陽光）'!Q30)","v":""},{"$f":"IF(G44<=#REF!,G44,#REF!)","v":{"$error":"#REF!"}}]
[null,0,0,null,null,0,0,0,0,0,{"$f":"IF('別紙１各系統（太陽光）'!Q31=\"\",\"\",'別紙１各系統（太陽光）'!Q31)","v":""},{"$f":"IF(G45<=#REF!,G45,#REF!)","v":{"$error":"#REF!"}}]
[null,0,0,null,null,0,0,0,0,0,{"$f":"IF('別紙１各系統（太陽光）'!Q32=\"\",\"\",'別紙１各系統（太陽光）'!Q32)","v":""},{"$f":"IF(G46<=#REF!,G46,#REF!)","v":{"$error":"#REF!"}}]
[null,0,0,null,null,0,0,0,0,0,{"$f":"IF('別紙１各系統（太陽光）'!Q33=\"\",\"\",'別紙１各系統（太陽光）'!Q33)","v":""},{"$f":"IF(G47<=#REF!,G47,#REF!)","v":{"$error":"#REF!"}}]
[null,0,0,null,null,0,0,0,0,0,{"$f":"IF('別紙１各系統（太陽光）'!Q34=\"\",\"\",'別紙１各系統（太陽光）'!Q34)","v":""},{"$f":"IF(G48<=#REF!,G48,#REF!)","v":{"$error":"#REF!"}}]
[null,0,0,null,null,0,0,0,0,0,{"$f":"IF('別紙１各系統（太陽光）'!Q35=\"\",\"\",'別紙１各系統（太陽光）'!Q35)","v":""},{"$f":"IF(G49<=#REF!,G49,#REF!)","v":{"$error":"#REF!"}}]
[null,0,0,null,null,0,0,0,0,0,{"$f":"IF('別紙１各系統（太陽光）'!Q36=\"\",\"\",'別紙１各系統（太陽光）'!Q36)","v":""},{"$f":"IF(G50<=#REF!,G50,#REF!)","v":{"$error":"#REF!"}}]
[null,0,0,null,null,0,0,0,0,0,{"$f":"IF('別紙１各系統（太陽光）'!Q37=\"\",\"\",'別紙１各系統（太陽光）'!Q37)","v":""},{"$f":"IF(G51<=#REF!,G51,#REF!)","v":{"$error":"#REF!"}}]
[null,0,0,null,null,0,0,0,0,0,{"$f":"IF('別紙１各系統（太陽光）'!Q38=\"\",\"\",'別紙１各系統（太陽光）'!Q38)","v":""},{"$f":"IF(G52<=#REF!,G52,#REF!)","v":{"$error":"#REF!"}}]
[null,0,0,null,null,0,0,0,0,0,{"$f":"IF('別紙１各系統（太陽光）'!Q39=\"\",\"\",'別紙１各系統（太陽光）'!Q39)","v":""},{"$f":"IF(G53<=#REF!,G53,#REF!)","v":{"$error":"#REF!"}}]
[null,0,0,null,null,0,0,0,0,0,{"$f":"IF('別紙１各系統（太陽光）'!Q40=\"\",\"\",'別紙１各系統（太陽光）'!Q40)","v":""},{"$f":"IF(G54<=#REF!,G54,#REF!)","v":{"$error":"#REF!"}}]
[null,0,0,null,null,0,0,0,0,0,{"$f":"IF('別紙１各系統（太陽光）'!Q41=\"\",\"\",'別紙１各系統（太陽光）'!Q41)","v":""},{"$f":"IF(G55<=#REF!,G55,#REF!)","v":{"$error":"#REF!"}}]
[null,0,0,null,null,0,0,0,0,0,{"$f":"IF('別紙１各系統（太陽光）'!Q42=\"\",\"\",'別紙１各系統（太陽光）'!Q42)","v":""},{"$f":"IF(G56<=#REF!,G56,#REF!)","v":{"$error":"#REF!"}}]
[null,0,0,null,null,0,0,0,0,0,{"$f":"IF('別紙１各系統（太陽光）'!Q43=\"\",\"\",'別紙１各系統（太陽光）'!Q43)","v":""},{"$f":"IF(G57<=#REF!,G57,#REF!)","v":{"$error":"#REF!"}}]
[null,0,0,null,null,0,0,0,0,0,{"$f":"IF('別紙１各系統（太陽光）'!Q44=\"\",\"\",'別紙１各系統（太陽光）'!Q44)","v":""},{"$f":"IF(G58<=#REF!,G58,#REF!)","v":{"$error":"#REF!"}}]
[null,0,0,null,null,0,0,0,0,0,{"$f":"IF('別紙１各系統（太陽光）'!Q45=\"\",\"\",'別紙１各系統（太陽光）'!Q45)","v":""},{"$f":"IF(G59<=#REF!,G59,#REF!)","v":{"$error":"#REF!"}}]
[null,0,0,null,null,0,0,0,0,0,{"$f":"IF('別紙１各系統（太陽光）'!Q46=\"\",\"\",'別紙１各系統（太陽光）'!Q46)","v":""},{"$f":"IF(G60<=#REF!,G60,#REF!)","v":{"$error":"#REF!"}}]
[null,0,0,null,null,0,0,0,0,0,{"$f":"IF('別紙１各系統（太陽光）'!Q47=\"\",\"\",'別紙１各系統（太陽光）'!Q47)","v":""},{"$f":"IF(G61<=#REF!,G61,#REF!)","v":{"$error":"#REF!"}}]
[null,0,0,null,null,0,0,0,0,0,{"$f":"IF('別紙１各系統（太陽光）'!Q48=\"\",\"\",'別紙１各系統（太陽光）'!Q48)","v":""},{"$f":"IF(G62<=#REF!,G62,#REF!)","v":{"$error":"#REF!"}}]
[null,0,0,null,null,0,0,0,0,0,{"$f":"IF('別紙１各系統（太陽光）'!Q49=\"\",\"\",'別紙１各系統（太陽光）'!Q49)","v":""},{"$f":"IF(G63<=#REF!,G63,#REF!)","v":{"$error":"#REF!"}}]
[null,0,0,null,null,0,0,0,0,0,{"$f":"IF('別紙１各系統（太陽光）'!Q50=\"\",\"\",'別紙１各系統（太陽光）'!Q50)","v":""},{"$f":"IF(G64<=#REF!,G64,#REF!)","v":{"$error":"#REF!"}}]
[null,0,0,null,null,0,0,0,0,0,{"$f":"IF('別紙１各系統（太陽光）'!Q51=\"\",\"\",'別紙１各系統（太陽光）'!Q51)","v":""},{"$f":"IF(G65<=#REF!,G65,#REF!)","v":{"$error":"#REF!"}}]
[null,0,0,null,null,0,0,0,0,0,{"$f":"IF('別紙１各系統（太陽光）'!Q52=\"\",\"\",'別紙１各系統（太陽光）'!Q52)","v":""},{"$f":"IF(G66<=#REF!,G66,#REF!)","v":{"$error":"#REF!"}}]
[null,0,0,null,null,0,0,0,0,0,{"$f":"IF('別紙１各系統（太陽光）'!Q53=\"\",\"\",'別紙１各系統（太陽光）'!Q53)","v":""},{"$f":"IF(G67<=#REF!,G67,#REF!)","v":{"$error":"#REF!"}}]
[null,0,0,null,null,0,0,0,0,0,{"$f":"IF('別紙１各系統（太陽光）'!Q54=\"\",\"\",'別紙１各系統（太陽光）'!Q54)","v":""},{"$f":"IF(G68<=#REF!,G68,#REF!)","v":{"$error":"#REF!"}}]
[null,0,0,null,null,0,0,0,0,0,{"$f":"IF('別紙１各系統（太陽光）'!Q55=\"\",\"\",'別紙１各系統（太陽光）'!Q55)","v":""},{"$f":"IF(G69<=#REF!,G69,#REF!)","v":{"$error":"#REF!"}}]
[null,0,0,null,null,0,0,0,0,0,{"$f":"IF('別紙１各系統（太陽光）'!Q56=\"\",\"\",'別紙１各系統（太陽光）'!Q56)","v":""},{"$f":"IF(G70<=#REF!,G70,#REF!)","v":{"$error":"#REF!"}}]
[null,0,0,null,null,0,0,0,0,0,{"$f":"IF('別紙１各系統（太陽光）'!Q57=\"\",\"\",'別紙１各系統（太陽光）'!Q57)","v":""},{"$f":"IF(G71<=#REF!,G71,#REF!)","v":{"$error":"#REF!"}}]
[null,0,0,null,null,0,0,0,0,0,{"$f":"IF('別紙１各系統（太陽光）'!Q58=\"\",\"\",'別紙１各系統（太陽光）'!Q58)","v":""},{"$f":"IF(G72<=#REF!,G72,#REF!)","v":{"$error":"#REF!"}}]
[null,0,0,null,null,0,0,0,0,0,{"$f":"IF('別紙１各系統（太陽光）'!Q59=\"\",\"\",'別紙１各系統（太陽光）'!Q59)","v":""},{"$f":"IF(G73<=#REF!,G73,#REF!)","v":{"$error":"#REF!"}}]
[null,0,0,null,null,0,0,0,0,0,{"$f":"IF('別紙１各系統（太陽光）'!Q60=\"\",\"\",'別紙１各系統（太陽光）'!Q60)","v":""},{"$f":"IF(G74<=#REF!,G74,#REF!)","v":{"$error":"#REF!"}}]
[null,0,0,null,null,0,0,0,0,0,{"$f":"IF('別紙１各系統（太陽光）'!Q61=\"\",\"\",'別紙１各系統（太陽光）'!Q61)","v":""},{"$f":"IF(G75<=#REF!,G75,#REF!)","v":{"$error":"#REF!"}}]
[null,0,0,null,null,0,0,0,0,0,{"$f":"IF('別紙１各系統（太陽光）'!Q62=\"\",\"\",'別紙１各系統（太陽光）'!Q62)","v":""},{"$f":"IF(G76<=#REF!,G76,#REF!)","v":{"$error":"#REF!"}}]
[null,0,0,null,null,0,0,0,0,0,{"$f":"IF('別紙１各系統（太陽光）'!Q63=\"\",\"\",'別紙１各系統（太陽光）'!Q63)","v":""},{"$f":"IF(G77<=#REF!,G77,#REF!)","v":{"$error":"#REF!"}}]
[null,0,0,null,null,0,0,0,0,0,{"$f":"IF('別紙１各系統（太陽光）'!Q64=\"\",\"\",'別紙１各系統（太陽光）'!Q64)","v":""},{"$f":"IF(G78<=#REF!,G78,#REF!)","v":{"$error":"#REF!"}}]
[null,0,0,null,null,0,0,0,0,0,{"$f":"IF('別紙１各系統（太陽光）'!Q65=\"\",\"\",'別紙１各系統（太陽光）'!Q65)","v":""},{"$f":"IF(G79<=#REF!,G79,#REF!)","v":{"$error":"#REF!"}}]
[null,0,0,null,null,0,0,0,0,0,{"$f":"IF('別紙１各系統（太陽光）'!Q66=\"\",\"\",'別紙１各系統（太陽光）'!Q66)","v":""},{"$f":"IF(G80<=#REF!,G80,#REF!)","v":{"$error":"#REF!"}}]
[null,0,0,null,null,0,0,0,0,0,{"$f":"IF('別紙１各系統（太陽光）'!Q67=\"\",\"\",'別紙１各系統（太陽光）'!Q67)","v":""},{"$f":"IF(G81<=#REF!,G81,#REF!)","v":{"$error":"#REF!"}}]
[null,0,0,null,null,0,0,0,0,0,{"$f":"IF('別紙１各系統（太陽光）'!Q68=\"\",\"\",'別紙１各系統（太陽光）'!Q68)","v":""},{"$f":"IF(G82<=#REF!,G82,#REF!)","v":{"$error":"#REF!"}}]
[null,0,0,null,null,0,0,0,0,0,{"$f":"IF('別紙１各系統（太陽光）'!Q69=\"\",\"\",'別紙１各系統（太陽光）'!Q69)","v":""},{"$f":"IF(G83<=#REF!,G83,#REF!)","v":{"$error":"#REF!"}}]
[null,0,0,null,null,0,0,0,0,0,{"$f":"IF('別紙１各系統（太陽光）'!Q70=\"\",\"\",'別紙１各系統（太陽光）'!Q70)","v":""},{"$f":"IF(G84<=#REF!,G84,#REF!)","v":{"$error":"#REF!"}}]
[null,0,0,null,null,0,0,0,0,0,{"$f":"IF('別紙１各系統（太陽光）'!Q71=\"\",\"\",'別紙１各系統（太陽光）'!Q71)","v":""},{"$f":"IF(G85<=#REF!,G85,#REF!)","v":{"$error":"#REF!"}}]
[null,0,0,null,null,0,0,0,0,0,{"$f":"IF('別紙１各系統（太陽光）'!Q72=\"\",\"\",'別紙１各系統（太陽光）'!Q72)","v":""},{"$f":"IF(G86<=#REF!,G86,#REF!)","v":{"$error":"#REF!"}}]
[null,0,0,null,null,0,0,0,0,0,{"$f":"IF('別紙１各系統（太陽光）'!Q73=\"\",\"\",'別紙１各系統（太陽光）'!Q73)","v":""},{"$f":"IF(G87<=#REF!,G87,#REF!)","v":{"$error":"#REF!"}}]
[null,0,0,null,null,0,0,0,0,0,{"$f":"IF('別紙１各系統（太陽光）'!Q74=\"\",\"\",'別紙１各系統（太陽光）'!Q74)","v":""},{"$f":"IF(G88<=#REF!,G88,#REF!)","v":{"$error":"#REF!"}}]
[null,0,0,null,null,0,0,0,0,0,{"$f":"IF('別紙１各系統（太陽光）'!Q75=\"\",\"\",'別紙１各系統（太陽光）'!Q75)","v":""},{"$f":"IF(G89<=#REF!,G89,#REF!)","v":{"$error":"#REF!"}}]
[null,0,0,null,null,0,0,0,0,0,{"$f":"IF('別紙１各系統（太陽光）'!Q76=\"\",\"\",'別紙１各系統（太陽光）'!Q76)","v":""},{"$f":"IF(G90<=#REF!,G90,#REF!)","v":{"$error":"#REF!"}}]
[null,0,0,null,null,0,0,0,0,0,{"$f":"IF('別紙１各系統（太陽光）'!Q77=\"\",\"\",'別紙１各系統（太陽光）'!Q77)","v":""},{"$f":"IF(G91<=#REF!,G91,#REF!)","v":{"$error":"#REF!"}}]
[null,0,0,null,null,0,0,0,0,0,{"$f":"IF('別紙１各系統（太陽光）'!Q78=\"\",\"\",'別紙１各系統（太陽光）'!Q78)","v":""},{"$f":"IF(G92<=#REF!,G92,#REF!)","v":{"$error":"#REF!"}}]
[null,0,0,null,null,0,0,0,0,0,{"$f":"IF('別紙１各系統（太陽光）'!Q79=\"\",\"\",'別紙１各系統（太陽光）'!Q79)","v":""},{"$f":"IF(G93<=#REF!,G93,#REF!)","v":{"$error":"#REF!"}}]
[null,0,0,null,null,0,0,0,0,0,{"$f":"IF('別紙１各系統（太陽光）'!Q80=\"\",\"\",'別紙１各系統（太陽光）'!Q80)","v":""},{"$f":"IF(G94<=#REF!,G94,#REF!)","v":{"$error":"#REF!"}}]
[]
[null,"（注） 上表の「特別措置対象発電設備」の欄に〇を付した契約発電設備は、発電設備系統連系サービス要綱附則２（料金についての特別措置） （1），（2）または（3）に該当する発電設備といたします。"]
[]
[]
[]
[null,"（３） 契約容量の算定諸元"]
[]
[null,"契約発電設備の定格出力の合計値",null,null,{"$f":"ROUND(SUM(G9:G14)+SUM(K20:K94),0)","v":0}," kW"]
[null,"特別措置対象発電設備の定格出力の合計値",null,null,{"$f":"ROUND(SUMIF(M9:M14,\"〇\",G9:G14)+SUMIF(M20:M94,\"〇\",K20:K94),0)","v":0}," kW"]
[]
[]
[]
[null,"２　控除容量の基準となる値（発電設備系統連系サービス要綱１３ [ 料金 ] （３）イおよびロの値）"]
[]
[null,"イ",null," ｋW"]
[null,"ロ",null," ｋW"]

{"sheet":"別紙（太陽光以外）","index":13,"n_rows":28,"n_cols":19,"rows_kept":28,"cut":false,"hidden":true,"merged":[[6,12,7,12],[7,4,7,5],[7,7,7,8],[6,1,6,5],[6,6,6,8],[6,9,7,9],[6,10,7,10],[6,11,7,11],[8,4,8,5],[8,7,8,8],[9,4,9,5],[9,7,9,8],[10,4,10,5],[10,7,10,8],[20,1,20,3],[19,1,19,3],[11,4,11,5],[11,7,11,8],[12,4,12,5],[12,7,12,8],[13,4,13,5],[13,7,13,8]]}
[null,null,null,null,null,null,null,null,null,null,null,null,null,null,"別紙"]
[null,null,null,null,null,null,null,null,null,null,null,null,null,null,null,null,"（皮相電力一定）",null,"太陽光"]
[null,"１　契約発電設備",null,null,null,null,null,null,null,null,null,null,null,null,null,null,"（有効電力一定）",null,"水力"]
[null,null,null,null,null,null,null,null,null,null,null,null,null,null,null,null,"（その他）",null,"風力"]
[null,"（１）太陽光発電設備以外"]
[null,null,null,null,null,null,null,null,null,null,null,null,"〔 単位：kVA,kW〕"]
[null,"発電機",null,null,null,null,"契約容量算定上の定格出力",null,null,"発電方式","用途","連系開始年月日","特別措置対象\n発電設備"]
[null,"製造者","型式","定格力率","銘板表示定格出力",null,null,"（摘要）"]
[]
[]
[]
[]
[]
[]
[null,"（注）上表の「特別措置対象発電設備」の欄に〇を付した契約発電設備は、発電設備系統連系サービス要綱附則２（料金についての特別措置） （1），（2）または（3）に該当する発電設備といたします。"]
[]
[]
[null,"（２） 契約容量の算定諸元"]
[]
[null,"契約発電設備の定格出力の合計値",null,null,{"$f":"ROUND(SUM(G9:G14),0)","v":0}," kW"]
[null,"特別措置対象発電設備の定格出力の合計値",null,null,{"$f":"ROUND(SUMIF(M9:M14,\"〇\",G9:G14),0)","v":0}," kW"]
[]
[]
[]
[null,"２　控除容量の基準となる値（発電設備系統連系サービス要綱１３ [ 料金 ] （３）イおよびロの値）"]
[]
[null,"イ",null," ｋW"]
[null,"ロ",null," ｋW"]

{"sheet":"取り決め","index":14,"n_rows":208,"n_cols":1,"rows_kept":208,"cut":false,"hidden":true,"merged":[[208,0,208,56],[209,0,209,56],[210,0,210,56],[200,0,200,56],[201,0,201,56],[202,0,202,56],[203,0,203,56],[204,0,204,56],[205,0,205,56],[206,0,206,56],[207,0,207,56],[104,0,105,56],[106,0,107,56],[108,0,109,56],[110,0,111,56],[112,0,113,56],[114,0,115,56],[116,0,117,56],[118,0,119,56],[176,0,177,56],[152,0,153,56],[154,0,155,56],[156,0,157,56],[158,0,159,56],[160,0,161,56],[162,0,163,56],[164,0,165,56],[166,0,167,56],[144,0,145,56],[146,0,147,56],[148,0,149,56],[150,0,151,56],[140,0,141,56],[142,0,143,56],[120,0,121,56],[20,0,21,56],[22,0,23,56],[80,0,81,56],[82,0,83,56],[84,0,85,56],[86,0,87,56],[88,0,89,56],[90,0,91,56],[56,0,57,56],[58,0,59,56],[60,0,61,56],[62,0,63,56],[64,0,65,56],[66,0,67,56],[68,0,69,56],[70,0,71,56],[48,0,49,56],[50,0,51,56],[52,0,53,56],[54,0,55,56],[44,0,45,56],[46,0,47,56],[24,0,25,56],[26,0,27,56],[2,0,3,56],[4,0,5,56],[6,0,7,56],[8,0,9,56],[10,0,11,56],[12,0,13,56],[14,0,15,56],[16,0,17,56],[18,0,19,56],[192,0,193,56],[194,0,195,56],[196,0,197,56],[198,0,199,56],[188,0,189,56],[190,0,191,56],[168,0,169,56],[170,0,171,56],[172,0,173,56],[174,0,175,56],[178,0,179,56],[180,0,181,56],[182,0,183,56],[184,0,185,56],[186,0,187,56],[122,0,123,56],[124,0,125,56],[126,0,127,56],[128,0,129,56],[130,0,131,56],[132,0,133,56],[134,0,135,56],[136,0,137,56],[138,0,139,56],[98,0,99,56],[100,0,101,56],[102,0,103,56],[92,0,93,56],[94,0,95,56],[72,0,73,56],[74,0,75,56],[76,0,77,56],[78,0,79,56],[28,0,29,56],[30,0,31,56],[32,0,33,56],[34,0,35,56],[36,0,37,56],[38,0,39,56],[40,0,41,56],[42,0,43,56],[96,0,97,56]]}
[]
[]
[]
[]
[]
[]
["　　　当社高圧配電設備への系統連系希望者さま"]
[]
[]
[]
[]
[]
["高圧発電設備系統連系に伴う取り決めについて"]
[]
[]
[]
[]
[]
["　　貴社発電設備を当社高圧配電線へ連系する場合、貴社の発電設備の並列運転に関する配電運用を円滑に行うため、下記の事項を遵守していただき"]
[]
["  ます。"]
[]
[]
[]
[" １　用語の定義"]
[]
["　（１）区分開閉器  "]
[]
["　　　　貴社当社の保安上の責任分界点に施設する開閉器をいう。"]
[]
["　（２）接続用遮断器  "]
[]
["　　　　貴社当社の責任分界点に近い箇所に施設する主遮断器をいう。"]
[]
["　（３）解列箇所  　"]
[]
["　　　　遮断器等により、貴社の発電設備を配電線から解列することのできる箇所をいう。"]
[]
["　（４）並列運転の防止措置"]
[]
["　　　　貴社の発電設備の停止または解列箇所の遮断器の引き出しにより、並列運転を防止する措置をいう。"]
[]
[]
[]
["　２　保護継電器の整定"]
[]
["　　（１）貴社は、次の場合、配電線との接続に係る保護継電器の整定値を変更する必要がある旨を、事前に当社へ連絡する。なお、整定値は、貴社"]
[]
["　　　　と当社で協議のうえ決定する。"]
[]
["　　　　ア　貴社の設備の増減設、取替等を行う場合  "]
[]
["　　　　イ　契約電力の変更等により整定値を変更する必要が生じた場合"]
[]
["  　（２）貴社は、当社からの依頼により配電線との接続に係る保護継電器の整定値を変更する。また、変更後、結果をすみやかに当社へ提出する。"]
[]
["　　（３）貴社は、保護継電器の試験を必要に応じて実施し、その結果をすみやかに当社へ提出する。 "]
[]
[]
[]
["　３　単独運転検出装置を設置する場合の運用（接続供給契約に対して発電出力が僅少であり、低圧連系同等の運用が認められる場合を除く）"]
[]
["　　　単独運転防止対策に単独運転検出装置を用いる場合の運用は、次による。"]
[]
["　　（１）貴社は、貴社と接続する当社の配電線の形態を変更する場合等、当社からの依頼により単独運転検出装置の有効性の確認を行い、その後、"]
[]
["          確認結果をすみやかに当社へ提出する。"]
[]
["　　（２）貴社は次の場合、並列運転の防止措置を実施した後、当社が並列運転を認めるまでの間、発電設備の解列を維持する。"]
[]
["　　　　ア　単独運転検出機能が有効に機能せず、配電線への接続に必要な措置を完了していない場合"]
[]
["　　　　イ　単独運転検出機能が有効に機能しうることの確認に著しく時間を要し、当社の配電線運用等を阻害していると当社が判断した場合"]
[]
[]
[]
["　４　転送遮断装置を設置する場合の運用"]
[]
["　　　単独運転防止対策に転送遮断装置を用いる場合の運用は、次による。"]
[]
["　　（１）転送遮断装置を使用・除外する場合"]
[]
["　　　　　転送遮断装置は、常時『使用』にて運用するものとする。ただし、貴社の転送遮断装置の点検等により転送遮断装置の停止が必要で転送遮"]
[]
["　　　　断装置を『除外』にする場合は、当社に事前に連絡し、支障のないよう、次により実施するものとする。"]
[]
["　　　　ア　貴社は、当社からの依頼により並列運転の防止措置を行い、当社へ連絡する。"]
[]
["　　　　　　貴社は、当社からの依頼により、自己装置の『除外』の操作を行う。転送遮断装置の『除外』の操作は、装置活殺スイッチ『４３ＴＴ』"]
[]
["　　　　　　および『ロックＴＴ』にて実施する。"]
[]
["　　　　イ　貴社は、自己装置の操作（使用→除外）完了後、その旨をすみやかに当社へ連絡する。この連絡の後、貴社は点検等を実施する。"]
[]
["　　　　ウ　貴社は、作業完了後すみやかに当社に連絡する。"]
[]
["　　　　エ　貴社は、作業完了後、当社からの依頼により、自己装置の『使用』の操作を行う。"]
[]
["　　　　オ　貴社は、自己装置の操作（除外→使用）完了後、その旨をすみやかに当社へ連絡する。"]
[]
["　　　　カ　貴社は、当社から並列運転可能の連絡を受けた後、並列する。"]
[]
["　　（２）貴社の転送遮断装置が動作した場合"]
[]
["　　　　ア　貴社は、自己の遮断器が転送遮断装置の動作により開放した場合または転送遮断装置の動作信号が点灯した場合、すみやかに当社へ連絡"]
[]
["　　　　　　をし、対応方法の確認を行う。"]
[]
[]
[]
["　５　系統作業時の運用"]
[]
["　　　系統作業に伴い、計画的な停電を行う場合の運用は、次による。"]
[]
["　　（１）配電線の作業停電により貴社が停電する場合"]
[]
["　　　　ア　貴社は、当社の依頼により発電設備の解列、区分開閉器の開放および安全措置を行い、その後、その旨を当社に連絡する。"]
[]
["　　　　イ　貴社は、当社の作業完了により当社から送電の連絡を受けた後、区分開閉器を投入し発電設備を並列する。"]
[]
["　　　　ウ　貴社は、発電設備を並列した後、その旨を当社に連絡する。"]
[]
["　　（２）配電線を切替える場合"]
[]
["　　　　（ア）貴社は、当社の依頼により並列運転の防止措置を行い、その後、当社にその防止措置完了の連絡をする。"]
[]
["　　　　（イ）貴社は、当社の配電線切戻し操作完了により当社から並列運転可能の連絡を受けた後、並列する。"]
[]
[]
[]
["　６　故障時の運用"]
[]
["　　　　当社設備に不測の故障が発生し、貴社が常時接続する配電線が停止した場合の運用は、次による。なお、接続供給契約に対して発電出力が僅"]
[]
["　　　　少であり、低圧連系同等の運用が認められる場合で、かつ配電線が復電した場合は、下記の項目によらず、予め定めた時限を経過した後に"]
[]
["        貴社の発電設備の並列運転を可能とする。"]
[]
["　　（１）配電線が故障した場合"]
[]
["　　　　ア　当社の設備に不測の故障が発生し、貴社が常時接続する配電線が停止した場合、発電設備が確実に解列されているか確認し、解列され"]
[]
["　　　　　　ていない場合、貴社は手動で発電設備を解列する。"]
[]
["　　　　イ　貴社は、当社から区分開閉器の開放の依頼を受けた場合、区分開閉器を開放し、その後、すみやかに当社へ連絡する。"]
[]
["　　　　ウ　貴社は、配電線の復旧により、当社から区分開閉器の投入が可能となった旨の連絡を受けた後、区分開閉器を投入する。"]
[]
["　　　　エ　貴社は、配電線の復旧により、当社から発電設備の並列運転が可能となった旨の連絡を受けた後、発電設備を並列する。"]
[]
["　　（２）貴社の自家用構内設備（以下「構内設備」という。）が故障した場合"]
[]
["　　　　ア　貴社は、貴社の構内設備に故障が発生し、接続用遮断器または解列箇所の遮断器等が開放した場合、停止時刻・動作継電器等を当社へ連"]
[]
["　　　　　　絡する。また貴社は、貴社の構内設備に故障が発生し、接続用遮断器または解列箇所の遮断器等が開放しなかった場合等、当社の配電線"]
[]
["　　　　　　に影響をおよぼしたときまたは、影響をおよぼす恐れのあるときは、すみやかに当社へ連絡する。"]
[]
["　　　　　　ただし、緊急を要する場合は、必要な措置を講じたうえで、すみやかに当社へ連絡する。"]
[]
["　　　　イ　貴社は、貴社の構内設備の故障が復旧した後、当社と協議のうえ受電・並列する。"]
[]
["　　　　ウ　貴社は、発電設備を並列した後、その旨を当社に連絡する。"]
[]
["　　（３）その他緊急時の措置および連絡"]
[]
["　　　　ア　貴社は、貴社の構内設備に不測の事態が発生し、安全確保上、発電設備の解列が必要と判断した場合、すみやかに当社へ連絡する。"]
[]
["　　　　　　ただし、緊急を要する場合は、必要な措置を講じたうえで、すみやかに当社へ連絡する。"]
[]
["　　　　イ　貴社は、上記ア、イ以外の、災害または自己の設備に異常その他緊急を要する事態が発生した場合、必要な措置を講じたうえで、"]
[]
["　　　　　　すみやかに当社へ連絡する。"]
[]
["　　　　ウ　上記（１）、（２）以外の事由により、貴社の発電設備が解列した場合、貴社は、当社にその旨を連絡し、当社と協議のうえ発電設備を"]
[]
["　　　　　　並列する。"]
[]
[]
[]
["　７　需給ひっ迫時の運用"]
[]
["　　　需給ひっ迫に伴い、計画的な停電を行う場合の運用は、次による。"]
[]
["　　（１）需給ひっ迫に伴う計画的な停電により、貴社が常時接続する配電線が停止した場合、発電設備が確実に解列されているか確認し、解列され"]
[]
["　　　　　ていない場合、貴社は手動で発電設備を解列する。"]
[]
["　　（２）貴社は、当社があらかじめ当社ホームページ等で公表する停電終了予定時刻経過後、発電設備を並列する。"]
[]
[]
[]
["　８　緊急時の操作に対する協力"]
[]
["　　　公衆保安および設備保安のために緊急を要し、当社からの発電設備の解列の依頼を受けた場合、貴社は、協力して操作を行う。"]
[]
[]
[]
["　９　貴社の発電設備の解列および並列時の連絡"]
[]
["　　　貴社は、発電設備の解列および並列を実施する場合、操作前および操作後に当社へ連絡する。\n\n"]
["　　　ただし、需給ひっ迫時の運用による場合は、当社への連絡は不要とする。"]
[]
["　10　その他"]
["　　　本書に記載していない事項については、当社発行の「配電系統アクセス指針」、経済産業省発行の「電力品質確保に係る系統連系技術要件ガイ"]
["　　　ドライン」および「電気設備の技術基準の解釈」に沿って設計する。"]
[]
["以　上　　"]

{"sheet":"連絡体制","index":15,"n_rows":20,"n_cols":21,"rows_kept":20,"cut":false,"hidden":true,"merged":[[17,5,17,23],[12,11,12,12],[12,13,12,23],[13,18,13,19],[14,4,14,5],[14,6,14,10],[19,4,19,6],[19,8,19,9],[19,11,19,12],[8,0,8,4],[8,5,8,9],[8,10,8,13],[15,0,18,3],[15,4,15,23],[16,5,16,23],[13,4,13,5],[13,6,13,10],[13,11,13,12],[18,5,18,23],[13,20,13,23],[12,4,12,5],[12,6,12,10],[11,18,11,19],[9,10,9,23],[2,0,2,4],[2,5,2,23],[3,0,4,4],[4,5,4,23],[6,16,6,18],[6,19,6,23],[6,5,6,9],[6,10,6,13],[6,14,6,15],[9,0,9,4],[9,5,9,7],[9,8,9,9],[8,14,8,15],[8,16,8,23],[0,0,0,23],[19,0,19,3],[7,18,7,23],[14,11,14,12],[14,13,14,23],[11,0,12,3],[13,0,14,3],[11,4,11,5],[11,6,11,10],[13,13,13,17],[11,11,11,12],[11,13,11,17],[11,20,11,23],[3,5,3,23],[7,0,7,4],[6,0,6,4]]}
["発電設備系統連系に関する連絡体制　兼　単線図反映依頼票"]
[]
["発電設備設置場所",null,null,null,null,{"$f":"アンシラお知らせ!R36","v":0}]
["ご契約者さま名\n（代表者名）",null,null,null,null,{"$f":"アンシラお知らせ!B6","v":{"$error":"#REF!"}}]
[null,null,null,null,null,{"$f":"アンシラお知らせ!B8","v":{"$error":"#REF!"}}]
[]
["変電所",null,null,null,null,null,null,null,null,null,"フィーダー",null,null,null,null,null,"引込柱"]
["お客さま番号",null,null,null,null,{"$f":"アンシラお知らせ!B36","v":0},{"$f":"アンシラお知らせ!C36","v":0},{"$f":"アンシラお知らせ!D36","v":0},{"$f":"アンシラお知らせ!E36","v":0},{"$f":"アンシラお知らせ!F36","v":0},{"$f":"アンシラお知らせ!G36","v":0},{"$f":"アンシラお知らせ!H36","v":0},{"$f":"アンシラお知らせ!I36","v":0},{"$f":"アンシラお知らせ!J36","v":0},{"$f":"アンシラお知らせ!K36","v":0},{"$f":"アンシラお知らせ!L36","v":0},{"$f":"アンシラお知らせ!M36","v":0},{"$f":"アンシラお知らせ!N36","v":0}]
["発電方式",null,null,null,null,null,null,null,null,null,"逆潮流の有無"]
["合計出力",null,null,null,null,{"$f":"申込書!H37","v":0},null,null,"ｋＷ"]
[]
["主任技術者",null,null,null,"部署",null,{"$f":"申込書!I20","v":0},null,null,null,null,"氏名",null,{"$f":"申込書!P20","v":0},null,null,null,null,"電話",null,{"$f":"申込書!W20","v":0}]
[null,null,null,null,"ＦＡＸ",null,{"$f":"申込書!I21","v":0},null,null,null,null,"E-mail",null,{"$f":"申込書!P21","v":0}]
["連　絡　者",null,null,null,"部署",null,{"$f":"申込書!I22","v":0},null,null,null,null,"氏名",null,{"$f":"申込書!P22","v":0},null,null,null,null,"電話",null,{"$f":"申込書!W22","v":0}]
[null,null,null,null,"ＦＡＸ",null,{"$f":"申込書!I23","v":0},null,null,null,null,"E-mail",null,{"$f":"申込書!P23","v":0}]
["方　式",null,null,null,"以下のうち，該当するものを選択してください。"]
[null,null,null,null,{"$f":"IF(申込書!$AD$25=TRUE,\"✓\",\"\")","v":""},"専用保安通信用電話設備"]
[null,null,null,null,{"$f":"IF(申込書!$AE$25=TRUE,\"✓\",\"\")","v":""},"第一種電気通信事業者の専用回線電話"]
[null,null,null,null,{"$f":"IF(申込書!$AF$25=TRUE,\"✓\",\"\")","v":""},"次の条件をすべて満たす場合の一般加入電話または携帯電話等\n　ア　接続者側の交換機を介さず直接技術員との通話が可能な方式（交換機を介する代表番号\n　　　方式ではなく，直接技術員所在箇所へつながる単番方式）であること\n　イ　話中の場合に割込みが可能な方式（キャッチホン等）であること\n　ウ　停電時においても通話可能なものであること\n　エ　災害時等において当社と連絡が取れない場合，当社と連絡が取れるまでの間，発電設備を\n　　　系統から解列または発電設備の運転を停止するよう，保安規程に明記すること"]
["連系開始日",null,null,null,{"$f":"アンシラお知らせ!L29","v":0},null,null,"年",{"$f":"アンシラお知らせ!O29","v":0},null,"月",{"$f":"アンシラお知らせ!R29","v":0},null,"日"]