{"text_format":"1","workbook":"xlsx","n_sheets":22,"sheets":["共架申込","しゅん工後","1","2","3","4","5","6","7","8","9","10","11","12","13","14","15","16","17","18","19","20"],"not_rendered":{"charts":0,"images":1,"macros":1,"external_links":0,"defined_names":0,"comments":0,"pivot_tables":0},"unopened":[],"bounds":{"document_bytes":16777216,"sheet_cells":100000,"rows_first":2000,"rows_last":500,"rows_between":2000,"halvings":0,"cell_chars":16384,"cell_head_chars":4096},"cells_cut":0,"cells_raw":0,"read":"whole","date_system":"1900"}

{"sheet":"共架申込","index":0,"n_rows":23,"n_cols":9,"rows_kept":23,"cut":false,"hidden":false,"merged":[[15,8,18,8],[1,7,1,8],[0,1,0,5],[0,7,0,8],[1,1,1,5],[5,8,8,8],[10,8,13,8]]}
[null,"最初に行っていただく項目",null,null,null,null,null,"最後に行っていただく項目"]
[null,"下記表に「共架申込番号」「事業場」「電柱番号」「撮影日」を入力してください。\n写真によって撮影日が異なる場合は、各写真で手入力をしていただくことが可能です。\n「シートに反映する」をクリックすると、各シートへ反映されます。\n※表を編集し「シートに反映する」をクリックすると内容が上書きされます。",null,null,null,null,null,"保存先フォルダのパスを入力してください。\n指定したフォルダが存在しない場合は、自動で作成することができます。\n※指定する必要がない場合は「フォルダ新規作成」には入力する必要はありません。"]
[null,"シート名","共架申込番号","事業場","電柱番号","撮影日\n（各シートで編集可能）",null,"保存先フォルダ"]
[null,1,null,null,null,null,null,"フォルダ新規作成"]
[null,2]
[null,3,null,null,null,null,null,null,"全シートの写真を一括でグループ化することが可能です。\n※正確な画像の保存に必要な作業となります。必ずクリックをお願いいたします。"]
[null,4]
[null,5]
[null,6]
[null,7]
[null,8,null,null,null,null,null,null,"全シートの写真を一括で保存することが可能です。「保存先フォルダ」で指定したフォルダへ保存されます。\n※「共架申込番号-事業場-電柱番号-撮影日-全景1（全景２，拡大1,拡大2）.png」\nという名前で保存されます。\n※画像保存の実行中は他の操作を行わないでください。"]
[null,9]
[null,10]
[null,11]
[null,12]
[null,13,null,null,null,null,null,null,"全シートの共架申込の写真、図形を削除することが可能です。\n画像の保存後に新しく画像の加工を行う場合にご活用ください。\n※一度削除してしまうと元に戻すことはできないためご注意ください。"]
[null,14]
[null,15]
[null,16]
[null,17]
[null,18]
[null,19]
[null,20]

{"sheet":"しゅん工後","index":1,"n_rows":23,"n_cols":9,"rows_kept":23,"cut":false,"hidden":false,"merged":[[15,8,18,8],[0,1,0,5],[0,7,0,8],[1,1,1,5],[1,7,1,8],[5,8,8,8],[10,8,13,8]]}
[null,"「共架申込」から引き継いだ項目",null,null,null,null,null,"最後に行っていただく項目"]
[null,"シート「共架申込」に記入いただいた「共架申込番号」「事業場」「電柱番号」「撮影日」が反映されています。\n撮影日を編集して「撮影日を反映」をクリックしてください\n※「シート名」「共架申込番号」「事業場」「電柱番号」の編集はシート「共架申込」で行ってください。",null,null,null,null,null,"保存先フォルダのパスを入力してください。\n指定したフォルダが存在しない場合は、自動で作成することができます。\n※￥ドキュメント￥exampleを保存先として指定し、「見本」フォルダを新規作成したい場合は、exampleまでを「保存先フォルダ」に、\n　　見本を「フォルダ新規作成」に入力してください。"]
[null,"シート名","共架申込番号","事業場","電柱番号","撮影日\n（各シートで編集可能）",null,"保存先フォルダ"]
[null,1,{"$f":"テーブル1[[#This Row],[共架申込番号]]","v":0},{"$f":"テーブル1[[#This Row],[事業場]]","v":0},{"$f":"テーブル1[[#This Row],[電柱番号]]","v":0},null,null,"フォルダ新規作成"]
[null,2,{"$f":"テーブル1[[#This Row],[共架申込番号]]","v":0},{"$f":"テーブル1[[#This Row],[事業場]]","v":0},{"$f":"テーブル1[[#This Row],[電柱番号]]","v":0}]
[null,3,{"$f":"テーブル1[[#This Row],[共架申込番号]]","v":0},{"$f":"テーブル1[[#This Row],[事業場]]","v":0},{"$f":"テーブル1[[#This Row],[電柱番号]]","v":0},null,null,null,"全シートの写真を一括でグループ化することが可能です。\n※正確な画像の保存に必要な作業となります。必ずクリックをお願いいたします。"]
[null,4,{"$f":"テーブル1[[#This Row],[共架申込番号]]","v":0},{"$f":"テーブル1[[#This Row],[事業場]]","v":0},{"$f":"テーブル1[[#This Row],[電柱番号]]","v":0}]
[null,5,{"$f":"テーブル1[[#This Row],[共架申込番号]]","v":0},{"$f":"テーブル1[[#This Row],[事業場]]","v":0},{"$f":"テーブル1[[#This Row],[電柱番号]]","v":0}]
[null,6,{"$f":"テーブル1[[#This Row],[共架申込番号]]","v":0},{"$f":"テーブル1[[#This Row],[事業場]]","v":0},{"$f":"テーブル1[[#This Row],[電柱番号]]","v":0}]
[null,7,{"$f":"テーブル1[[#This Row],[共架申込番号]]","v":0},{"$f":"テーブル1[[#This Row],[事業場]]","v":0},{"$f":"テーブル1[[#This Row],[電柱番号]]","v":0}]
[null,8,{"$f":"テーブル1[[#This Row],[共架申込番号]]","v":0},{"$f":"テーブル1[[#This Row],[事業場]]","v":0},{"$f":"テーブル1[[#This Row],[電柱番号]]","v":0},null,null,null,"全シートの写真を一括で保存することが可能です。\n「保存先フォルダ」で指定したフォルダへ保存されます。\n※ファイルは「共架申込番号-事業場-電柱番号-撮影日-全景1（全景２，拡大1,拡大2）.png」\nという名前で保存されます。"]
[null,9,{"$f":"テーブル1[[#This Row],[共架申込番号]]","v":0},{"$f":"テーブル1[[#This Row],[事業場]]","v":0},{"$f":"テーブル1[[#This Row],[電柱番号]]","v":0}]
[null,10,{"$f":"テーブル1[[#This Row],[共架申込番号]]","v":0},{"$f":"テーブル1[[#This Row],[事業場]]","v":0},{"$f":"テーブル1[[#This Row],[電柱番号]]","v":0}]
[null,11,{"$f":"テーブル1[[#This Row],[共架申込番号]]","v":0},{"$f":"テーブル1[[#This Row],[事業場]]","v":0},{"$f":"テーブル1[[#This Row],[電柱番号]]","v":0}]
[null,12,{"$f":"テーブル1[[#This Row],[共架申込番号]]","v":0},{"$f":"テーブル1[[#This Row],[事業場]]","v":0},{"$f":"テーブル1[[#This Row],[電柱番号]]","v":0}]
[null,13,{"$f":"テーブル1[[#This Row],[共架申込番号]]","v":0},{"$f":"テーブル1[[#This Row],[事業場]]","v":0},{"$f":"テーブル1[[#This Row],[電柱番号]]","v":0},null,null,null,"全シートのしゅん工後の写真、図形を削除することが可能です。\n画像の保存後に新しく画像の加工を行う場合にご活用ください。"]
[null,14,{"$f":"テーブル1[[#This Row],[共架申込番号]]","v":0},{"$f":"テーブル1[[#This Row],[事業場]]","v":0},{"$f":"テーブル1[[#This Row],[電柱番号]]","v":0}]
[null,15,{"$f":"テーブル1[[#This Row],[共架申込番号]]","v":0},{"$f":"テーブル1[[#This Row],[事業場]]","v":0},{"$f":"テーブル1[[#This Row],[電柱番号]]","v":0}]
[null,16,{"$f":"テーブル1[[#This Row],[共架申込番号]]","v":0},{"$f":"テーブル1[[#This Row],[事業場]]","v":0},{"$f":"テーブル1[[#This Row],[電柱番号]]","v":0}]
[null,17,{"$f":"テーブル1[[#This Row],[共架申込番号]]","v":0},{"$f":"テーブル1[[#This Row],[事業場]]","v":0},{"$f":"テーブル1[[#This Row],[電柱番号]]","v":0}]
[null,18,{"$f":"テーブル1[[#This Row],[共架申込番号]]","v":0},{"$f":"テーブル1[[#This Row],[事業場]]","v":0},{"$f":"テーブル1[[#This Row],[電柱番号]]","v":0}]
[null,19,{"$f":"テーブル1[[#This Row],[共架申込番号]]","v":0},{"$f":"テーブル1[[#This Row],[事業場]]","v":0},{"$f":"テーブル1[[#This Row],[電柱番号]]","v":0}]
[null,20,{"$f":"テーブル1[[#This Row],[共架申込番号]]","v":0},{"$f":"テーブル1[[#This Row],[事業場]]","v":0},{"$f":"テーブル1[[#This Row],[電柱番号]]","v":0}]

{"sheet":"1","index":2,"n_rows":21,"n_cols":15,"rows_kept":21,"cut":false,"hidden":false,"merged":[[4,1,4,3],[13,1,14,1],[4,8,4,10],[16,8,16,10],[17,8,18,8],[17,9,18,10],[13,2,14,3],[5,2,6,3],[5,8,6,8],[5,9,6,10],[8,8,8,10],[9,8,10,8],[9,9,10,10],[13,8,14,8],[13,9,14,10],[9,2,10,3],[5,1,6,1],[17,2,18,3],[17,1,18,1],[8,1,8,3],[16,1,16,3],[9,1,10,1],[0,3,0,4],[1,3,1,4],[2,3,2,4],[0,1,0,2],[1,1,1,2],[2,1,2,2]]}
[null,"共架申込番号"]
[null,"事業場"]
[null,"電柱番号"]
[]
[null,"共架申込",null,null,null,null,null,null,"しゅん工後"]
[null,"全景１",null,null,null,null,null,null,"全景１"]
[]
[null,"撮影日",{"$f":"D8","v":"00:00:00"},null,null,null,null,null,"撮影日",{"$f":"K8","v":"00:00:00"}]
[]
[null,"拡大１",null,null,null,null,null,null,"拡大１"]
[]
[null,"撮影日",{"$f":"D12","v":"00:00:00"},null,null,null,null,null,"撮影日",{"$f":"K12","v":"00:00:00"}]
[null,null,null,null,null,null,null,null,null,null,null,null,null,null,{"$f":"共架申込!I3","v":0}]
[null,"全景２",null,null,null,null,null,null,"全景２"]
[]
[null,"撮影日",null,null,null,null,null,null,"撮影日",{"$f":"K16","v":"00:00:00"}]
[]
[null,"拡大２",null,null,null,null,null,null,"拡大２"]
[]
[null,"撮影日",{"$f":"D20","v":"00:00:00"},null,null,null,null,null,"撮影日",{"$f":"K20","v":"00:00:00"}]
[null,{"$f":"共架申込!I3","v":0},{"$f":"IF(共架申込!I4=\"\",\"\",共架申込!I4)","v":""},null,null,null,null,null,{"$f":"しゅん工後!I3","v":0},{"$f":"IF(しゅん工後!I4=\"\",\"\",しゅん工後!I4)","v":""}]

{"sheet":"2","index":3,"n_rows":21,"n_cols":15,"rows_kept":21,"cut":false,"hidden":false,"merged":[[17,1,18,1],[17,2,18,3],[17,8,18,8],[17,9,18,10],[13,1,14,1],[13,2,14,3],[13,8,14,8],[13,9,14,10],[16,1,16,3],[16,8,16,10],[8,1,8,3],[8,8,8,10],[9,1,10,1],[9,2,10,3],[9,8,10,8],[9,9,10,10],[4,1,4,3],[4,8,4,10],[5,1,6,1],[5,2,6,3],[5,8,6,8],[5,9,6,10],[0,1,0,2],[0,3,0,4],[1,1,1,2],[1,3,1,4],[2,1,2,2],[2,3,2,4]]}
[null,"共架申込番号"]
[null,"事業場"]
[null,"電柱番号"]
[]
[null,"共架申込",null,null,null,null,null,null,"しゅん工後"]
[null,"全景１",null,null,null,null,null,null,"全景１"]
[]
[null,"撮影日",{"$f":"D8","v":"00:00:00"},null,null,null,null,null,"撮影日",{"$f":"K8","v":"00:00:00"}]
[]
[null,"拡大１",null,null,null,null,null,null,"拡大１"]
[]
[null,"撮影日",{"$f":"D12","v":"00:00:00"},null,null,null,null,null,"撮影日",{"$f":"K12","v":"00:00:00"}]
[null,null,null,null,null,null,null,null,null,null,null,null,null,null,{"$f":"共架申込!I3","v":0}]
[null,"全景２",null,null,null,null,null,null,"全景２"]
[]
[null,"撮影日",null,null,null,null,null,null,"撮影日",{"$f":"K16","v":"00:00:00"}]
[]
[null,"拡大２",null,null,null,null,null,null,"拡大２"]
[]
[null,"撮影日",{"$f":"D20","v":"00:00:00"},null,null,null,null,null,"撮影日",{"$f":"K20","v":"00:00:00"}]
[null,{"$f":"共架申込!I3","v":0},{"$f":"IF(共架申込!I4=\"\",\"\",共架申込!I4)","v":""},null,null,null,null,null,{"$f":"しゅん工後!I3","v":0},{"$f":"IF(しゅん工後!I4=\"\",\"\",しゅん工後!I4)","v":""}]

{"sheet":"3","index":4,"n_rows":21,"n_cols":15,"rows_kept":21,"cut":false,"hidden":false,"merged":[[17,1,18,1],[17,2,18,3],[17,8,18,8],[17,9,18,10],[13,1,14,1],[13,2,14,3],[13,8,14,8],[13,9,14,10],[16,1,16,3],[16,8,16,10],[8,1,8,3],[8,8,8,10],[9,1,10,1],[9,2,10,3],[9,8,10,8],[9,9,10,10],[4,1,4,3],[4,8,4,10],[5,1,6,1],[5,2,6,3],[5,8,6,8],[5,9,6,10],[0,1,0,2],[0,3,0,4],[1,1,1,2],[1,3,1,4],[2,1,2,2],[2,3,2,4]]}
[null,"共架申込番号"]
[null,"事業場"]
[null,"電柱番号"]
[]
[null,"共架申込",null,null,null,null,null,null,"しゅん工後"]
[null,"全景１",null,null,null,null,null,null,"全景１"]
[]
[null,"撮影日",{"$f":"D8","v":"00:00:00"},null,null,null,null,null,"撮影日",{"$f":"K8","v":"00:00:00"}]
[]
[null,"拡大１",null,null,null,null,null,null,"拡大１"]
[]
[null,"撮影日",{"$f":"D12","v":"00:00:00"},null,null,null,null,null,"撮影日",{"$f":"K12","v":"00:00:00"}]
[null,null,null,null,null,null,null,null,null,null,null,null,null,null,{"$f":"共架申込!I3","v":0}]
[null,"全景２",null,null,null,null,null,null,"全景２"]
[]
[null,"撮影日",null,null,null,null,null,null,"撮影日",{"$f":"K16","v":"00:00:00"}]
[]
[null,"拡大２",null,null,null,null,null,null,"拡大２"]
[]
[null,"撮影日",{"$f":"D20","v":"00:00:00"},null,null,null,null,null,"撮影日",{"$f":"K20","v":"00:00:00"}]
[null,{"$f":"共架申込!I3","v":0},{"$f":"IF(共架申込!I4=\"\",\"\",共架申込!I4)","v":""},null,null,null,null,null,{"$f":"しゅん工後!I3","v":0},{"$f":"IF(しゅん工後!I4=\"\",\"\",しゅん工後!I4)","v":""}]

{"sheet":"4","index":5,"n_rows":21,"n_cols":15,"rows_kept":21,"cut":false,"hidden":false,"merged":[[17,1,18,1],[17,2,18,3],[17,8,18,8],[17,9,18,10],[13,1,14,1],[13,2,14,3],[13,8,14,8],[13,9,14,10],[16,1,16,3],[16,8,16,10],[8,1,8,3],[8,8,8,10],[9,1,10,1],[9,2,10,3],[9,8,10,8],[9,9,10,10],[4,1,4,3],[4,8,4,10],[5,1,6,1],[5,2,6,3],[5,8,6,8],[5,9,6,10],[0,1,0,2],[0,3,0,4],[1,1,1,2],[1,3,1,4],[2,1,2,2],[2,3,2,4]]}
[null,"共架申込番号"]
[null,"事業場"]
[null,"電柱番号"]
[]
[null,"共架申込",null,null,null,null,null,null,"しゅん工後"]
[null,"全景１",null,null,null,null,null,null,"全景１"]
[]
[null,"撮影日",{"$f":"D8","v":"00:00:00"},null,null,null,null,null,"撮影日",{"$f":"K8","v":"00:00:00"}]
[]
[null,"拡大１",null,null,null,null,null,null,"拡大１"]
[]
[null,"撮影日",{"$f":"D12","v":"00:00:00"},null,null,null,null,null,"撮影日",{"$f":"K12","v":"00:00:00"}]
[null,null,null,null,null,null,null,null,null,null,null,null,null,null,{"$f":"共架申込!I3","v":0}]
[null,"全景２",null,null,null,null,null,null,"全景２"]
[]
[null,"撮影日",null,null,null,null,null,null,"撮影日",{"$f":"K16","v":"00:00:00"}]
[]
[null,"拡大２",null,null,null,null,null,null,"拡大２"]
[]
[null,"撮影日",{"$f":"D20","v":"00:00:00"},null,null,null,null,null,"撮影日",{"$f":"K20","v":"00:00:00"}]
[null,{"$f":"共架申込!I3","v":0},{"$f":"IF(共架申込!I4=\"\",\"\",共架申込!I4)","v":""},null,null,null,null,null,{"$f":"しゅん工後!I3","v":0},{"$f":"IF(しゅん工後!I4=\"\",\"\",しゅん工後!I4)","v":""}]

{"sheet":"5","index":6,"n_rows":21,"n_cols":15,"rows_kept":21,"cut":false,"hidden":false,"merged":[[17,1,18,1],[17,2,18,3],[17,8,18,8],[17,9,18,10],[13,1,14,1],[13,2,14,3],[13,8,14,8],[13,9,14,10],[16,1,16,3],[16,8,16,10],[8,1,8,3],[8,8,8,10],[9,1,10,1],[9,2,10,3],[9,8,10,8],[9,9,10,10],[4,1,4,3],[4,8,4,10],[5,1,6,1],[5,2,6,3],[5,8,6,8],[5,9,6,10],[0,1,0,2],[0,3,0,4],[1,1,1,2],[1,3,1,4],[2,1,2,2],[2,3,2,4]]}
[null,"共架申込番号"]
[null,"事業場"]
[null,"電柱番号"]
[]
[null,"共架申込",null,null,null,null,null,null,"しゅん工後"]
[null,"全景１",null,null,null,null,null,null,"全景１"]
[]
[null,"撮影日",{"$f":"D8","v":"00:00:00"},null,null,null,null,null,"撮影日",{"$f":"K8","v":"00:00:00"}]
[]
[null,"拡大１",null,null,null,null,null,null,"拡大１"]
[]
[null,"撮影日",{"$f":"D12","v":"00:00:00"},null,null,null,null,null,"撮影日",{"$f":"K12","v":"00:00:00"}]
[null,null,null,null,null,null,null,null,null,null,null,null,null,null,{"$f":"共架申込!I3","v":0}]
[null,"全景２",null,null,null,null,null,null,"全景２"]
[]
[null,"撮影日",null,null,null,null,null,null,"撮影日",{"$f":"K16","v":"00:00:00"}]
[]
[null,"拡大２",null,null,null,null,null,null,"拡大２"]
[]
[null,"撮影日",{"$f":"D20","v":"00:00:00"},null,null,null,null,null,"撮影日",{"$f":"K20","v":"00:00:00"}]
[null,{"$f":"共架申込!I3","v":0},{"$f":"IF(共架申込!I4=\"\",\"\",共架申込!I4)","v":""},null,null,null,null,null,{"$f":"しゅん工後!I3","v":0},{"$f":"IF(しゅん工後!I4=\"\",\"\",しゅん工後!I4)","v":""}]

{"sheet":"6","index":7,"n_rows":21,"n_cols":15,"rows_kept":21,"cut":false,"hidden":false,"merged":[[17,1,18,1],[17,2,18,3],[17,8,18,8],[17,9,18,10],[13,1,14,1],[13,2,14,3],[13,8,14,8],[13,9,14,10],[16,1,16,3],[16,8,16,10],[8,1,8,3],[8,8,8,10],[9,1,10,1],[9,2,10,3],[9,8,10,8],[9,9,10,10],[4,1,4,3],[4,8,4,10],[5,1,6,1],[5,2,6,3],[5,8,6,8],[5,9,6,10],[0,1,0,2],[0,3,0,4],[1,1,1,2],[1,3,1,4],[2,1,2,2],[2,3,2,4]]}
[null,"共架申込番号"]
[null,"事業場"]
[null,"電柱番号"]
[]
[null,"共架申込",null,null,null,null,null,null,"しゅん工後"]
[null,"全景１",null,null,null,null,null,null,"全景１"]
[]
[null,"撮影日",{"$f":"D8","v":"00:00:00"},null,null,null,null,null,"撮影日",{"$f":"K8","v":"00:00:00"}]
[]
[null,"拡大１",null,null,null,null,null,null,"拡大１"]
[]
[null,"撮影日",{"$f":"D12","v":"00:00:00"},null,null,null,null,null,"撮影日",{"$f":"K12","v":"00:00:00"}]
[null,null,null,null,null,null,null,null,null,null,null,null,null,null,{"$f":"共架申込!I3","v":0}]
[null,"全景２",null,null,null,null,null,null,"全景２"]
[]
[null,"撮影日",null,null,null,null,null,null,"撮影日",{"$f":"K16","v":"00:00:00"}]
[]
[null,"拡大２",null,null,null,null,null,null,"拡大２"]
[]
[null,"撮影日",{"$f":"D20","v":"00:00:00"},null,null,null,null,null,"撮影日",{"$f":"K20","v":"00:00:00"}]
[null,{"$f":"共架申込!I3","v":0},{"$f":"IF(共架申込!I4=\"\",\"\",共架申込!I4)","v":""},null,null,null,null,null,{"$f":"しゅん工後!I3","v":0},{"$f":"IF(しゅん工後!I4=\"\",\"\",しゅん工後!I4)","v":""}]

{"sheet":"7","index":8,"n_rows":21,"n_cols":15,"rows_kept":21,"cut":false,"hidden":false,"merged":[[17,1,18,1],[17,2,18,3],[17,8,18,8],[17,9,18,10],[13,1,14,1],[13,2,14,3],[13,8,14,8],[13,9,14,10],[16,1,16,3],[16,8,16,10],[8,1,8,3],[8,8,8,10],[9,1,10,1],[9,2,10,3],[9,8,10,8],[9,9,10,10],[4,1,4,3],[4,8,4,10],[5,1,6,1],[5,2,6,3],[5,8,6,8],[5,9,6,10],[0,1,0,2],[0,3,0,4],[1,1,1,2],[1,3,1,4],[2,1,2,2],[2,3,2,4]]}
[null,"共架申込番号"]
[null,"事業場"]
[null,"電柱番号"]
[]
[null,"共架申込",null,null,null,null,null,null,"しゅん工後"]
[null,"全景１",null,null,null,null,null,null,"全景１"]
[]
[null,"撮影日",{"$f":"D8","v":"00:00:00"},null,null,null,null,null,"撮影日",{"$f":"K8","v":"00:00:00"}]
[]
[null,"拡大１",null,null,null,null,null,null,"拡大１"]
[]
[null,"撮影日",{"$f":"D12","v":"00:00:00"},null,null,null,null,null,"撮影日",{"$f":"K12","v":"00:00:00"}]
[null,null,null,null,null,null,null,null,null,null,null,null,null,null,{"$f":"共架申込!I3","v":0}]
[null,"全景２",null,null,null,null,null,null,"全景２"]
[]
[null,"撮影日",null,null,null,null,null,null,"撮影日",{"$f":"K16","v":"00:00:00"}]
[]
[null,"拡大２",null,null,null,null,null,null,"拡大２"]
[]
[null,"撮影日",{"$f":"D20","v":"00:00:00"},null,null,null,null,null,"撮影日",{"$f":"K20","v":"00:00:00"}]
[null,{"$f":"共架申込!I3","v":0},{"$f":"IF(共架申込!I4=\"\",\"\",共架申込!I4)","v":""},null,null,null,null,null,{"$f":"しゅん工後!I3","v":0},{"$f":"IF(しゅん工後!I4=\"\",\"\",しゅん工後!I4)","v":""}]

{"sheet":"8","index":9,"n_rows":21,"n_cols":15,"rows_kept":21,"cut":false,"hidden":false,"merged":[[17,1,18,1],[17,2,18,3],[17,8,18,8],[17,9,18,10],[13,1,14,1],[13,2,14,3],[13,8,14,8],[13,9,14,10],[16,1,16,3],[16,8,16,10],[8,1,8,3],[8,8,8,10],[9,1,10,1],[9,2,10,3],[9,8,10,8],[9,9,10,10],[4,1,4,3],[4,8,4,10],[5,1,6,1],[5,2,6,3],[5,8,6,8],[5,9,6,10],[0,1,0,2],[0,3,0,4],[1,1,1,2],[1,3,1,4],[2,1,2,2],[2,3,2,4]]}
[null,"共架申込番号"]
[null,"事業場"]
[null,"電柱番号"]
[]
[null,"共架申込",null,null,null,null,null,null,"しゅん工後"]
[null,"全景１",null,null,null,null,null,null,"全景１"]
[]
[null,"撮影日",{"$f":"D8","v":"00:00:00"},null,null,null,null,null,"撮影日",{"$f":"K8","v":"00:00:00"}]
[]
[null,"拡大１",null,null,null,null,null,null,"拡大１"]
[]
[null,"撮影日",{"$f":"D12","v":"00:00:00"},null,null,null,null,null,"撮影日",{"$f":"K12","v":"00:00:00"}]
[null,null,null,null,null,null,null,null,null,null,null,null,null,null,{"$f":"共架申込!I3","v":0}]
[null,"全景２",null,null,null,null,null,null,"全景２"]
[]
[null,"撮影日",null,null,null,null,null,null,"撮影日",{"$f":"K16","v":"00:00:00"}]
[]
[null,"拡大２",null,null,null,null,null,null,"拡大２"]
[]
[null,"撮影日",{"$f":"D20","v":"00:00:00"},null,null,null,null,null,"撮影日",{"$f":"K20","v":"00:00:00"}]
[null,{"$f":"共架申込!I3","v":0},{"$f":"IF(共架申込!I4=\"\",\"\",共架申込!I4)","v":""},null,null,null,null,null,{"$f":"しゅん工後!I3","v":0},{"$f":"IF(しゅん工後!I4=\"\",\"\",しゅん工後!I4)","v":""}]

{"sheet":"9","index":10,"n_rows":21,"n_cols":15,"rows_kept":21,"cut":false,"hidden":false,"merged":[[17,1,18,1],[17,2,18,3],[17,8,18,8],[17,9,18,10],[13,1,14,1],[13,2,14,3],[13,8,14,8],[13,9,14,10],[16,1,16,3],[16,8,16,10],[8,1,8,3],[8,8,8,10],[9,1,10,1],[9,2,10,3],[9,8,10,8],[9,9,10,10],[4,1,4,3],[4,8,4,10],[5,1,6,1],[5,2,6,3],[5,8,6,8],[5,9,6,10],[0,1,0,2],[0,3,0,4],[1,1,1,2],[1,3,1,4],[2,1,2,2],[2,3,2,4]]}
[null,"共架申込番号"]
[null,"事業場"]
[null,"電柱番号"]
[]
[null,"共架申込",null,null,null,null,null,null,"しゅん工後"]
[null,"全景１",null,null,null,null,null,null,"全景１"]
[]
[null,"撮影日",{"$f":"D8","v":"00:00:00"},null,null,null,null,null,"撮影日",{"$f":"K8","v":"00:00:00"}]
[]
[null,"拡大１",null,null,null,null,null,null,"拡大１"]
[]
[null,"撮影日",{"$f":"D12","v":"00:00:00"},null,null,null,null,null,"撮影日",{"$f":"K12","v":"00:00:00"}]
[null,null,null,null,null,null,null,null,null,null,null,null,null,null,{"$f":"共架申込!I3","v":0}]
[null,"全景２",null,null,null,null,null,null,"全景２"]
[]
[null,"撮影日",null,null,null,null,null,null,"撮影日",{"$f":"K16","v":"00:00:00"}]
[]
[null,"拡大２",null,null,null,null,null,null,"拡大２"]
[]
[null,"撮影日",{"$f":"D20","v":"00:00:00"},null,null,null,null,null,"撮影日",{"$f":"K20","v":"00:00:00"}]
[null,{"$f":"共架申込!I3","v":0},{"$f":"IF(共架申込!I4=\"\",\"\",共架申込!I4)","v":""},null,null,null,null,null,{"$f":"しゅん工後!I3","v":0},{"$f":"IF(しゅん工後!I4=\"\",\"\",しゅん工後!I4)","v":""}]

{"sheet":"10","index":11,"n_rows":21,"n_cols":15,"rows_kept":21,"cut":false,"hidden":false,"merged":[[17,1,18,1],[17,2,18,3],[17,8,18,8],[17,9,18,10],[13,1,14,1],[13,2,14,3],[13,8,14,8],[13,9,14,10],[16,1,16,3],[16,8,16,10],[8,1,8,3],[8,8,8,10],[9,1,10,1],[9,2,10,3],[9,8,10,8],[9,9,10,10],[4,1,4,3],[4,8,4,10],[5,1,6,1],[5,2,6,3],[5,8,6,8],[5,9,6,10],[0,1,0,2],[0,3,0,4],[1,1,1,2],[1,3,1,4],[2,1,2,2],[2,3,2,4]]}
[null,"共架申込番号"]
[null,"事業場"]
[null,"電柱番号"]
[]
[null,"共架申込",null,null,null,null,null,null,"しゅん工後"]
[null,"全景１",null,null,null,null,null,null,"全景１"]
[]
[null,"撮影日",{"$f":"D8","v":"00:00:00"},null,null,null,null,null,"撮影日",{"$f":"K8","v":"00:00:00"}]
[]
[null,"拡大１",null,null,null,null,null,null,"拡大１"]
[]
[null,"撮影日",{"$f":"D12","v":"00:00:00"},null,null,null,null,null,"撮影日",{"$f":"K12","v":"00:00:00"}]
[null,null,null,null,null,null,null,null,null,null,null,null,null,null,{"$f":"共架申込!I3","v":0}]
[null,"全景２",null,null,null,null,null,null,"全景２"]
[]
[null,"撮影日",null,null,null,null,null,null,"撮影日",{"$f":"K16","v":"00:00:00"}]
[]
[null,"拡大２",null,null,null,null,null,null,"拡大２"]
[]
[null,"撮影日",{"$f":"D20","v":"00:00:00"},null,null,null,null,null,"撮影日",{"$f":"K20","v":"00:00:00"}]
[null,{"$f":"共架申込!I3","v":0},{"$f":"IF(共架申込!I4=\"\",\"\",共架申込!I4)","v":""},null,null,null,null,null,{"$f":"しゅん工後!I3","v":0},{"$f":"IF(しゅん工後!I4=\"\",\"\",しゅん工後!I4)","v":""}]

{"sheet":"11","index":12,"n_rows":21,"n_cols":15,"rows_kept":21,"cut":false,"hidden":false,"merged":[[17,1,18,1],[17,2,18,3],[17,8,18,8],[17,9,18,10],[13,1,14,1],[13,2,14,3],[13,8,14,8],[13,9,14,10],[16,1,16,3],[16,8,16,10],[8,1,8,3],[8,8,8,10],[9,1,10,1],[9,2,10,3],[9,8,10,8],[9,9,10,10],[4,1,4,3],[4,8,4,10],[5,1,6,1],[5,2,6,3],[5,8,6,8],[5,9,6,10],[0,1,0,2],[0,3,0,4],[1,1,1,2],[1,3,1,4],[2,1,2,2],[2,3,2,4]]}
[null,"共架申込番号"]
[null,"事業場"]
[null,"電柱番号"]
[]
[null,"共架申込",null,null,null,null,null,null,"しゅん工後"]
[null,"全景１",null,null,null,null,null,null,"全景１"]
[]
[null,"撮影日",{"$f":"D8","v":"00:00:00"},null,null,null,null,null,"撮影日",{"$f":"K8","v":"00:00:00"}]
[]
[null,"拡大１",null,null,null,null,null,null,"拡大１"]
[]
[null,"撮影日",{"$f":"D12","v":"00:00:00"},null,null,null,null,null,"撮影日",{"$f":"K12","v":"00:00:00"}]
[null,null,null,null,null,null,null,null,null,null,null,null,null,null,{"$f":"共架申込!I3","v":0}]
[null,"全景２",null,null,null,null,null,null,"全景２"]
[]
[null,"撮影日",null,null,null,null,null,null,"撮影日",{"$f":"K16","v":"00:00:00"}]
[]
[null,"拡大２",null,null,null,null,null,null,"拡大２"]
[]
[null,"撮影日",{"$f":"D20","v":"00:00:00"},null,null,null,null,null,"撮影日",{"$f":"K20","v":"00:00:00"}]
[null,{"$f":"共架申込!I3","v":0},{"$f":"IF(共架申込!I4=\"\",\"\",共架申込!I4)","v":""},null,null,null,null,null,{"$f":"しゅん工後!I3","v":0},{"$f":"IF(しゅん工後!I4=\"\",\"\",しゅん工後!I4)","v":""}]

{"sheet":"12","index":13,"n_rows":21,"n_cols":15,"rows_kept":21,"cut":false,"hidden":false,"merged":[[17,1,18,1],[17,2,18,3],[17,8,18,8],[17,9,18,10],[13,1,14,1],[13,2,14,3],[13,8,14,8],[13,9,14,10],[16,1,16,3],[16,8,16,10],[8,1,8,3],[8,8,8,10],[9,1,10,1],[9,2,10,3],[9,8,10,8],[9,9,10,10],[4,1,4,3],[4,8,4,10],[5,1,6,1],[5,2,6,3],[5,8,6,8],[5,9,6,10],[0,1,0,2],[0,3,0,4],[1,1,1,2],[1,3,1,4],[2,1,2,2],[2,3,2,4]]}
[null,"共架申込番号"]
[null,"事業場"]
[null,"電柱番号"]
[]
[null,"共架申込",null,null,null,null,null,null,"しゅん工後"]
[null,"全景１",null,null,null,null,null,null,"全景１"]
[]
[null,"撮影日",{"$f":"D8","v":"00:00:00"},null,null,null,null,null,"撮影日",{"$f":"K8","v":"00:00:00"}]
[]
[null,"拡大１",null,null,null,null,null,null,"拡大１"]
[]
[null,"撮影日",{"$f":"D12","v":"00:00:00"},null,null,null,null,null,"撮影日",{"$f":"K12","v":"00:00:00"}]
[null,null,null,null,null,null,null,null,null,null,null,null,null,null,{"$f":"共架申込!I3","v":0}]
[null,"全景２",null,null,null,null,null,null,"全景２"]
[]
[null,"撮影日",null,null,null,null,null,null,"撮影日",{"$f":"K16","v":"00:00:00"}]
[]
[null,"拡大２",null,null,null,null,null,null,"拡大２"]
[]
[null,"撮影日",{"$f":"D20","v":"00:00:00"},null,null,null,null,null,"撮影日",{"$f":"K20","v":"00:00:00"}]
[null,{"$f":"共架申込!I3","v":0},{"$f":"IF(共架申込!I4=\"\",\"\",共架申込!I4)","v":""},null,null,null,null,null,{"$f":"しゅん工後!I3","v":0},{"$f":"IF(しゅん工後!I4=\"\",\"\",しゅん工後!I4)","v":""}]

{"sheet":"13","index":14,"n_rows":21,"n_cols":15,"rows_kept":21,"cut":false,"hidden":false,"merged":[[17,1,18,1],[17,2,18,3],[17,8,18,8],[17,9,18,10],[13,1,14,1],[13,2,14,3],[13,8,14,8],[13,9,14,10],[16,1,16,3],[16,8,16,10],[8,1,8,3],[8,8,8,10],[9,1,10,1],[9,2,10,3],[9,8,10,8],[9,9,10,10],[4,1,4,3],[4,8,4,10],[5,1,6,1],[5,2,6,3],[5,8,6,8],[5,9,6,10],[0,1,0,2],[0,3,0,4],[1,1,1,2],[1,3,1,4],[2,1,2,2],[2,3,2,4]]}
[null,"共架申込番号"]
[null,"事業場"]
[null,"電柱番号"]
[]
[null,"共架申込",null,null,null,null,null,null,"しゅん工後"]
[null,"全景１",null,null,null,null,null,null,"全景１"]
[]
[null,"撮影日",{"$f":"D8","v":"00:00:00"},null,null,null,null,null,"撮影日",{"$f":"K8","v":"00:00:00"}]
[]
[null,"拡大１",null,null,null,null,null,null,"拡大１"]
[]
[null,"撮影日",{"$f":"D12","v":"00:00:00"},null,null,null,null,null,"撮影日",{"$f":"K12","v":"00:00:00"}]
[null,null,null,null,null,null,null,null,null,null,null,null,null,null,{"$f":"共架申込!I3","v":0}]
[null,"全景２",null,null,null,null,null,null,"全景２"]
[]
[null,"撮影日",null,null,null,null,null,null,"撮影日",{"$f":"K16","v":"00:00:00"}]
[]
[null,"拡大２",null,null,null,null,null,null,"拡大２"]
[]
[null,"撮影日",{"$f":"D20","v":"00:00:00"},null,null,null,null,null,"撮影日",{"$f":"K20","v":"00:00:00"}]
[null,{"$f":"共架申込!I3","v":0},{"$f":"IF(共架申込!I4=\"\",\"\",共架申込!I4)","v":""},null,null,null,null,null,{"$f":"しゅん工後!I3","v":0},{"$f":"IF(しゅん工後!I4=\"\",\"\",しゅん工後!I4)","v":""}]

{"sheet":"14","index":15,"n_rows":21,"n_cols":15,"rows_kept":21,"cut":false,"hidden":false,"merged":[[17,1,18,1],[17,2,18,3],[17,8,18,8],[17,9,18,10],[13,1,14,1],[13,2,14,3],[13,8,14,8],[13,9,14,10],[16,1,16,3],[16,8,16,10],[8,1,8,3],[8,8,8,10],[9,1,10,1],[9,2,10,3],[9,8,10,8],[9,9,10,10],[4,1,4,3],[4,8,4,10],[5,1,6,1],[5,2,6,3],[5,8,6,8],[5,9,6,10],[0,1,0,2],[0,3,0,4],[1,1,1,2],[1,3,1,4],[2,1,2,2],[2,3,2,4]]}
[null,"共架申込番号"]
[null,"事業場"]
[null,"電柱番号"]
[]
[null,"共架申込",null,null,null,null,null,null,"しゅん工後"]
[null,"全景１",null,null,null,null,null,null,"全景１"]
[]
[null,"撮影日",{"$f":"D8","v":"00:00:00"},null,null,null,null,null,"撮影日",{"$f":"K8","v":"00:00:00"}]
[]
[null,"拡大１",null,null,null,null,null,null,"拡大１"]
[]
[null,"撮影日",{"$f":"D12","v":"00:00:00"},null,null,null,null,null,"撮影日",{"$f":"K12","v":"00:00:00"}]
[null,null,null,null,null,null,null,null,null,null,null,null,null,null,{"$f":"共架申込!I3","v":0}]
[null,"全景２",null,null,null,null,null,null,"全景２"]
[]
[null,"撮影日",null,null,null,null,null,null,"撮影日",{"$f":"K16","v":"00:00:00"}]
[]
[null,"拡大２",null,null,null,null,null,null,"拡大２"]
[]
[null,"撮影日",{"$f":"D20","v":"00:00:00"},null,null,null,null,null,"撮影日",{"$f":"K20","v":"00:00:00"}]
[null,{"$f":"共架申込!I3","v":0},{"$f":"IF(共架申込!I4=\"\",\"\",共架申込!I4)","v":""},null,null,null,null,null,{"$f":"しゅん工後!I3","v":0},{"$f":"IF(しゅん工後!I4=\"\",\"\",しゅん工後!I4)","v":""}]

{"sheet":"15","index":16,"n_rows":21,"n_cols":15,"rows_kept":21,"cut":false,"hidden":false,"merged":[[17,1,18,1],[17,2,18,3],[17,8,18,8],[17,9,18,10],[13,1,14,1],[13,2,14,3],[13,8,14,8],[13,9,14,10],[16,1,16,3],[16,8,16,10],[8,1,8,3],[8,8,8,10],[9,1,10,1],[9,2,10,3],[9,8,10,8],[9,9,10,10],[4,1,4,3],[4,8,4,10],[5,1,6,1],[5,2,6,3],[5,8,6,8],[5,9,6,10],[0,1,0,2],[0,3,0,4],[1,1,1,2],[1,3,1,4],[2,1,2,2],[2,3,2,4]]}
[null,"共架申込番号"]
[null,"事業場"]
[null,"電柱番号"]
[]
[null,"共架申込",null,null,null,null,null,null,"しゅん工後"]
[null,"全景１",null,null,null,null,null,null,"全景１"]
[]
[null,"撮影日",{"$f":"D8","v":"00:00:00"},null,null,null,null,null,"撮影日",{"$f":"K8","v":"00:00:00"}]
[]
[null,"拡大１",null,null,null,null,null,null,"拡大１"]
[]
[null,"撮影日",{"$f":"D12","v":"00:00:00"},null,null,null,null,null,"撮影日",{"$f":"K12","v":"00:00:00"}]
[null,null,null,null,null,null,null,null,null,null,null,null,null,null,{"$f":"共架申込!I3","v":0}]
[null,"全景２",null,null,null,null,null,null,"全景２"]
[]
[null,"撮影日",null,null,null,null,null,null,"撮影日",{"$f":"K16","v":"00:00:00"}]
[]
[null,"拡大２",null,null,null,null,null,null,"拡大２"]
[]
[null,"撮影日",{"$f":"D20","v":"00:00:00"},null,null,null,null,null,"撮影日",{"$f":"K20","v":"00:00:00"}]
[null,{"$f":"共架申込!I3","v":0},{"$f":"IF(共架申込!I4=\"\",\"\",共架申込!I4)","v":""},null,null,null,null,null,{"$f":"しゅん工後!I3","v":0},{"$f":"IF(しゅん工後!I4=\"\",\"\",しゅん工後!I4)","v":""}]

{"sheet":"16","index":17,"n_rows":21,"n_cols":15,"rows_kept":21,"cut":false,"hidden":false,"merged":[[17,1,18,1],[17,2,18,3],[17,8,18,8],[17,9,18,10],[13,1,14,1],[13,2,14,3],[13,8,14,8],[13,9,14,10],[16,1,16,3],[16,8,16,10],[8,1,8,3],[8,8,8,10],[9,1,10,1],[9,2,10,3],[9,8,10,8],[9,9,10,10],[4,1,4,3],[4,8,4,10],[5,1,6,1],[5,2,6,3],[5,8,6,8],[5,9,6,10],[0,1,0,2],[0,3,0,4],[1,1,1,2],[1,3,1,4],[2,1,2,2],[2,3,2,4]]}
[null,"共架申込番号"]
[null,"事業場"]
[null,"電柱番号"]
[]
[null,"共架申込",null,null,null,null,null,null,"しゅん工後"]
[null,"全景１",null,null,null,null,null,null,"全景１"]
[]
[null,"撮影日",{"$f":"D8","v":"00:00:00"},null,null,null,null,null,"撮影日",{"$f":"K8","v":"00:00:00"}]
[]
[null,"拡大１",null,null,null,null,null,null,"拡大１"]
[]
[null,"撮影日",{"$f":"D12","v":"00:00:00"},null,null,null,null,null,"撮影日",{"$f":"K12","v":"00:00:00"}]
[null,null,null,null,null,null,null,null,null,null,null,null,null,null,{"$f":"共架申込!I3","v":0}]
[null,"全景２",null,null,null,null,null,null,"全景２"]
[]
[null,"撮影日",null,null,null,null,null,null,"撮影日",{"$f":"K16","v":"00:00:00"}]
[]
[null,"拡大２",null,null,null,null,null,null,"拡大２"]
[]
[null,"撮影日",{"$f":"D20","v":"00:00:00"},null,null,null,null,null,"撮影日",{"$f":"K20","v":"00:00:00"}]
[null,{"$f":"共架申込!I3","v":0},{"$f":"IF(共架申込!I4=\"\",\"\",共架申込!I4)","v":""},null,null,null,null,null,{"$f":"しゅん工後!I3","v":0},{"$f":"IF(しゅん工後!I4=\"\",\"\",しゅん工後!I4)","v":""}]

{"sheet":"17","index":18,"n_rows":21,"n_cols":15,"rows_kept":21,"cut":false,"hidden":false,"merged":[[17,1,18,1],[17,2,18,3],[17,8,18,8],[17,9,18,10],[13,1,14,1],[13,2,14,3],[13,8,14,8],[13,9,14,10],[16,1,16,3],[16,8,16,10],[8,1,8,3],[8,8,8,10],[9,1,10,1],[9,2,10,3],[9,8,10,8],[9,9,10,10],[4,1,4,3],[4,8,4,10],[5,1,6,1],[5,2,6,3],[5,8,6,8],[5,9,6,10],[0,1,0,2],[0,3,0,4],[1,1,1,2],[1,3,1,4],[2,1,2,2],[2,3,2,4]]}
[null,"共架申込番号"]
[null,"事業場"]
[null,"電柱番号"]
[]
[null,"共架申込",null,null,null,null,null,null,"しゅん工後"]
[null,"全景１",null,null,null,null,null,null,"全景１"]
[]
[null,"撮影日",{"$f":"D8","v":"00:00:00"},null,null,null,null,null,"撮影日",{"$f":"K8","v":"00:00:00"}]
[]
[null,"拡大１",null,null,null,null,null,null,"拡大１"]
[]
[null,"撮影日",{"$f":"D12","v":"00:00:00"},null,null,null,null,null,"撮影日",{"$f":"K12","v":"00:00:00"}]
[null,null,null,null,null,null,null,null,null,null,null,null,null,null,{"$f":"共架申込!I3","v":0}]
[null,"全景２",null,null,null,null,null,null,"全景２"]
[]
[null,"撮影日",null,null,null,null,null,null,"撮影日",{"$f":"K16","v":"00:00:00"}]
[]
[null,"拡大２",null,null,null,null,null,null,"拡大２"]
[]
[null,"撮影日",{"$f":"D20","v":"00:00:00"},null,null,null,null,null,"撮影日",{"$f":"K20","v":"00:00:00"}]
[null,{"$f":"共架申込!I3","v":0},{"$f":"IF(共架申込!I4=\"\",\"\",共架申込!I4)","v":""},null,null,null,null,null,{"$f":"しゅん工後!I3","v":0},{"$f":"IF(しゅん工後!I4=\"\",\"\",しゅん工後!I4)","v":""}]

{"sheet":"18","index":19,"n_rows":21,"n_cols":15,"rows_kept":21,"cut":false,"hidden":false,"merged":[[17,1,18,1],[17,2,18,3],[17,8,18,8],[17,9,18,10],[13,1,14,1],[13,2,14,3],[13,8,14,8],[13,9,14,10],[16,1,16,3],[16,8,16,10],[8,1,8,3],[8,8,8,10],[9,1,10,1],[9,2,10,3],[9,8,10,8],[9,9,10,10],[4,1,4,3],[4,8,4,10],[5,1,6,1],[5,2,6,3],[5,8,6,8],[5,9,6,10],[0,1,0,2],[0,3,0,4],[1,1,1,2],[1,3,1,4],[2,1,2,2],[2,3,2,4]]}
[null,"共架申込番号"]
[null,"事業場"]
[null,"電柱番号"]
[]
[null,"共架申込",null,null,null,null,null,null,"しゅん工後"]
[null,"全景１",null,null,null,null,null,null,"全景１"]
[]
[null,"撮影日",{"$f":"D8","v":"00:00:00"},null,null,null,null,null,"撮影日",{"$f":"K8","v":"00:00:00"}]
[]
[null,"拡大１",null,null,null,null,null,null,"拡大１"]
[]
[null,"撮影日",{"$f":"D12","v":"00:00:00"},null,null,null,null,null,"撮影日",{"$f":"K12","v":"00:00:00"}]
[null,null,null,null,null,null,null,null,null,null,null,null,null,null,{"$f":"共架申込!I3","v":0}]
[null,"全景２",null,null,null,null,null,null,"全景２"]
[]
[null,"撮影日",null,null,null,null,null,null,"撮影日",{"$f":"K16","v":"00:00:00"}]
[]
[null,"拡大２",null,null,null,null,null,null,"拡大２"]
[]
[null,"撮影日",{"$f":"D20","v":"00:00:00"},null,null,null,null,null,"撮影日",{"$f":"K20","v":"00:00:00"}]
[null,{"$f":"共架申込!I3","v":0},{"$f":"IF(共架申込!I4=\"\",\"\",共架申込!I4)","v":""},null,null,null,null,null,{"$f":"しゅん工後!I3","v":0},{"$f":"IF(しゅん工後!I4=\"\",\"\",しゅん工後!I4)","v":""}]

{"sheet":"19","index":20,"n_rows":21,"n_cols":15,"rows_kept":21,"cut":false,"hidden":false,"merged":[[17,1,18,1],[17,2,18,3],[17,8,18,8],[17,9,18,10],[13,1,14,1],[13,2,14,3],[13,8,14,8],[13,9,14,10],[16,1,16,3],[16,8,16,10],[8,1,8,3],[8,8,8,10],[9,1,10,1],[9,2,10,3],[9,8,10,8],[9,9,10,10],[4,1,4,3],[4,8,4,10],[5,1,6,1],[5,2,6,3],[5,8,6,8],[5,9,6,10],[0,1,0,2],[0,3,0,4],[1,1,1,2],[1,3,1,4],[2,1,2,2],[2,3,2,4]]}
[null,"共架申込番号"]
[null,"事業場"]
[null,"電柱番号"]
[]
[null,"共架申込",null,null,null,null,null,null,"しゅん工後"]
[null,"全景１",null,null,null,null,null,null,"全景１"]
[]
[null,"撮影日",{"$f":"D8","v":"00:00:00"},null,null,null,null,null,"撮影日",{"$f":"K8","v":"00:00:00"}]
[]
[null,"拡大１",null,null,null,null,null,null,"拡大１"]
[]
[null,"撮影日",{"$f":"D12","v":"00:00:00"},null,null,null,null,null,"撮影日",{"$f":"K12","v":"00:00:00"}]
[null,null,null,null,null,null,null,null,null,null,null,null,null,null,{"$f":"共架申込!I3","v":0}]
[null,"全景２",null,null,null,null,null,null,"全景２"]
[]
[null,"撮影日",null,null,null,null,null,null,"撮影日",{"$f":"K16","v":"00:00:00"}]
[]
[null,"拡大２",null,null,null,null,null,null,"拡大２"]
[]
[null,"撮影日",{"$f":"D20","v":"00:00:00"},null,null,null,null,null,"撮影日",{"$f":"K20","v":"00:00:00"}]
[null,{"$f":"共架申込!I3","v":0},{"$f":"IF(共架申込!I4=\"\",\"\",共架申込!I4)","v":""},null,null,null,null,null,{"$f":"しゅん工後!I3","v":0},{"$f":"IF(しゅん工後!I4=\"\",\"\",しゅん工後!I4)","v":""}]

{"sheet":"20","index":21,"n_rows":21,"n_cols":15,"rows_kept":21,"cut":false,"hidden":false,"merged":[[17,1,18,1],[17,2,18,3],[17,8,18,8],[17,9,18,10],[13,1,14,1],[13,2,14,3],[13,8,14,8],[13,9,14,10],[16,1,16,3],[16,8,16,10],[8,1,8,3],[8,8,8,10],[9,1,10,1],[9,2,10,3],[9,8,10,8],[9,9,10,10],[4,1,4,3],[4,8,4,10],[5,1,6,1],[5,2,6,3],[5,8,6,8],[5,9,6,10],[0,1,0,2],[0,3,0,4],[1,1,1,2],[1,3,1,4],[2,1,2,2],[2,3,2,4]]}
[null,"共架申込番号"]
[null,"事業場"]
[null,"電柱番号"]
[]
[null,"共架申込",null,null,null,null,null,null,"しゅん工後"]
[null,"全景１",null,null,null,null,null,null,"全景１"]
[]
[null,"撮影日",{"$f":"D8","v":"00:00:00"},null,null,null,null,null,"撮影日",{"$f":"K8","v":"00:00:00"}]
[]
[null,"拡大１",null,null,null,null,null,null,"拡大１"]
[]
[null,"撮影日",{"$f":"D12","v":"00:00:00"},null,null,null,null,null,"撮影日",{"$f":"K12","v":"00:00:00"}]
[null,null,null,null,null,null,null,null,null,null,null,null,null,null,{"$f":"共架申込!I3","v":0}]
[null,"全景２",null,null,null,null,null,null,"全景２"]
[]
[null,"撮影日",null,null,null,null,null,null,"撮影日",{"$f":"K16","v":"00:00:00"}]
[]
[null,"拡大２",null,null,null,null,null,null,"拡大２"]
[]
[null,"撮影日",{"$f":"D20","v":"00:00:00"},null,null,null,null,null,"撮影日",{"$f":"K20","v":"00:00:00"}]
[null,{"$f":"共架申込!I3","v":0},{"$f":"IF(共架申込!I4=\"\",\"\",共架申込!I4)","v":""},null,null,null,null,null,{"$f":"しゅん工後!I3","v":0},{"$f":"IF(しゅん工後!I4=\"\",\"\",しゅん工後!I4)","v":""}]